Workbook

Sheet Model
B2: Fremskrivningsmodel for plejeboligbehov
B4: Vælg kommune | D4: København
B6: Forudsætninger | K6: Scenarier
B7: Behovsgrader i kommunen | L7: Ændringer i behovsgraden
B8: Indtast venteliste enten for aldergrupperne eller i alt | I8: Andel i plejehjemsbolig, DST | O8: I løbet af
C9: Indskrevne pr. dec. 2025 | D9: Indtast venteliste i alt eller pr. aldersgruppe | E9: Benyttet værdi | F9: Beregnet personer med behov i alt | G9: Beregnet behovsgrad | I9: Kommunen | J9: Landsplan | L9: ="Behovsgrad i "&2024+O10 -> Behovsgrad i 2034 | O9: (helt antal år)
B10: Under 70 år | C10: =VLOOKUP($D$4,'Indskrevne plejebolig dec 2025'!$B$7:$I$104,COUNTA($B$10:B10)+1,FALSE) -> 353 | E10: =IF($D$19="Jeg har indtastet venteliste i alt",'Beregning 2026'!M22,Model!D10) -> 0 | F10: ='Beregning 2026'!I22 -> 353 | G10: ='Beregning 2026'!L22 -> 0.056810958 | I10: ='Beregning 2026'!K22 -> 0.056810958 | J10: ='Analyse behovsgrad'!G232 -> 0.08209354 | L10: Under 70 år | M10: ='Analyse behovsgrad'!B13 -> 0.063878156 | O10: 10
B11: 70-74 år | C11: =VLOOKUP($D$4,'Indskrevne plejebolig dec 2025'!$B$7:$I$104,COUNTA($B$10:B11)+1,FALSE) -> 354 | E11: =IF($D$19="Jeg har indtastet venteliste i alt",'Beregning 2026'!M23,Model!D11) -> 0 | F11: ='Beregning 2026'!I23 -> 354 | G11: ='Beregning 2026'!L23 -> 1.951596 | I11: ='Beregning 2026'!K23 -> 1.951596 | J11: ='Analyse behovsgrad'!G233 -> 1.1934814 | L11: 70-74 år | M11: ='Analyse behovsgrad'!B14 -> 2.2419633
B12: 75-79 år | C12: =VLOOKUP($D$4,'Indskrevne plejebolig dec 2025'!$B$7:$I$104,COUNTA($B$10:B12)+1,FALSE) -> 593 | E12: =IF($D$19="Jeg har indtastet venteliste i alt",'Beregning 2026'!M24,Model!D12) -> 0 | F12: ='Beregning 2026'!I24 -> 593 | G12: ='Beregning 2026'!L24 -> 3.7665142 | I12: ='Beregning 2026'!K24 -> 3.7665142 | J12: ='Analyse behovsgrad'!G234 -> 2.4092028 | L12: 75-79 år | M12: ='Analyse behovsgrad'!B15 -> 3.9558314
B13: 80-84 år | C13: =VLOOKUP($D$4,'Indskrevne plejebolig dec 2025'!$B$7:$I$104,COUNTA($B$10:B13)+1,FALSE) -> 662 | E13: =IF($D$19="Jeg har indtastet venteliste i alt",'Beregning 2026'!M25,Model!D13) -> 0 | F13: ='Beregning 2026'!I25 -> 662 | G13: ='Beregning 2026'!L25 -> 6.3204124 | I13: ='Beregning 2026'!K25 -> 6.3204124 | J13: ='Analyse behovsgrad'!G235 -> 4.0831147 | L13: 80-84 år | M13: ='Analyse behovsgrad'!B16 -> 4.03698
B14: 85-89 år | C14: =VLOOKUP($D$4,'Indskrevne plejebolig dec 2025'!$B$7:$I$104,COUNTA($B$10:B14)+1,FALSE) -> 579 | E14: =IF($D$19="Jeg har indtastet venteliste i alt",'Beregning 2026'!M26,Model!D14) -> 0 | F14: ='Beregning 2026'!I26 -> 579 | G14: ='Beregning 2026'!L26 -> 12.207464 | I14: ='Beregning 2026'!K26 -> 12.207464 | J14: ='Analyse behovsgrad'!G236 -> 8.7305939 | L14: 85-89 år | M14: ='Analyse behovsgrad'!B17 -> 7.4967508
B15: 90-94 år | C15: =VLOOKUP($D$4,'Indskrevne plejebolig dec 2025'!$B$7:$I$104,COUNTA($B$10:B15)+1,FALSE) -> 381 | E15: =IF($D$19="Jeg har indtastet venteliste i alt",'Beregning 2026'!M27,Model!D15) -> 0 | F15: ='Beregning 2026'!I27 -> 381 | G15: ='Beregning 2026'!L27 -> 22.692079 | I15: ='Beregning 2026'!K27 -> 22.692079 | J15: ='Analyse behovsgrad'!G237 -> 15.401926 | L15: 90-94 år | M15: ='Analyse behovsgrad'!B18 -> 14.273059
B16: 95+ år | C16: =VLOOKUP($D$4,'Indskrevne plejebolig dec 2025'!$B$7:$I$104,COUNTA($B$10:B16)+1,FALSE) -> 182 | E16: =IF($D$19="Jeg har indtastet venteliste i alt",'Beregning 2026'!M28,Model!D16) -> 0 | F16: ='Beregning 2026'!I28 -> 182 | G16: ='Beregning 2026'!L28 -> 33.517495 | I16: ='Beregning 2026'!K28 -> 33.517495 | J16: ='Analyse behovsgrad'!G238 -> 24.043229 | L16: 95+ år | M16: ='Analyse behovsgrad'!B19 -> 16.889643
B18: I alt | C18: =SUM(C10:C16) -> 3104 | E18: =IF(D19="Jeg har indtastet venteliste i alt",D18,SUM(E10:E16)) -> 0 | F18: =SUM(F10:F17) -> 3104 | G18: ='Beregning 2026'!L30 -> 0.46143714 | I18: ='Beregning 2026'!K30 -> 0.46143714 | J18: ='Analyse behovsgrad'!G240 -> 0.67202232
B19: Vælg venteliste-scenarie | D19: Jeg har indtastet venteliste i alt
L20: Vælg evt. scenarie
L21: Gennemsnitlig ændring i beboere 2019-2026, hele landet
B22: NB! Hvis der ikke er indtastet en venteliste antages det, at behovet i kommunen er de indskrevne i en plejebolig.
B24: Gns. periode med plejeboligbehov
C25: Indtast | L25: Antal plejeboliger i starten af året | M25: 2026
B26: Gns. antal måneder i alt | C26: 33 | M26: =E44 -> 3394 | N26: Kilde: plejehjemsoversigt.dk, september 2025
B30: Tomgang ved fraflytning i plejeboliger 2026 | G30: Ændring i tomgangskapacitet fra 2026 | L30: Første år efter etablering eller nedlægning | M30: Nye plejeboliger | N30: Konverterede ældreboliger | O30: Nedlagte plejerboliger
H31: Indtast | L31: 2027
B32: Antal måneder | C32: 1 | G32: Ændres til (md.) | H32: 1 | L32: =L31+1 -> 2028
B33: - svarende til antal boliger | D33: =IF(NOT(ISBLANK($F$44)),MIN($F$44,F18)/$F$45*$F$46,MIN(F18,F18)/$F$45*$F$46) -> 94.060606 | G33: I løbet af (helt antal år) | H33: 1 | L33: =L32+1 -> 2029
B34: Udnyttelsesgrad (pct.) | D34: =(1-(D33/C55))*100 -> 97.228621 | L34: =L33+1 -> 2030
L35: =L34+1 -> 2031
L36: I alt | M36: =SUM(M31:M35) -> 0 | N36: =SUM(N31:N35) -> 0 | O36: =SUM(O31:O35) -> 0
B42: Nulstillingsværdier (udfyldes kun hvis du vil afvige fra standarden)
B43: Felt | D43: Dit input | E43: Standard | F43: Anvendt
B44: Antal plejeboliger (K26) | D44: =M26 -> 3394 | E44: =plejehjemsoversigt.dk!G4 -> 3394 | F44: =IF(ISBLANK(D44),E44,D44) -> 3394
B45: Gns. antal måneder med plejeboligbehov (C26) | D45: =C26 -> 33 | E45: 36 | F45: =IF(ISBLANK(D45),E45,D45) -> 33
B46: Tomgang: antal måneder (C32) | D46: =C32 -> 1 | E46: =1 -> 1 | F46: =IF(ISBLANK(D46),E46,D46) -> 1
B47: Tomgang ændres til, md. (G32) | D47: =H32 -> 1 | E47: =1 -> 1 | F47: =IF(ISBLANK(D47),E47,D47) -> 1
B48: Tomgang: i løbet af antal år (G33) | D48: =H33 -> 1 | E48: =1 -> 1 | F48: =IF(ISBLANK(D48),E48,D48) -> 1
B50: =IF(AND(ISBLANK(F20),COUNTA(M31:O35)=0),"","OBS: du har indtastet egne kapacitetsændringer og/eller ændret ventetid. Kontrollér, at de gælder den kommune, du har valgt ovenfor.")
B52: Hovedtal fra 2026 og fremskrivning - se mere detaljerede resultater i arket "Resultat"
C53: ='Resultat '!C3 -> 2026 | D53: ='Resultat '!D3 -> 2027 | E53: ='Resultat '!E3 -> 2028 | F53: ='Resultat '!F3 -> 2029 | G53: ='Resultat '!G3 -> 2030 | H53: ='Resultat '!H3 -> 2031 | I53: ='Resultat '!I3 -> 2032 | J53: ='Resultat '!J3 -> 2033 | ... P53: ='Resultat '!P3 -> 2039
B55: Antal boliger | C55: ='Resultat '!C13 -> 3394 | D55: ='Resultat '!D13 -> 3394 | E55: ='Resultat '!E13 -> 3394 | F55: ='Resultat '!F13 -> 3394 | G55: ='Resultat '!G13 -> 3394 | H55: ='Resultat '!H13 -> 3394 | I55: ='Resultat '!I13 -> 3394 | J55: ='Resultat '!J13 -> 3394 | ... P55: ='Resultat '!P13 -> 3394
B56: Tomgang ved fraflytning - svarende til antal boliger | C56: ='Resultat '!C16 -> 94.060606 | D56: ='Resultat '!D16 -> 94.831146 | E56: ='Resultat '!E16 -> 96.015996 | F56: ='Resultat '!F16 -> 97.269339 | G56: ='Resultat '!G16 -> 98.100067 | H56: ='Resultat '!H16 -> 99.094327 | I56: ='Resultat '!I16 -> 99.814341 | J56: ='Resultat '!J16 -> 100.49136 | ... P56: ='Resultat '!P16 -> 102.84848
B58: Personer med behov primo året | C58: ='Resultat '!C8 -> 3104 | D58: ='Resultat '!D8 -> 3129.4278 | E58: ='Resultat '!E8 -> 3168.5279 | F58: ='Resultat '!F8 -> 3209.8882 | G58: ='Resultat '!G8 -> 3237.3022 | H58: ='Resultat '!H8 -> 3270.1128 | I58: ='Resultat '!I8 -> 3293.8733 | J58: ='Resultat '!J8 -> 3316.2147 | ... P58: ='Resultat '!P8 -> 3634.4262
B60: Beboere primo året | C60: ='Resultat '!C7 -> 3104 | D60: ='Resultat '!D7 -> 3129.4278 | E60: ='Resultat '!E7 -> 3168.5279 | F60: ='Resultat '!F7 -> 3209.8882 | G60: ='Resultat '!G7 -> 3237.3022 | H60: ='Resultat '!H7 -> 3270.1128 | I60: ='Resultat '!I7 -> 3293.8733 | J60: ='Resultat '!J7 -> 3294.1857 | ... P60: ='Resultat '!P7 -> 3291.1515
B61: Ledige boliger primo året | C61: ='Resultat '!C29 -> 195.93939 | D61: ='Resultat '!D29 -> 130.64098 | E61: ='Resultat '!E29 -> 88.095815 | F61: ='Resultat '!F29 -> 59.428458 | G61: ='Resultat '!G29 -> 25.787153 | H61: ='Resultat '!H29 -> 1.0324117 | I61: ='Resultat '!I29 -> 0 | J61: ='Resultat '!J29 -> 0 | ... P61: ='Resultat '!P29 -> 0
B63: Venteliste primo året | C63: ='Resultat '!C5 -> 0 | D63: ='Resultat '!D32 -> 0 | E63: ='Resultat '!E32 -> 0 | F63: ='Resultat '!F32 -> 0 | G63: ='Resultat '!G32 -> 0 | H63: ='Resultat '!H32 -> 0 | I63: ='Resultat '!I32 -> 0 | J63: ='Resultat '!J32 -> 22.706071 | K63: ='Resultat '!K32 -> 44.921155 | ... P63: ='Resultat '!P32 -> 343.27472
B64: Gns. Ventetid alle (md.) | C64: ='Resultat '!C35 -> 0 | D64: ='Resultat '!D35 -> 0 | E64: ='Resultat '!E35 -> 0 | F64: ='Resultat '!F35 -> 0 | G64: ='Resultat '!G35 -> 0 | H64: ='Resultat '!H35 -> 0 | I64: ='Resultat '!I35 -> 0 | J64: ='Resultat '!J35 -> 0.22595049 | ... P64: ='Resultat '!P35 -> 3.1168787
B66: Antal boliger for at reducere ventelisten til 2 måneder | C66: ='Resultat '!C44 -> 0 | D66: ='Resultat '!D44 -> 0 | E66: ='Resultat '!E44 -> 0 | F66: ='Resultat '!F44 -> 0 | G66: ='Resultat '!G44 -> 0 | H66: ='Resultat '!H44 -> 0 | I66: ='Resultat '!I44 -> 0 | J66: ='Resultat '!J44 -> 0 | ... P66: ='Resultat '!P44 -> 118.35017
B67: Antal boliger for at reducere den generelle venteliste til 2 måneder | D67: ='Resultat '!C55 -> 0 | F67: ='Resultat '!D55 -> 0 | G67: ='Resultat '!E55 -> 0 | H67: ='Resultat '!F55 -> 0 | I67: ='Resultat '!G55 -> 0 | J67: ='Resultat '!H55 -> 0 | K67: ='Resultat '!I55 -> 0 | L67: ='Resultat '!J55 -> 0 | M67: ='Resultat '!K55 -> 0 | ... P67: ='Resultat '!N55 -> 0
B68: NB! Den indtastede venteliste bruges i beregningen af behovsgrad i 2026, som vi fremskriver ud fra. Den indgår ultimo 2025/primo 2026.
B69: Gns. Ventetid er estimeret ud fra ventelisten ultimo året før, afgang i behov og afgang i boliger.

Sheet Resultat 
A2: Resultat: Fremskrivning af plejeboligbehov
A3: Grønne felter har andre referencer eller formler | B3: =#REF! -> #REF! | C3: ='Beregning 2026'!C33 -> 2026 | D3: =C3+1 -> 2027 | E3: =D3+1 -> 2028 | F3: =E3+1 -> 2029 | G3: =F3+1 -> 2030 | H3: =G3+1 -> 2031 | I3: =H3+1 -> 2032 | J3: =I3+1 -> 2033 | K3: =J3+1 -> 2034 | ... W3: =V3+1 -> 2046 | Y3: =X3+1 -> 1
C4: (Udgangspunkt)
A5: Venteliste primo året | B5: 0 | C5: =B32 -> 0 | D5: =C32 -> 0 | E5: =D32 -> 0 | F5: =E32 -> 0 | G5: =F32 -> 0 | H5: =G32 -> 0 | I5: =H32 -> 0 | J5: =I32 -> 0 | ... W5: =V32 -> 826.67235 | Y5: =X32 -> 0
A7: Beboere primo året | B7: =MIN(B8,B13) -> #REF! | C7: ='Beregning 2026'!C30 -> 3104 | D7: =C25 -> 3129.4278 | E7: =D25 -> 3168.5279 | F7: =E25 -> 3209.8882 | G7: =F25 -> 3237.3022 | H7: =G25 -> 3270.1128 | I7: =H25 -> 3293.8733 | J7: =I25 -> 3294.1857 | K7: =J25 -> 3293.5086 | ... W7: =V25 -> 3291.1515 | Y7: =MIN(Y8,Y13) -> #REF!
A8: Antal borgere i kommunen med behov | B8: =#REF! -> #REF! | C8: ='Beregning 2026'!C69 -> 3104 | D8: ='Beregning 2026'!E69 -> 3129.4278 | E8: ='Beregning 2026'!F69 -> 3168.5279 | F8: ='Beregning 2026'!G69 -> 3209.8882 | G8: ='Beregning 2026'!H69 -> 3237.3022 | H8: ='Beregning 2026'!I69 -> 3270.1128 | I8: ='Beregning 2026'!J69 -> 3293.8733 | J8: ='Beregning 2026'!K69 -> 3316.2147 | K8: ='Beregning 2026'!L69 -> 3337.7764 | ... W8: ='Beregning 2026'!X69 -> 4201.8119 | Y8: =#REF! -> #REF!
A10: Nyetablerede plejeboliger | B10: =#REF! -> #REF! | C10: ='Beregning 2026'!C111 -> 0 | D10: ='Beregning 2026'!E111 -> 0 | E10: ='Beregning 2026'!F111 -> 0 | F10: ='Beregning 2026'!G111 -> 0 | G10: ='Beregning 2026'!H111 -> 0 | H10: ='Beregning 2026'!I111 -> 0 | I10: ='Beregning 2026'!J111 -> 0 | J10: ='Beregning 2026'!K111 -> 0 | K10: ='Beregning 2026'!L111 -> 0 | ... W10: ='Beregning 2026'!X111 -> 0 | Y10: =#REF! -> #REF!
A11: Konverterede ældreboliger | B11: =#REF! -> #REF! | C11: ='Beregning 2026'!C112 -> 0 | D11: ='Beregning 2026'!E112 -> 0 | E11: ='Beregning 2026'!F112 -> 0 | F11: ='Beregning 2026'!G112 -> 0 | G11: ='Beregning 2026'!H112 -> 0 | H11: ='Beregning 2026'!I112 -> 0 | I11: ='Beregning 2026'!J112 -> 0 | J11: ='Beregning 2026'!K112 -> 0 | K11: ='Beregning 2026'!L112 -> 0 | ... W11: ='Beregning 2026'!X112 -> 0 | Y11: =#REF! -> #REF!
A12: Nedlagte plejeboliger | B12: =#REF! -> #REF! | C12: ='Beregning 2026'!C113 -> 0 | D12: ='Beregning 2026'!E113 -> 0 | E12: ='Beregning 2026'!F113 -> 0 | F12: ='Beregning 2026'!G113 -> 0 | G12: ='Beregning 2026'!H113 -> 0 | H12: ='Beregning 2026'!I113 -> 0 | I12: ='Beregning 2026'!J113 -> 0 | J12: ='Beregning 2026'!K113 -> 0 | K12: ='Beregning 2026'!L113 -> 0 | ... W12: ='Beregning 2026'!X113 -> 0 | Y12: =#REF! -> #REF!
A13: Antal boliger i alt | B13: =IF(Model!$F$44>0,Model!$F$44,Model!#REF!)+B10+B11-B12 -> #REF! | C13: =IF(Model!O26>0,Model!O26,IF(Model!$F$44>0,Model!$F$44)+C10+C11-C12) -> 3394 | D13: =IF(Model!O26>0,Model!O26,C13)+D10+D11-D12 -> 3394 | E13: =D13+E10+E11-E12 -> 3394 | F13: =E13+F10+F11-F12 -> 3394 | G13: =F13+G10+G11-G12 -> 3394 | H13: =G13+H10+H11-H12 -> 3394 | I13: =H13+I10+I11-I12 -> 3394 | J13: =I13+J10+J11-J12 -> 3394 | K13: =J13+K10+K11-K12 -> 3394 | L13: =K13+L10+L11-L12 -> 3394 | ... W13: =V13+W10+W11-W12 -> 3394 | Y13: =X13+Y10+Y11-Y12 -> #REF!
A15: Tomgang ved fraflytning (md.) | B15: =#REF! -> #REF! | C15: ='Beregning 2026'!C115 -> 1 | D15: ='Beregning 2026'!E115 -> 1 | E15: ='Beregning 2026'!F115 -> 1 | F15: ='Beregning 2026'!G115 -> 1 | G15: ='Beregning 2026'!H115 -> 1 | H15: ='Beregning 2026'!I115 -> 1 | I15: ='Beregning 2026'!J115 -> 1 | J15: ='Beregning 2026'!K115 -> 1 | K15: ='Beregning 2026'!L115 -> 1 | ... W15: ='Beregning 2026'!X115 -> 1 | Y15: =#REF! -> #REF!
A16: - svarende til antal boliger (Pr. måned) | B16: =#REF! -> #REF! | C16: ='Beregning 2026'!C116 -> 94.060606 | D16: ='Beregning 2026'!E116 -> 94.831146 | E16: ='Beregning 2026'!F116 -> 96.015996 | F16: ='Beregning 2026'!G116 -> 97.269339 | G16: ='Beregning 2026'!H116 -> 98.100067 | H16: ='Beregning 2026'!I116 -> 99.094327 | I16: ='Beregning 2026'!J116 -> 99.814341 | J16: ='Beregning 2026'!K116 -> 100.49136 | K16: ='Beregning 2026'!L116 -> 101.14474 | ... W16: ='Beregning 2026'!X116 -> 102.84848 | Y16: ='Beregning 2026'!Z116 -> 102.84848
A18: Behovsgrad pr. over 70-årig (pct.) | B18: =#REF! -> #REF! | C18: ='Beregning 2026'!C54 -> 5.3602743 | D18: ='Beregning 2026'!E54 -> 5.2903015 | E18: ='Beregning 2026'!F54 -> 5.2417864 | F18: ='Beregning 2026'!G54 -> 5.1914925 | G18: ='Beregning 2026'!H54 -> 5.1192293 | H18: ='Beregning 2026'!I54 -> 5.046837 | I18: ='Beregning 2026'!J54 -> 4.956271 | J18: ='Beregning 2026'!K54 -> 4.8656043 | K18: ='Beregning 2026'!L54 -> 4.749348 | ... W18: ='Beregning 2026'!X54 -> 4.5829277 | Y18: =#REF! -> #REF!
A19: Ændring ift. udgangsniveau (pct.point) | B19: =#REF! -> #REF! | C19: ='Beregning 2026'!C57 -> 0 | D19: ='Beregning 2026'!E57 -> -0.1230722 | E19: ='Beregning 2026'!F57 -> -0.25665717 | F19: ='Beregning 2026'!G57 -> -0.39908077 | G19: ='Beregning 2026'!H57 -> -0.54497719 | H19: ='Beregning 2026'!I57 -> -0.7011862 | I19: ='Beregning 2026'!J57 -> -0.85873237 | J19: ='Beregning 2026'!K57 -> -1.0235574 | K19: ='Beregning 2026'!L57 -> -1.1853668 | ... W19: ='Beregning 2026'!X57 -> -1.6082261 | Y19: =#REF! -> #REF!
A21: Nyvisiterede i løbet af året (Behov) | B21: =#REF! -> #REF! | C21: ='Beregning 2026'!C94 -> 1154.1551 | D21: ='Beregning 2026'!E94 -> 1177.0738 | E21: ='Beregning 2026'!F94 -> 1193.5523 | F21: ='Beregning 2026'!G94 -> 1194.6461 | G21: ='Beregning 2026'!H94 -> 1210.0114 | H21: ='Beregning 2026'!I94 -> 1212.8924 | I21: ='Beregning 2026'!J94 -> 1220.1135 | J21: ='Beregning 2026'!K94 -> 1227.458 | K21: ='Beregning 2026'!L94 -> 1219.6142 | ... W21: ='Beregning 2026'!X94 -> 1608.0236 | Y21: =#REF! -> #REF!
A22: Afgang i boliger i løbet af året | B22: =#REF! -> #REF! | C22: ='Beregning 2026'!C81 -> 1234.1818 | D22: ='Beregning 2026'!E81 -> 1234.1818 | E22: ='Beregning 2026'!F81 -> 1234.1818 | F22: ='Beregning 2026'!G81 -> 1234.1818 | G22: ='Beregning 2026'!H81 -> 1234.1818 | H22: ='Beregning 2026'!I81 -> 1234.1818 | I22: ='Beregning 2026'!J81 -> 1234.1818 | J22: ='Beregning 2026'!K81 -> 1234.1818 | K22: ='Beregning 2026'!L81 -> 1234.1818 | ... W22: ='Beregning 2026'!X81 -> 1234.1818
A23: Afgang i behov i løbet af året | B23: =#REF! -> #REF! | C23: ='Beregning 2026'!C82 -> 1128.7273 | D23: ='Beregning 2026'!E82 -> 1137.9738 | E23: ='Beregning 2026'!F82 -> 1152.192 | F23: ='Beregning 2026'!G82 -> 1167.2321 | G23: ='Beregning 2026'!H82 -> 1177.2008 | H23: ='Beregning 2026'!I82 -> 1189.1319 | I23: ='Beregning 2026'!J82 -> 1197.7721 | J23: ='Beregning 2026'!K82 -> 1205.8963 | K23: ='Beregning 2026'!L82 -> 1213.7369 | ... W23: ='Beregning 2026'!X82 -> 1527.9316 | Y23: =#REF! -> #REF!
A25: Beboere efter nettotilgang | B25: =MIN(B13-B16,B7-B23+B21) -> #REF! | C25: =MIN(C13-C16,C7-C23+C21) -> 3129.4278 | D25: =MIN(D13-D16,D7-D23+D21) -> 3168.5279 | E25: =MIN(E13-E16,E7-E23+E21) -> 3209.8882 | F25: =MIN(F13-F16,F7-F23+F21) -> 3237.3022 | G25: =MIN(G13-G16,G7-G23+G21) -> 3270.1128 | H25: =MIN(H13-H16,H7-H23+H21) -> 3293.8733 | I25: =MIN(I13-I16,I7-I23+I21) -> 3294.1857 | ... W25: =MIN(W13-W16,W7-W23+W21) -> 3291.1515 | Y25: =MIN(Y13-Y16,Y7-Y23+Y21) -> #REF!
A27: Beboere efter udnyttelse af evt. ledige boliger | B27: =B25+MIN(B5,B13-B16-B25) -> #REF! | C27: =C7 -> 3104 | D27: =D25+MIN(D5,D13-D16-D25) -> 3168.5279 | E27: =E25+MIN(E5,E13-E16-E25) -> 3209.8882 | F27: =F25+MIN(F5,F13-F16-F25) -> 3237.3022 | G27: =G25+MIN(G5,G13-G16-G25) -> 3270.1128 | H27: =H25+MIN(H5,H13-H16-H25) -> 3293.8733 | I27: =I25+MIN(I5,I13-I16-I25) -> 3294.1857 | J27: =J25+MIN(J5,J13-J16-J25) -> 3293.5086 | K27: =K25+MIN(K5,K13-K16-K25) -> 3292.8553 | ... W27: =W25+MIN(W5,W13-W16-W25) -> 3291.1515 | Y27: =Y25+MIN(Y5,Y13-Y16-Y25) -> #REF!
A29: Ledige boliger primo året | B29: =B13-B16-B27 -> #REF! | C29: =C13-C16-C27 -> 195.93939 | D29: =D13-D16-D27 -> 130.64098 | E29: =E13-E16-E27 -> 88.095815 | F29: =F13-F16-F27 -> 59.428458 | G29: =G13-G16-G27 -> 25.787153 | H29: =H13-H16-H27 -> 1.0324117 | I29: =I13-I16-I27 -> 0 | ... W29: =W13-W16-W27 -> 0 | Y29: =Y13-Y16-Y27 -> #REF!
A32: Venteliste primo året, personer | B32: =Model!E18 -> 0 | C32: =MAX(C8+C16-C13,0) -> 0 | D32: =MAX(D8+D16-D13,0) -> 0 | E32: =MAX(E8+E16-E13,0) -> 0 | F32: =MAX(F8+F16-F13,0) -> 0 | G32: =MAX(G8+G16-G13,0) -> 0 | H32: =MAX(H8+H16-H13,0) -> 0 | I32: =MAX(I8+I16-I13,0) -> 0 | J32: =MAX(J8+J16-J13,0) -> 22.706071 | ... W32: =MAX(W8+W16-W13,0) -> 910.66034 | Y32: =MAX(Y8+Y16-Y13,0) -> #REF!
A33: ="-heraf på generel venteliste" -> -heraf på generel venteliste | B33: =B32*Model!$F$20/100 -> 0 | C33: =C32*Model!$F$20/100 -> 0 | D33: =D32*Model!$F$20/100 -> 0 | E33: =E32*Model!$F$20/100 -> 0 | F33: =F32*Model!$F$20/100 -> 0 | G33: =G32*Model!$F$20/100 -> 0 | H33: =H32*Model!$F$20/100 -> 0 | I33: =I32*Model!$F$20/100 -> 0 | ... W33: =W32*Model!$F$20/100 -> 0 | Y33: =Y32*Model!#REF!/100 -> #REF!
A35: Gns. ventetid primo året (mdr.) | B35: =MAX(B32/(B23/12),0) -> #REF! | C35: =MAX(C32/(C23/12),0) -> 0 | D35: =MAX(D32/(D23/12),0) -> 0 | E35: =MAX(E32/(E23/12),0) -> 0 | F35: =MAX(F32/(F23/12),0) -> 0 | G35: =MAX(G32/(G23/12),0) -> 0 | H35: =MAX(H32/(H23/12),0) -> 0 | I35: =MAX(I32/(I23/12),0) -> 0 | ... W35: =MAX(W32/(W23/12),0) -> 7.152103 | Y35: =MAX(ROUND(Y32/(Y23/12),1),0) -> #REF!
A36: Venteliste primo året (boliger) | B36: =B35*(B$22/12) -> #REF! | C36: =C35*(C$22/12) -> 0 | D36: =D35*(D$22/12) -> 0 | E36: =E35*(E$22/12) -> 0 | F36: =F35*(F$22/12) -> 0 | G36: =G35*(G$22/12) -> 0 | H36: =H35*(H$22/12) -> 0 | I36: =I35*(I$22/12) -> 0 | ... W36: =W35*(W$22/12) -> 735.58296
A38: Grænse for ventetid (Måneder) | B38: 2 | C38: 2 | D38: 2 | E38: 2 | F38: 2 | G38: 2 | H38: 2 | I38: 2 | J38: 2 | K38: 2 | L38: 2 | M38: 2 | N38: 2 | O38: 2 | P38: 2 | Q38: 2 | R38: 2 | S38: 2 | T38: 2 | U38: 2 | V38: 2 | W38: 2
A39: Grænse for ventetid (Boliger) | B39: =B38*(B$22/12) -> #REF! | C39: =C38*(C$22/12) -> 205.69697 | D39: =D38*(D$22/12) -> 205.69697 | E39: =E38*(E$22/12) -> 205.69697 | F39: =F38*(F$22/12) -> 205.69697 | G39: =G38*(G$22/12) -> 205.69697 | H39: =H38*(H$22/12) -> 205.69697 | I39: =I38*(I$22/12) -> 205.69697 | ... W39: =W38*(W$22/12) -> 205.69697 | Y39: =Y38*(Y$22/12) -> 0
A41: Overskredet grænse (I antal boliger) | B41: =MAX(B36-B39,0) -> #REF! | C41: =MAX(C36-C39,0) -> 0 | D41: =MAX(D36-D39,0) -> 0 | E41: =MAX(E36-E39,0) -> 0 | F41: =MAX(F36-F39,0) -> 0 | G41: =MAX(G36-G39,0) -> 0 | H41: =MAX(H36-H39,0) -> 0 | I41: =MAX(I36-I39,0) -> 0 | ... W41: =MAX(W36-W39,0) -> 529.88599 | Y41: =IF(Y36>Y39,Y36-Y39,0) -> 0
A42: Tomgang | B42: =B15*(B41/Model!$F$45) -> #REF! | C42: =C15*(C41/Model!$F$45) -> 0 | D42: =D15*(D41/Model!$F$45) -> 0 | E42: =E15*(E41/Model!$F$45) -> 0 | F42: =F15*(F41/Model!$F$45) -> 0 | G42: =G15*(G41/Model!$F$45) -> 0 | H42: =H15*(H41/Model!$F$45) -> 0 | I42: =I15*(I41/Model!$F$45) -> 0 | ... W42: =W15*(W41/Model!$F$45) -> 16.057151
A44: Boliger som skal bygges for at reducere ventelisten til 2 måneder | B44: =B42+B41 -> #REF! | C44: =C42+C41 -> 0 | D44: =D42+D41 -> 0 | E44: =E42+E41 -> 0 | F44: =F42+F41 -> 0 | G44: =G42+G41 -> 0 | H44: =H42+H41 -> 0 | I44: =I42+I41 -> 0 | ... W44: =W42+W41 -> 545.94314
A46: Hvis kun den generelle venteliste havde behov
A47: Gns. ventetid ultimo året (md.) | B47: =MAX(B33/(B23/12),0) -> #REF! | C47: =MAX(C33/(C23/12),0) -> 0 | D47: =MAX(D33/(D23/12),0) -> 0 | E47: =MAX(E33/(E23/12),0) -> 0 | F47: =MAX(F33/(F23/12),0) -> 0 | G47: =MAX(G33/(G23/12),0) -> 0 | H47: =MAX(H33/(H23/12),0) -> 0 | I47: =MAX(I33/(I23/12),0) -> 0 | ... W47: =MAX(W33/(W23/12),0) -> 0
A48: Gns. ventetid ultimo året (Boliger) | B48: =B47*(B$22/12) -> #REF! | C48: =C47*(C$22/12) -> 0 | D48: =D47*(D$22/12) -> 0 | E48: =E47*(E$22/12) -> 0 | F48: =F47*(F$22/12) -> 0 | G48: =G47*(G$22/12) -> 0 | H48: =H47*(H$22/12) -> 0 | I48: =I47*(I$22/12) -> 0 | ... W48: =W47*(W$22/12) -> 0 | Y48: =Y47*(Y$23/12) -> #REF!
A50: Grænse for ventetid (Måneder) | B50: 2 | C50: 2 | D50: 2 | E50: 2 | F50: 2 | G50: 2 | H50: 2 | I50: 2 | J50: 2 | K50: 2 | L50: 2 | M50: 2 | N50: 2 | O50: 2 | P50: 2 | Q50: 2 | R50: 2 | S50: 2 | T50: 2 | U50: 2 | V50: 2 | W50: 2
A51: Grænse for ventetid (Boliger) | B51: =B50*(B$22/12) -> #REF! | C51: =C38*(C$22/12) -> 205.69697 | D51: =D38*(D$22/12) -> 205.69697 | E51: =E38*(E$22/12) -> 205.69697 | F51: =F38*(F$22/12) -> 205.69697 | G51: =G38*(G$22/12) -> 205.69697 | H51: =H38*(H$22/12) -> 205.69697 | I51: =I38*(I$22/12) -> 205.69697 | J51: =J38*(J$22/12) -> 205.69697 | ... W51: =W38*(W$22/12) -> 205.69697
A53: Overskredet grænse (I antal boliger) | B53: =MAX(B48-B51,0) -> #REF! | C53: =MAX(C48-C51,0) -> 0 | D53: =MAX(D48-D51,0) -> 0 | E53: =MAX(E48-E51,0) -> 0 | F53: =MAX(F48-F51,0) -> 0 | G53: =MAX(G48-G51,0) -> 0 | H53: =MAX(H48-H51,0) -> 0 | I53: =MAX(I48-I51,0) -> 0 | ... W53: =MAX(W48-W51,0) -> 0
A54: Tomgang | B54: =B15*(B53/Model!$F$45) -> #REF! | C54: =C15*(C53/Model!$F$45) -> 0 | D54: =D15*(D53/Model!$F$45) -> 0 | E54: =E15*(E53/Model!$F$45) -> 0 | F54: =F15*(F53/Model!$F$45) -> 0 | G54: =G15*(G53/Model!$F$45) -> 0 | H54: =H15*(H53/Model!$F$45) -> 0 | I54: =I15*(I53/Model!$F$45) -> 0 | ... W54: =W15*(W53/Model!$F$45) -> 0
A55: Boliger som skal bygges for at reducere den generelle venteliste til 2 måneder | B55: =B53+B54 -> #REF! | C55: =C53+C54 -> 0 | D55: =D53+D54 -> 0 | E55: =E53+E54 -> 0 | F55: =F53+F54 -> 0 | G55: =G53+G54 -> 0 | H55: =H53+H54 -> 0 | I55: =I53+I54 -> 0 | ... W55: =W53+W54 -> 0

Sheet Analyse behovsgrad
A2: Scenarier:
A3: Ingen udvikling i behovsgrad
A4: Tilpasning til aktuelt landsgennemsnit for indskrevne (ekskl. ventelister)
A5: Gennemsnitlig ændring i beboere 2019-2026, hele landet
A7: Valgt scenarie:
A8: =Model!L21 -> Gennemsnitlig ændring i beboere 2019-2026, hele landet
A10: Over antal år:
A11: =Model!O10 -> 10
A13: Under 70 år | B13: =IF($A$8=$A$3,Model!G10,IF($A$8=$A$4,G232,IF($A$8=$A$5,D175,""))) -> 0.063878156
A14: 70-74 år | B14: =IF($A$8=$A$3,Model!G11,IF($A$8=$A$4,G233,IF($A$8=$A$5,D176,""))) -> 2.2419633
A15: 75-79 år | B15: =IF($A$8=$A$3,Model!G12,IF($A$8=$A$4,G234,IF($A$8=$A$5,D177,""))) -> 3.9558314
A16: 80-84 år | B16: =IF($A$8=$A$3,Model!G13,IF($A$8=$A$4,G235,IF($A$8=$A$5,D178,""))) -> 4.03698
A17: 85-89 år | B17: =IF($A$8=$A$3,Model!G14,IF($A$8=$A$4,G236,IF($A$8=$A$5,D179,""))) -> 7.4967508
A18: 90-94 år | B18: =IF($A$8=$A$3,Model!G15,IF($A$8=$A$4,G237,IF($A$8=$A$5,D180,""))) -> 14.273059
A19: 95+ år | B19: =IF($A$8=$A$3,Model!G16,IF($A$8=$A$4,G238,IF($A$8=$A$5,D181,""))) -> 16.889643
B24: Folketal pr. 1. januar efter område, alder og tid, FOLK1
C26: 2013K1 | D26: 2014K1 | E26: 2015K1 | F26: 2016K1 | G26: 2017K1 | H26: 2018K1 | I26: 2019K1 | J26: 2020K1 | K26: 2021K1 | L26: 2022K1 | M26: 2023K1 | N26: 2024K1 | O26: 2025K1 | P26: 2026K1
A27: Hele landet | B27: 0 år | C27: 58246 | D27: 56161 | E27: 57130 | F27: 58605 | G27: 62025 | H27: 61731 | I27: 61733 | J27: 61466 | K27: 61191 | L27: 63602 | M27: 58740 | N27: 57727 | O27: 57293 | P27: 59649
B28: 1 år | C28: 59718 | D28: 58721 | E28: 56748 | F28: 57894 | G28: 59253 | H28: 62508 | I28: 62046 | J28: 61916 | K28: 61663 | L28: 61514 | M28: 64341 | N28: 59115 | O28: 58176 | P28: 57711
B29: 2 år | C29: 64422 | D29: 60046 | E29: 59134 | F29: 57484 | G29: 58520 | H29: 59523 | I29: 62675 | J29: 62148 | K29: 61967 | L29: 61864 | M29: 62209 | N29: 64654 | O29: 59431 | P29: 58350
B30: 3 år | C30: 64006 | D30: 64638 | E30: 60389 | F30: 59803 | G30: 57977 | H30: 58831 | I30: 59608 | J30: 62697 | K30: 62185 | L30: 62135 | M30: 62571 | N30: 62446 | O30: 64854 | P30: 59630
B31: 4 år | C31: 66564 | D31: 64216 | E31: 64967 | F31: 60962 | G31: 60288 | H31: 58205 | I31: 58901 | J31: 59661 | K31: 62844 | L31: 62297 | M31: 62815 | N31: 62696 | O31: 62674 | P31: 65064
B32: 5 år | C32: 65643 | D32: 66742 | E32: 64546 | F32: 65616 | G32: 61484 | H32: 60478 | I32: 58352 | J32: 58993 | K32: 59740 | L32: 62893 | M32: 63008 | N32: 62960 | O32: 62972 | P32: 62909
B33: 6 år | C33: 66634 | D33: 65822 | E33: 67083 | F33: 65147 | G33: 66047 | H33: 61705 | I33: 60640 | J33: 58415 | K33: 59064 | L33: 59839 | M33: 63652 | N33: 63172 | O33: 63119 | P33: 63143
B34: 7 år | C34: 65676 | D34: 66762 | E34: 66122 | F34: 67681 | G34: 65636 | H34: 66236 | I34: 61798 | J34: 60745 | K34: 58551 | L34: 59165 | M34: 60731 | N34: 63802 | O34: 63409 | P34: 63296
B35: 8 år | C35: 65801 | D35: 65861 | E35: 67053 | F35: 66672 | G35: 68121 | H35: 65871 | I35: 66386 | J35: 61926 | K35: 60898 | L35: 58683 | M35: 60044 | N35: 60896 | O35: 64003 | P35: 63682
B36: 9 år | C36: 65766 | D36: 65959 | E36: 66143 | F36: 67509 | G36: 67155 | H36: 68391 | I36: 66077 | J36: 66522 | K36: 62107 | L36: 61034 | M36: 59474 | N36: 60279 | O36: 61219 | P36: 64317
B37: 10 år | C37: 65167 | D37: 65909 | E37: 66299 | F37: 66619 | G37: 67907 | H37: 67353 | I37: 68541 | J37: 66254 | K37: 66696 | L37: 62282 | M37: 61867 | N37: 59666 | O37: 60484 | P37: 61519
B38: 11 år | C38: 66273 | D38: 65311 | E38: 66211 | F38: 66703 | G38: 66987 | H38: 68155 | I38: 67526 | J38: 68649 | K38: 66428 | L38: 66845 | M38: 63114 | N38: 62097 | O38: 59924 | P38: 60759
B39: 12 år | C39: 68228 | D39: 66422 | E39: 65528 | F39: 66593 | G39: 67022 | H39: 67169 | I39: 68375 | J39: 67673 | K39: 68834 | L39: 66597 | M39: 67655 | N39: 63296 | O39: 62372 | P39: 60212
... B137: 110 år | C137: 0 | D137: 1 | E137: 1 | F137: 1 | G137: 1 | H137: 0 | I137: 2 | J137: 0 | K137: 1 | L137: 0 | M137: 0 | N137: 1 | O137: 1 | P137: 0
B139: Befolkningen i alt | C139: 2013K1 | D139: 2014K1 | E139: 2015K1 | F139: 2016K1 | G139: 2017K1 | H139: 2018K1 | I139: 2019K1 | J139: 2020K1 | K139: 2021K1 | L139: 2022K1 | M139: 2023K1 | N139: 2024K1 | O139: 2025K1 | P139: 2026K1
B140: Under 70 år | C140: =SUM(C27:C96) -> 4954862 | D140: =SUM(D27:D96) -> 4956813 | E140: =SUM(E27:E96) -> 4960466 | F140: =SUM(F27:F96) -> 4977177 | G140: =SUM(G27:G96) -> 4985893 | H140: =SUM(H27:H96) -> 4988755 | I140: =SUM(I27:I96) -> 4990277 | J140: =SUM(J27:J96) -> 4986047 | ... P140: =SUM(P27:P96) -> 5088643
B141: 70-74 år | C141: =SUM(C97:C101) -> 241994 | D141: =SUM(D97:D101) -> 255367 | E141: =SUM(E97:E101) -> 273446 | F141: =SUM(F97:F101) -> 292443 | G141: =SUM(G97:G101) -> 312288 | H141: =SUM(H97:H101) -> 324093 | I141: =SUM(I97:I101) -> 328265 | J141: =SUM(J97:J101) -> 324554 | ... P141: =SUM(P97:P101) -> 295999
B142: 75-79 år | C142: =SUM(C102:C106) -> 173089 | D142: =SUM(D102:D106) -> 180164 | E142: =SUM(E102:E106) -> 186394 | F142: =SUM(F102:F106) -> 193873 | G142: =SUM(G102:G106) -> 200867 | H142: =SUM(H102:H106) -> 211648 | I142: =SUM(I102:I106) -> 223793 | J142: =SUM(J102:J106) -> 239836 | ... P142: =SUM(P102:P106) -> 280325
B143: 80-84 år | C143: =SUM(C107:C111) -> 118170 | D143: =SUM(D107:D111) -> 119026 | E143: =SUM(E107:E111) -> 121930 | F143: =SUM(F107:F111) -> 125369 | G143: =SUM(G107:G111) -> 130127 | H143: =SUM(H107:H111) -> 135926 | I143: =SUM(I107:I111) -> 142088 | J143: =SUM(J107:J111) -> 147963 | ... P143: =SUM(P107:P111) -> 207351
B144: 85-89 år | C144: =SUM(C112:C116) -> 73881 | D144: =SUM(D112:D116) -> 74340 | E144: =SUM(E112:E116) -> 74706 | F144: =SUM(F112:F116) -> 74925 | G144: =SUM(G112:G116) -> 75218 | H144: =SUM(H112:H116) -> 76128 | I144: =SUM(I112:I116) -> 76915 | J144: =SUM(J112:J116) -> 79335 | ... P144: =SUM(P112:P116) -> 104230
B145: 90-94 år | C145: =SUM(C117:C122) -> 34685 | D145: =SUM(D117:D122) -> 35533 | E145: =SUM(E117:E122) -> 36540 | F145: =SUM(F117:F122) -> 37058 | G145: =SUM(G117:G122) -> 37523 | H145: =SUM(H117:H122) -> 37522 | I145: =SUM(I117:I122) -> 37820 | J145: =SUM(J117:J122) -> 37979 | ... O145: =SUM(O117:O122) -> 40057 | P145: =SUM(P117:P121) -> 38545
B146: 95+ år | C146: =SUM(C122:C137) -> 8563 | D146: =SUM(D122:D137) -> 8731 | E146: =SUM(E122:E137) -> 9057 | F146: =SUM(F122:F137) -> 9674 | G146: =SUM(G122:G137) -> 10126 | H146: =SUM(H122:H137) -> 10049 | I146: =SUM(I122:I137) -> 10082 | J146: =SUM(J122:J137) -> 10313 | ... P146: =SUM(P122:P137) -> 10509
B148: I alt | C148: =SUM(C140:C146) -> 5605244 | D148: =SUM(D140:D146) -> 5629974 | E148: =SUM(E140:E146) -> 5662539 | F148: =SUM(F140:F146) -> 5710519 | G148: =SUM(G140:G146) -> 5752042 | H148: =SUM(H140:H146) -> 5784121 | I148: =SUM(I140:I146) -> 5809240 | J148: =SUM(J140:J146) -> 5826027 | ... P148: =SUM(P140:P146) -> 6025602
F150: Antal indskrevne | I150: Kommer fra separat excelark
B152: Alle plejeboliger | C152: 2013K1 | D152: 2014K1 | E152: 2015K1 | F152: 2016K1 | G152: 2017K1 | H152: 2018K1 | I152: 2019K1 | J152: 2020K1 | K152: 2021K1 | L152: 2022K1 | M152: 2023 | N152: 2024 | O152: 2025 | P152: 2026
B153: Under 70 år | C153: 1231 | D153: 4094 | E153: 3998 | F153: 3961 | G153: 3834 | H153: 3785 | I153: 3786 | J153: 3739 | K153: 3728 | L153: 3751 | M153: 3730 | N153: 3646 | O153: 3590 | P153: 4142 | R153: * Nye værdier indsat fra indskrevne plejebolig dec 2025
B154: 70-74 år | C154: 1091 | D154: 3063 | E154: 3223 | F154: 3346 | G154: 3584 | H154: 3594 | I154: 3593 | J154: 3534 | K154: 3499 | L154: 3387 | M154: 3306 | N154: 3187 | O154: 3233 | P154: 3521
B155: 75-79 år | C155: 710 | D155: 4743 | E155: 4809 | F155: 4890 | G155: 4938 | H155: 5111 | I155: 5217 | J155: 5511 | K155: 5726 | L155: 6034 | M155: 6250 | N155: 6290 | O155: 6020 | P155: 6730
B156: 80-84 år | C156: 4742 | D156: 7212 | E156: 7250 | F156: 7146 | G156: 7295 | H156: 7472 | I156: 7555 | J156: 7605 | K156: 7555 | L156: 7641 | M156: 7631 | N156: 7924 | O156: 8197 | P156: 8425
B157: 85-89 år | C157: 4980 | D157: 9539 | E157: 9533 | F157: 9415 | G157: 9221 | H157: 9076 | I157: 8934 | J157: 8900 | K157: 8843 | L157: 8850 | M157: 9020 | N157: 9140 | O157: 9097 | P157: 9036
B158: 90-94 år | C158: 7770 | D158: 7749 | E158: 7898 | F158: 7811 | G158: 7742 | H158: 7687 | I158: 7660 | J158: 7502 | K158: 7207 | L158: 6889 | M158: 6852 | N158: 6693 | O158: 6762 | P158: 5911
B159: 95+ år | C159: 10088 | D159: 3333 | E159: 3423 | F159: 3598 | G159: 3693 | H159: 3691 | I159: 3643 | J159: 3663 | K159: 3659 | L159: 3678 | M159: 3571 | N159: 3415 | O159: 3359 | P159: 2517
D160: 39733 | E160: 40134 | F160: 40167 | G160: 40307 | H160: 40416 | I160: 40388 | J160: 40454 | K160: 40217 | L160: 40230 | M160: 40360 | N160: 40295 | O160: 40258 | P160: =SUM(P153:P159) -> 40282
B161: alle | C161: 42073 | D161: 42204 | E161: 43092 | F161: 42777 | G161: 42526 | H161: 42378 | I161: 42500 | J161: =SUM(J153:J160) -> 80908 | K161: =SUM(K153:K160) -> 80434 | L161: =SUM(L153:L160) -> 80460 | M161: =SUM(M153:M160) -> 80720 | N161: =SUM(N153:N159) -> 40295 | O161: =SUM(O153:O159) -> 40258 | P161: =SUM(P153:P159) -> 40282
B162: Dækningsgrader 2013-2024 | C162: 2013 | D162: 2014 | E162: 2015 | F162: 2016 | G162: 2017 | H162: 2018 | I162: 2019 | J162: 2020 | K162: 2021 | L162: 2022 | M162: 2023 | N162: 2024 | O162: 2025 | P162: 2026 | R162: Ændring 2019-2026 (2019=indeks=1) | S162: Årligt | T162: Årlig ændring i pct. | X162: Dækningsgrader 2020-2022
B163: Under 70 år | C163: =C153/C140*100 -> 0.024844284 | D163: =D153/D140*100 -> 0.082593392 | E163: =E153/E140*100 -> 0.080597266 | F163: =F153/F140*100 -> 0.079583266 | G163: =G153/G140*100 -> 0.076896957 | H163: =H153/H140*100 -> 0.075870633 | I163: =I153/I140*100 -> 0.075867532 | J163: =J153/J140*100 -> 0.074989265 | ... P163: =P153/P140*100 -> 0.081396946 | R163: =P163/I163 -> 1.0728825 | S163: =R163^(1/6) -> 1.0117938 | T163: =-(1-S163)*100 -> 1.1793828 | Y163: 2020 | Z163: 2021 | AA163: 2022 | AB163: Ændring 2020-2022 (2020=indeks=1) | AC163: Årligt | AD163: Årlig ændring i pct.
B164: 70-74 år | C164: =C154/C141*100 -> 0.45083762 | D164: =D154/D141*100 -> 1.1994502 | E164: =E154/E141*100 -> 1.1786605 | F164: =F154/F141*100 -> 1.1441546 | G164: =G154/G141*100 -> 1.1476586 | H164: =H154/H141*100 -> 1.108941 | I164: =I154/I141*100 -> 1.0945425 | J164: =J154/J141*100 -> 1.0888789 | ... P164: =P154/P141*100 -> 1.189531 | R164: =P164/I164 -> 1.0867838 | S164: =R164^(1/6) -> 1.0139671 | T164: =-(1-S164)*100 -> 1.3967085 | X164: Under 60 år | Y164: =J153/J140*100 -> 0.074989265 | Z164: =K153/K140*100 -> 0.074810736 | AA164: =L153/L140*100 -> 0.075006559 | AB164: =AA164/Y164 -> 1.0002306 | AC164: =AB164^(1/2) -> 1.0001153 | AD164: =-(1-AC164)*100 -> 0.011530173
B165: 75-79 år | C165: =C155/C142*100 -> 0.4101936 | D165: =D155/D142*100 -> 2.6326014 | E165: =E155/E142*100 -> 2.5800187 | F165: =F155/F142*100 -> 2.5222697 | G165: =G155/G142*100 -> 2.4583431 | H165: =H155/H142*100 -> 2.4148586 | I165: =I155/I142*100 -> 2.3311721 | J165: =J155/J142*100 -> 2.2978202 | ... P165: =P155/P142*100 -> 2.4007848 | R165: =P165/I165 -> 1.0298617 | S165: =R165^(1/6) -> 1.0049161 | T165: =-(1-S165)*100 -> 0.49161268 | X165: 60-64 år | Y165: =J154/J141*100 -> 1.0888789 | Z165: =K154/K141*100 -> 1.1011074 | AA165: =L154/L141*100 -> 1.1049634 | AB165: =AA165/Y165 -> 1.0147716 | AC165: =AB165^(1/2) -> 1.0073587 | AD165: =-(1-AC165)*100 -> 0.73587191
B166: 80-84 år | C166: =C156/C143*100 -> 4.0128628 | D166: =D156/D143*100 -> 6.0591803 | E166: =E156/E143*100 -> 5.9460346 | F166: =F156/F143*100 -> 5.6999737 | G166: =G156/G143*100 -> 5.6060618 | H166: =H156/H143*100 -> 5.4971087 | I166: =I156/I143*100 -> 5.3171274 | J166: =J156/J143*100 -> 5.1397985 | ... P166: =P156/P143*100 -> 4.0631586 | R166: =P166/I166 -> 0.76416424 | S166: =R166^(1/6) -> 0.9561612 | T166: =-(1-S166)*100 -> -4.3838797 | X166: 65-66 år | Y166: =J155/J142*100 -> 2.2978202 | Z166: =K155/K142*100 -> 2.2286573 | AA166: =L155/L142*100 -> 2.1980984 | AB166: =AA166/Y166 -> 0.95660159 | AC166: =AB166^(1/2) -> 0.97806011 | AD166: =-(1-AC166)*100 -> -2.1939885
B167: 85-89 år | C167: =C157/C144*100 -> 6.7405693 | D167: =D157/D144*100 -> 12.831585 | E167: =E157/E144*100 -> 12.760689 | F167: =F157/F144*100 -> 12.565899 | G167: =G157/G144*100 -> 12.259034 | H167: =H157/H144*100 -> 11.922026 | I167: =I157/I144*100 -> 11.61542 | J167: =J157/J144*100 -> 11.218252 | ... P167: =P157/P144*100 -> 8.6692891 | R167: =P167/I167 -> 0.74636039 | S167: =R167^(1/6) -> 0.95241179 | T167: =-(1-S167)*100 -> -4.7588209 | X167: 67-74 år | Y167: =J156/J143*100 -> 5.1397985 | Z167: =K156/K143*100 -> 4.8833301 | AA167: =L156/L143*100 -> 4.7507134 | AB167: =AA167/Y167 -> 0.92429956 | AC167: =AB167^(1/2) -> 0.96140499 | AD167: =-(1-AC167)*100 -> -3.8595008
B168: 90-94 år | C168: =C158/C145*100 -> 22.401615 | D168: =D158/D145*100 -> 21.807897 | E168: =E158/E145*100 -> 21.614669 | F168: =F158/F145*100 -> 21.07777 | G168: =G158/G145*100 -> 20.632679 | H168: =H158/H145*100 -> 20.486648 | I168: =I158/I145*100 -> 20.253834 | J168: =J158/J145*100 -> 19.753021 | ... P168: =P158/P145*100 -> 15.335322 | R168: =P168/I168 -> 0.75715652 | S168: =R168^(1/6) -> 0.95469419 | T168: =-(1-S168)*100 -> -4.5305815 | X168: 75-79 år | Y168: =J157/J144*100 -> 11.218252 | Z168: =K157/K144*100 -> 10.792306 | AA168: =L157/L144*100 -> 10.389275 | AB168: =AA168/Y168 -> 0.92610464 | AC168: =AB168^(1/2) -> 0.96234331 | AD168: =-(1-AC168)*100 -> -3.7656693
B169: 95+ år | C169: =C159/C146*100 -> 117.80918 | D169: =D159/D146*100 -> 38.174321 | E169: =E159/E146*100 -> 37.793972 | F169: =F159/F146*100 -> 37.192475 | G169: =G159/G146*100 -> 36.470472 | H169: =H159/H146*100 -> 36.730023 | I169: =I159/I146*100 -> 36.133704 | J169: =J159/J146*100 -> 35.518278 | ... P169: =P159/P146*100 -> 23.950899 | R169: =P169/I169 -> 0.66284097 | S169: =R169^(1/6) -> 0.93375919 | T169: =-(1-S169)*100 -> -6.6240806 | X169: 80-84 år | Y169: =J158/J145*100 -> 19.753021 | Z169: =K158/K145*100 -> 18.896172 | AA169: =L158/L145*100 -> 18.082314 | AB169: =AA169/Y169 -> 0.91542016 | AC169: =AB169^(1/2) -> 0.95677592 | AD169: =-(1-AC169)*100 -> -4.322408
O170: =O160/O147*100 -> #DIV/0! | P170: =P160/P147*100 -> #DIV/0! | R170: =P170/I170 -> #DIV/0! | S170: =R170^(1/6) -> #DIV/0! | X170: 85-89 år | Y170: =J159/J146*100 -> 35.518278 | Z170: =K159/K146*100 -> 34.431166 | AA170: =L159/L146*100 -> 34.473709 | AB170: =AA170/Y170 -> 0.97059066 | AC170: =AB170^(1/2) -> 0.9851856 | AD170: =-(1-AC170)*100 -> -1.4814402
B171: alle | C171: =C161/C148*100 -> 0.75060069 | D171: =D161/D148*100 -> 0.74963046 | E171: =E161/E148*100 -> 0.76100138 | F171: =F161/F148*100 -> 0.74909128 | G171: =G161/G148*100 -> 0.73932005 | H171: =H161/H148*100 -> 0.73266102 | I171: =I161/I148*100 -> 0.73159312 | J171: =J161/J148*100 -> 1.3887337 | ... P171: =P161/P148*100 -> 0.66851412 | R171: =P171/I171 -> 0.91377858 | S171: =R171^(1/6) -> 0.98508452 | T171: =-(1-S171)*100 -> -1.4915478 | X171: Over 90 år | Y171: =J160/J148*100 -> 0.69436685 | Z171: =K160/K148*100 -> 0.68825199 | AA171: =L160/L148*100 -> 0.68456531 | AB171: =M160/M148*100 -> 0.67994709 | AC171: =N160/N148*100 -> 0.67557927 | AD171: =O160/O148*100 -> 0.6714276
X172: alle | Y172: =J161/J148*100 -> 1.3887337 | Z172: =K161/K148*100 -> 1.376504 | AA172: =L161/L148*100 -> 1.3691306 | AB172: =AA172/Y172 -> 0.9858842 | AC172: =AB172^(1/2) -> 0.99291702 | AD172: =-(1-AC172)*100 -> -0.7082982
B173: Udregning til senarie 3: Ændring i alder på indskrevne 2018-2025 | D173: Behovsgrad efter (år)
C174: Aktuel behovsgrad | D174: =Model!O10 -> 10 | E174: Årlig ændring i procentpoint
B175: Under 60 år | C175: =Model!G10 -> 0.056810958 | D175: =C175*S163^$D$174 -> 0.063878156 | E175: =(D175-C175)/$D$174 -> 0.00070671979 | S175: (Ikke i brug) Udregning til senarie 4: Behovsgrad 2020-2022 | U175: Behovsgrad efter (år)
B176: 60-64 år | C176: =Model!G11 -> 1.951596 | D176: =C176*S164^$D$174 -> 2.2419633 | E176: =(D176-C176)/$D$174 -> 0.029036727 | T176: Aktuel behovsgrad | U176: =Model!O10 -> 10 | V176: Årlig ændring i procentpoint
B177: 65-66 år | C177: =Model!G12 -> 3.7665142 | D177: =C177*S165^$D$174 -> 3.9558314 | E177: =(D177-C177)/$D$174 -> 0.018931714 | S177: Under 60 år | T177: =Model!G10 -> 0.056810958 | U177: =T177*AC164^$U$176 -> 0.056876496 | V177: =(U177-T177)/$U$176 -> 6.5538018e-06
B178: 67-74 år | C178: =Model!G13 -> 6.3204124 | D178: =C178*S166^$D$174 -> 4.03698 | E178: =(D178-C178)/$D$174 -> -0.22834324 | S178: 60-64 år | T178: =Model!G11 -> 1.951596 | U178: =T178*AC165^$U$176 -> 2.1000586 | V178: =(U178-T178)/$U$176 -> 0.014846262
B179: 75-79 år | C179: =Model!G14 -> 12.207464 | D179: =C179*S167^$D$174 -> 7.4967508 | E179: =(D179-C179)/$D$174 -> -0.47107128 | S179: 65-66 år | T179: =Model!G12 -> 3.7665142 | U179: =T179*AC166^$U$176 -> 3.0171375 | V179: =(U179-T179)/$U$176 -> -0.074937675
B180: 80-84 år | C180: =Model!G15 -> 22.692079 | D180: =C180*S168^$D$174 -> 14.273059 | E180: =(D180-C180)/$D$174 -> -0.84190199 | S180: 67-74 år | T180: =Model!G13 -> 6.3204124 | U180: =T180*AC167^$U$176 -> 4.263921 | V180: =(U180-T180)/$U$176 -> -0.20564915
B181: 85-89 år | C181: =Model!G16 -> 33.517495 | D181: =C181*S169^$D$174 -> 16.889643 | E181: =(D181-C181)/$D$174 -> -1.6627852 | S181: 75-79 år | T181: =Model!G14 -> 12.207464 | U181: =T181*AC168^$U$176 -> 8.3162156 | V181: =(U181-T181)/$U$176 -> -0.3891248
B182: Over 90 år | C182: =Model!G17 -> 0 | D182: =C182*S170^$D$174 -> #DIV/0! | E182: =(D182-C182)/$D$174 -> #DIV/0! | S182: 80-84 år | T182: =Model!G15 -> 22.692079 | U182: =T182*AC169^$U$176 -> 14.587358 | V182: =(U182-T182)/$U$176 -> -0.81047205
S183: 85-89 år | T183: =Model!G16 -> 33.517495 | U183: =T183*AC170^$U$176 -> 28.870354 | V183: =(U183-T183)/$U$176 -> -0.46471418
S184: Over 90 år | T184: =Model!G17 -> 0 | U184: =T184*AC171^$U$176 -> 0 | V184: =(U184-T184)/$U$176 -> 0
A191: Udregning til senarie 2: Landsgennemsnit | D191: 2022
A192: Beregning af behovsgrad i udgangspunktet | C192: Indskrevne i alt
A193: Kommune | B193: Aldersgruppe | C193: Plejehjem | D193: Plejeboliger (2006-) | E193: Friplejeboliger | F193: Andre boliger for ældre | G193: Indskrevne i alt | H193: Venteliste | I193: Indskrevne i alt | J193: I befolkningen | K193: Indskrevne landgennemsnit | L193: Behovsgrad
A194: Hele landet | B194: Under 60 år | C194: =SUM(#REF!) -> #REF! | D194: =SUM(#REF!) -> #REF! | E194: =SUM(#REF!) -> #REF! | F194: =SUM(#REF!) -> #REF! | G194: =SUM(C194:F194) -> #REF! | H194: =$H$202*G194/$G$202 -> #REF! | I194: =SUM(G194:H194) -> #REF! | J194: =+SUM(#REF!) -> #REF! | K194: =G194/J194*100 -> #REF! | L194: =I194/J194*100 -> #REF!
A195: Hele landet | B195: 60-64 år | C195: =SUM(#REF!) -> #REF! | D195: =SUM(#REF!) -> #REF! | E195: =SUM(#REF!) -> #REF! | F195: =SUM(#REF!) -> #REF! | G195: =SUM(C195:F195) -> #REF! | H195: =$H$202*G195/$G$202 -> #REF! | I195: =SUM(G195:H195) -> #REF! | J195: =+SUM(#REF!) -> #REF! | K195: =G195/J195*100 -> #REF! | L195: =I195/J195*100 -> #REF!
A196: Hele landet | B196: 65-66 år | C196: =SUM(#REF!) -> #REF! | D196: =SUM(#REF!) -> #REF! | E196: =SUM(#REF!) -> #REF! | F196: =SUM(#REF!) -> #REF! | G196: =SUM(C196:F196) -> #REF! | H196: =$H$202*G196/$G$202 -> #REF! | I196: =SUM(G196:H196) -> #REF! | J196: =+SUM(#REF!) -> #REF! | K196: =G196/J196*100 -> #REF! | L196: =I196/J196*100 -> #REF!
A197: Hele landet | B197: 67-74 år | C197: =SUM(#REF!) -> #REF! | D197: =SUM(#REF!) -> #REF! | E197: =SUM(#REF!) -> #REF! | F197: =SUM(#REF!) -> #REF! | G197: =SUM(C197:F197) -> #REF! | H197: =$H$202*G197/$G$202 -> #REF! | I197: =SUM(G197:H197) -> #REF! | J197: =+SUM(#REF!) -> #REF! | K197: =G197/J197*100 -> #REF! | L197: =I197/J197*100 -> #REF!
A198: Hele landet | B198: 75-79 år | C198: =SUM(#REF!) -> #REF! | D198: =SUM(#REF!) -> #REF! | E198: =SUM(#REF!) -> #REF! | F198: =SUM(#REF!) -> #REF! | G198: =SUM(C198:F198) -> #REF! | H198: =$H$202*G198/$G$202 -> #REF! | I198: =SUM(G198:H198) -> #REF! | J198: =+SUM(#REF!) -> #REF! | K198: =G198/J198*100 -> #REF! | L198: =I198/J198*100 -> #REF!
A199: Hele landet | B199: 80-84 år | C199: =SUM(#REF!) -> #REF! | D199: =SUM(#REF!) -> #REF! | E199: =SUM(#REF!) -> #REF! | F199: =SUM(#REF!) -> #REF! | G199: =SUM(C199:F199) -> #REF! | H199: =$H$202*G199/$G$202 -> #REF! | I199: =SUM(G199:H199) -> #REF! | J199: =+SUM(#REF!) -> #REF! | K199: =G199/J199*100 -> #REF! | L199: =I199/J199*100 -> #REF!
A200: Hele landet | B200: 85-89 år | C200: =SUM(#REF!) -> #REF! | D200: =SUM(#REF!) -> #REF! | E200: =SUM(#REF!) -> #REF! | F200: =SUM(#REF!) -> #REF! | G200: =SUM(C200:F200) -> #REF! | H200: =$H$202*G200/$G$202 -> #REF! | I200: =SUM(G200:H200) -> #REF! | J200: =+SUM(#REF!) -> #REF! | K200: =G200/J200*100 -> #REF! | L200: =I200/J200*100 -> #REF!
A201: Hele landet | B201: Over 90 år | C201: =SUM(#REF!) -> #REF! | D201: =SUM(#REF!) -> #REF! | E201: =SUM(#REF!) -> #REF! | F201: =SUM(#REF!) -> #REF! | G201: =SUM(C201:F201) -> #REF! | H201: =$H$202*G201/$G$202 -> #REF! | I201: =SUM(G201:H201) -> #REF! | J201: =+SUM(#REF!) -> #REF! | K201: =G201/J201*100 -> #REF! | L201: =I201/J201*100 -> #REF!
A202: Hele landet | B202: I alt | C202: =SUM(C194:C201) -> #REF! | D202: =SUM(D194:D201) -> #REF! | E202: =SUM(E194:E201) -> #REF! | F202: =SUM(F194:F201) -> #REF! | G202: =SUM(C202:F202) -> #REF! | H202: =SUM(#REF!) -> #REF! | I202: =SUM(G202:H202) -> #REF! | J202: =SUM(J194:J201) -> #REF! | K202: =G202/J202*100 -> #REF! | L202: =I202/J202*100 -> #REF!
I203: Indskrevne ift. Befolkningen, giver netop landsgennemsnit
A205: Andel med god fysisk mobilitet blandt 60-årige eller derover
B206: 1987 | C206: 1994 | D206: 2000 | E206: 2005
A207: 60-66 år | B207: 68.4 | C207: 72.7 | D207: 79.4 | E207: 82.6
A208: 67+ år | B208: 43.7 | C208: 47.3 | D208: 56.2 | E208: 62.6
A210: Andel med dårlig fysisk mobilitet
B211: 1987 | C211: 1994 | D211: 2000 | E211: 2005 | F211: Ændring | G211: Ændring pr. år | H211: Årlig ændring i pct.
A212: 60-66 år | B212: =1-(B207/100) -> 0.316 | C212: =1-(C207/100) -> 0.273 | D212: =1-(D207/100) -> 0.206 | E212: =1-(E207/100) -> 0.174 | F212: =E212/B212 -> 0.55063291 | G212: =F212^(1/18) -> 0.96739414 | H212: =-(1-G212)*100 -> -3.2605857
A213: 67+ år | B213: =1-(B208/100) -> 0.563 | C213: =1-(C208/100) -> 0.527 | D213: =1-(D208/100) -> 0.438 | E213: =1-(E208/100) -> 0.374 | F213: =E213/B213 -> 0.6642984 | G213: =F213^(1/18) -> 0.97753269 | H213: =-(1-G213)*100 -> -2.2467311
C215: Behovsgrad efter (år)
B216: Aktuel behovsgrad | C216: =Model!O10 -> 10 | D216: Årlig ændring i procentpoint
A217: Under 60 år | B217: =Model!G10 -> 0.056810958 | C217: =B217 -> 0.056810958 | D217: =(C217-B217)/#REF! -> #REF!
A218: 60-64 år | B218: =Model!G11 -> 1.951596 | C218: =B218*$G$212^$C$216 -> 1.4009559 | D218: =(C218-B218)/#REF! -> #REF!
A219: 65-66 år | B219: =Model!G12 -> 3.7665142 | C219: =B219*$G$212^$C$216 -> 2.7037974 | D219: =(C219-B219)/#REF! -> #REF!
...

Sheet plejehjemsoversigt.dk
F3: Valgt kommune | G3: Samlet antal boliger, september 2025
F4: =Model!$D$4 -> København | G4: =IFERROR(VLOOKUP(F4,F11:H109,3,FALSE),VLOOKUP(F4&"s",F11:H109,3,FALSE)) -> 3394
A10: Plejehjemsnavn | B10: Kommune | C10: Antal boliger | D10: Antal beboere | F10: Navn | G10: Kommune | H10: Samlet antal boliger | L10: Kom | M10: Samlet antal boliger
A11: Humlehusene | B11: Albertslund Kommune | C11: 48 | D11: 48 | F11: =MID(G11,1,FIND(" ",G11)-1) -> Albertslund | G11: {=_xlfn.UNIQUE(B11:B1048576)} -> Albertslund Kommune | H11: =SUMIFS($C$11:$C$1048576,$B$11:$B$1048576,$G11) -> 165 | L11: Albertslund Kommune | M11: 165 | N11: =IF(M11=H11,"ja","nej") -> ja | O11: =M11-H11 -> 0
A12: Plejecentret Albertshøj | B12: Albertslund Kommune | C12: 117 | D12: 119 | F12: =MID(G12,1,FIND(" ",G12)-1) -> Allerød | G12: Allerød Kommune | H12: =SUMIFS($C$11:$C$1048576,$B$11:$B$1048576,$G12) -> 211 | L12: Allerød Kommune | M12: 211 | N12: =IF(M12=H12,"ja","nej") -> ja | O12: =M12-H12 -> 0
A13: Plejecenter Mimosen | B13: Allerød Kommune | C13: 24 | D13: 24 | F13: =MID(G13,1,FIND(" ",G13)-1) -> Assens | G13: Assens Kommune | H13: =SUMIFS($C$11:$C$1048576,$B$11:$B$1048576,$G13) -> 317 | L13: Assens Kommune | M13: 317 | N13: =IF(M13=H13,"ja","nej") -> ja | O13: =M13-H13 -> 0
A14: Demensplejecenter Skovvang | B14: Allerød Kommune | C14: 40 | D14: 40 | F14: =MID(G14,1,FIND(" ",G14)-1) -> Ballerup | G14: Ballerup Kommune | H14: =SUMIFS($C$11:$C$1048576,$B$11:$B$1048576,$G14) -> 305 | L14: Ballerup Kommune | M14: 304 | N14: =IF(M14=H14,"ja","nej") -> nej | O14: =M14-H14 -> -1
A15: Plejecenter Lyngehus | B15: Allerød Kommune | C15: 42 | D15: 44 | F15: =MID(G15,1,FIND(" ",G15)-1) -> Billund | G15: Billund Kommune | H15: =SUMIFS($C$11:$C$1048576,$B$11:$B$1048576,$G15) -> 227 | L15: Billund Kommune | M15: 235 | N15: =IF(M15=H15,"ja","nej") -> nej | O15: =M15-H15 -> 8
A16: Plejecenter Engholm | B16: Allerød Kommune | C16: 45 | D16: 46 | F16: =MID(G16,1,FIND(" ",G16)-1) -> Bornholms | G16: Bornholms Regionskommune | H16: =SUMIFS($C$11:$C$1048576,$B$11:$B$1048576,$G16) -> 424 | L16: Bornholms Regionskommune | M16: 424 | N16: =IF(M16=H16,"ja","nej") -> ja | O16: =M16-H16 -> 0
A17: Plejecenter Skovvang | B17: Allerød Kommune | C17: 60 | D17: 60 | F17: =MID(G17,1,FIND(" ",G17)-1) -> Brøndby | G17: Brøndby Kommune | H17: =SUMIFS($C$11:$C$1048576,$B$11:$B$1048576,$G17) -> 257 | L17: Brøndby Kommune | M17: 251 | N17: =IF(M17=H17,"ja","nej") -> nej | O17: =M17-H17 -> -6
A18: Bofællesskabet Skelvej | B18: Assens Kommune | C18: 21 | D18: 21 | F18: =MID(G18,1,FIND(" ",G18)-1) -> Brønderslev | G18: Brønderslev Kommune | H18: =SUMIFS($C$11:$C$1048576,$B$11:$B$1048576,$G18) -> 365 | L18: Brønderslev Kommune | M18: 366 | N18: =IF(M18=H18,"ja","nej") -> nej | O18: =M18-H18 -> 1
A19: Bofællesskabet Odensevej | B19: Assens Kommune | C19: 24 | D19: 24 | F19: =MID(G19,1,FIND(" ",G19)-1) -> Dragør | G19: Dragør Kommune | H19: =SUMIFS($C$11:$C$1048576,$B$11:$B$1048576,$G19) -> 99 | L19: Dragør Kommune | M19: 109 | N19: =IF(M19=H19,"ja","nej") -> nej | O19: =M19-H19 -> 10
A20: De Gamles Hjem | B20: Assens Kommune | C20: 25 | D20: 25 | F20: =MID(G20,1,FIND(" ",G20)-1) -> Egedal | G20: Egedal Kommune | H20: =SUMIFS($C$11:$C$1048576,$B$11:$B$1048576,$G20) -> 239 | L20: Egedal Kommune | M20: 239 | N20: =IF(M20=H20,"ja","nej") -> ja | O20: =M20-H20 -> 0
A21: Flemløse Plejehjem | B21: Assens Kommune | C21: 27 | D21: 27 | F21: =MID(G21,1,FIND(" ",G21)-1) -> Esbjerg | G21: Esbjerg Kommune | H21: =SUMIFS($C$11:$C$1048576,$B$11:$B$1048576,$G21) -> 950 | L21: Esbjerg Kommune | M21: 941 | N21: =IF(M21=H21,"ja","nej") -> nej | O21: =M21-H21 -> -9
A22: Strandgården | B22: Assens Kommune | C22: 31 | D22: 31 | F22: =MID(G22,1,FIND(" ",G22)-1) -> Fanø | G22: Fanø Kommune | H22: =SUMIFS($C$11:$C$1048576,$B$11:$B$1048576,$G22) -> 36 | L22: Fanø Kommune | M22: 36 | N22: =IF(M22=H22,"ja","nej") -> ja | O22: =M22-H22 -> 0
A23: Bofællesskabet Korsvang | B23: Assens Kommune | C23: 34 | D23: 36 | F23: =MID(G23,1,FIND(" ",G23)-1) -> Favrskov | G23: Favrskov Kommune | H23: =SUMIFS($C$11:$C$1048576,$B$11:$B$1048576,$G23) -> 312 | L23: Favrskov Kommune | M23: 312 | N23: =IF(M23=H23,"ja","nej") -> ja | O23: =M23-H23 -> 0
... A108: Pleje- og Aktivitetscenter Øresundshjemmet | B108: Fredensborg Kommune | C108: 48 | D108: 48 | F108: =MID(G108,1,FIND(" ",G108)-1) -> Aarhus | G108: Aarhus Kommune | H108: =SUMIFS($C$11:$C$1048576,$B$11:$B$1048576,$G108) -> 3007 | L108: Aarhus Kommune | M108: 2462 | N108: =IF(M108=H108,"ja","nej") -> nej | O108: =M108-H108 -> -545
A109: Pleje- og Aktivitetscenter Benediktehjemmet | B109: Fredensborg Kommune | C109: 56 | D109: 56 | F109: =MID(G109,1,FIND(" ",G109)-1) -> #VALUE! | G109: 0 | H109: =SUMIFS($C$11:$C$1048576,$B$11:$B$1048576,$G109) -> 0
A110: Pleje- og Aktivitetscenter Lystholm | B110: Fredensborg Kommune | C110: 64 | D110: 68 | H110: =SUM(H11:H109) -> 45221
A111: Distrikt - Madsbyhus | B111: Fredericia Kommune | C111: 14 | D111: 14
A112: Distrikt - Rosenlunden | B112: Fredericia Kommune | C112: 23 | D112: 23
A113: Distrikt - Stævnhøj Plejecenter | B113: Fredericia Kommune | C113: 36 | D113: 36
A114: Distrikt - Øster Elkjær Demens | B114: Fredericia Kommune | C114: 43 | D114: 43
A115: Distrikt - Ulleruphus | B115: Fredericia Kommune | C115: 45 | D115: 45
A116: Distrikt 12, 13 og 14 Hybyhus pleje, leve-bo og special afdelinger | B116: Fredericia Kommune | C116: 84 | D116: 86
A117: Othello Plejecenter | B117: Fredericia Kommune | C117: 119 | D117: 119
A118: Flintholm Plejeboliger | B118: Frederiksberg Kommune | C118: 50 | D118: 50
A119: OK Prinsesse Benedikte | B119: Frederiksberg Kommune | C119: 56 | D119: 56
A120: OK-Fonden Lotte | B120: Frederiksberg Kommune | C120: 60 | D120: 60
A121: Betaniahjemmet | B121: Frederiksberg Kommune | C121: 60 | D121: 60
A122: Kastanjehaven | B122: Frederiksberg Kommune | C122: 60 | D122: 68
... A138: Søparken - LeveBo | B138: Frederikshavn Kommune | C138: 60 | D138: 60
A139: Caspershus | B139: Frederikshavn Kommune | C139: 60
A140: Plejecenter Rosengården | B140: Frederikshavn Kommune | C140: 64 | D140: 64
A141: Sæby Ældrecenter | B141: Frederikshavn Kommune | C141: 74 | D141: 74
A142: Omsorgscenter Tolleruphøj | B142: Frederikssund Kommune | C142: 31 | D142: 33
A143: Omsorgscenter Solgården | B143: Frederikssund Kommune | C143: 46 | D143: 46
A144: Omsorgscenter De Tre Ege | B144: Frederikssund Kommune | C144: 48 | D144: 48
A145: Omsorgscenter Nordhøj | B145: Frederikssund Kommune | C145: 50 | D145: 50
A146: Attendo Lærkevej | B146: Frederikssund Kommune | C146: 72 | D146: 72
A147: Omsorgscenter Pedershave | B147: Frederikssund Kommune | C147: 96 | D147: 96
A148: Plejehjemmet Solbjerghaven | B148: Furesø Kommune | C148: 20 | D148: 20
A149: Plejehjemmet Svanepunktet | B149: Furesø Kommune | C149: 35 | D149: 35
A150: Ryetbo Plejehjem selvejende inst. | B150: Furesø Kommune | C150: 108 | D150: 109
A151: Plejehjemmet Lillevang | B151: Furesø Kommune | C151: 151 | D151: 151
... A241: Lille Birkholm Center | B241: Herlev Kommune | C241: 53 | D241: 53
A242: Plejehjemmet Hjortespring | B242: Herlev Kommune | C242: 158
A243: Kastaniegården Plejecenter | B243: Herning Kommune | C243: 16 | D243: 16
A244: HS Bofællesskabet | B244: Herning Kommune | C244: 18 | D244: 18
A245: Sørvad Plejehjem | B245: Herning Kommune | C245: 20 | D245: 20
A246: Rosenlund Plejecenter | B246: Herning Kommune | C246: 25 | D246: 20
A247: Ørnhøj Friplejehjem | B247: Herning Kommune | C247: 31 | D247: 29
A248: Sandfeldgården | B248: Herning Kommune | C248: 31 | D248: 31
A249: Plejecenter Engholmcentret | B249: Herning Kommune | C249: 33 | D249: 33
A250: Højbo Friplejehjem | B250: Herning Kommune | C250: 36 | D250: 36
A251: Toftebo Plejecenter | B251: Herning Kommune | C251: 48 | D251: 48
A252: Plejehjemmet Kildehøj | B252: Herning Kommune | C252: 48 | D252: 48
A253: Søglimt Plejecenter | B253: Herning Kommune | C253: 50 | D253: 48
A254: Plejecentret Birketoft | B254: Herning Kommune | C254: 51 | D254: 61
... A378: Plejehjemmet Bertram Knudsens Have | B378: Kolding Kommune | C378: 90 | D378: 96
A379: Aalholmhjemmet | B379: Københavns Kommune | C379: 32
A380: Højdevang Sogns Plejehjem | B380: Københavns Kommune | C380: 33
A381: Plejehjemmet Damsøgaard | B381: Københavns Kommune | C381: 36
A382: Rundskuedagens Plejecenter | B382: Københavns Kommune | C382: 37
A383: Louise Mariehjemmet | B383: Københavns Kommune | C383: 39 | D383: 39
A384: Skjulhøjgård | B384: Københavns Kommune | C384: 40
A385: Bryggergården | B385: Københavns Kommune | C385: 40
A386: Deborah Centret | B386: Københavns Kommune | C386: 40
A387: Plejecentret Aftensol | B387: Københavns Kommune | C387: 43
A388: Valby Friplejehjem | B388: Københavns Kommune | C388: 48 | D388: 48
A389: Absalonhus | B389: Københavns Kommune | C389: 48
A390: Plejecentret Kærbo | B390: Københavns Kommune | C390: 53
A391: Nybodergården | B391: Københavns Kommune | C391: 54
A392: Ryholtgård | B392: Københavns Kommune | C392: 55
A393: Tingbjerghjemmet | B393: Københavns Kommune | C393: 55
A394: Huset William | B394: Københavns Kommune | C394: 56
A395: Plejecentret Bonderupgård | B395: Københavns Kommune | C395: 58
A396: Lindehusene | B396: Københavns Kommune | C396: 59
A397: Grønttorvets Friplejehjem | B397: Københavns Kommune | C397: 66 | D397: 68
A398: Verdishave | B398: Københavns Kommune | C398: 70
A399: Langgadehus | B399: Københavns Kommune | C399: 72
A400: Johannesgården | B400: Københavns Kommune | C400: 74
A401: Møllehuset | B401: Københavns Kommune | C401: 79
A402: Bomi-Parken | B402: Københavns Kommune | C402: 81
A403: Plejecenter Rosenborgcentret | B403: Københavns Kommune | C403: 84
A404: Klostergårdens Plejehjem | B404: Københavns Kommune | C404: 89
A405: Bispebjerghjemmet | B405: Københavns Kommune | C405: 90
A406: Kastanjehusene | B406: Københavns Kommune | C406: 91
A407: Solgaven Valby | B407: Københavns Kommune | C407: 93
A408: Plejecenter Klarahus | B408: Københavns Kommune | C408: 111
A409: Slottet | B409: Københavns Kommune | C409: 111
... A411: Plejecentret Egebo | B411: Københavns Kommune | C411: 117
A412: Eilersminde | B412: Københavns Kommune | C412: 120 | G412: 3394
A413: Demenscentret Pilehuset | B413: Københavns Kommune | C413: 124
A414: Dronning Ingrids Hjem | B414: Københavns Kommune | C414: 136
A415: Peder Lykke Centret | B415: Københavns Kommune | C415: 148
A416: Plejecenter Sølund | B416: Københavns Kommune | C416: 150
A417: Håndværkerforeningens Plejehjem | B417: Københavns Kommune | C417: 165
A418: Plejecentret Hørgården | B418: Københavns Kommune | C418: 190
A419: Fælledgården | B419: Københavns Kommune | C419: 193 | F419: 0
...

Sheet Beregning 2026
A1: Beregninger
A2: 2026 | B2: Opdateret 11-08-2026
A3: Scenarier:
A4: Jeg har indtastet venteliste efter aldersgruppe
A5: Jeg har indtastet venteliste i alt
A7: Valgt scenarie: | B7: =IF(Model!D19=A5,2,1) -> 2
A9: Under 70 år | B9: =IF($B$7=1,Model!D10,IF($B$7=2,M22,"")) -> 0
A10: 70-74 år | B10: =IF($B$7=1,Model!D11,IF($B$7=2,M23,"")) -> 0
A11: 75-79 år | B11: =IF($B$7=1,Model!D12,IF($B$7=2,M24,"")) -> 0
A12: 80-84 år | B12: =IF($B$7=1,Model!D13,IF($B$7=2,M25,"")) -> 0
A13: 85-89 år | B13: =IF($B$7=1,Model!D14,IF($B$7=2,M26,"")) -> 0
A14: 90-95 år | B14: =IF($B$7=1,Model!D15,IF($B$7=2,M27,"")) -> 0
A15: 95+ år | B15: =IF($B$7=1,Model!D16,IF($B$7=2,M28,"")) -> 0
A17: I alt | B17: =IF($B$7=1,SUM(B9:B16),IF($B$7=2,M30,IF($B$7=3,0,""))) -> 0
A19: Gennemsnitligt antal år med behov | B19: =Model!$F$45/12 -> 2.75 | C19: Statistikbanken laver ikke længere opgørelser over antal i diverse boliger - fra 2023 er det derfor lavet på baggrund af registerdata på indskrevne. Derfor findes der kun en i alt kategori.
A20: =+CONCATENATE("Beregning af behovsgrad primo"," ",A2) -> Beregning af behovsgrad primo 2026 | C20: 34 | E20: 0 | F20: 0
A21: Kommune | B21: Aldersgruppe | C21: I alt | E21: Plejeboliger | F21: Friplejeboliger | G21: Indskrevne i alt | H21: Venteliste (alt efter valg af scenarie) | I21: Behov i alt | J21: I befolkningen | K21: Beboergrad | L21: Behovsgrad | M21: Venteliste (beregnet)
A22: =Model!$D$4 -> København | B22: Under 70 år | C22: =VLOOKUP($A22,'Indskrevne plejebolig dec 2025'!$B$7:$I$104,COUNTA($B$22:B22)+1,FALSE) -> 353 | E22: 0 | F22: 0 | G22: =C22 -> 353 | H22: =B9 -> 0 | I22: =G22+H22 -> 353 | J22: =C34 -> 621359 | K22: =G22/J22*100 -> 0.056810958 | L22: =+I22/J22*100 -> 0.056810958 | M22: =+$M$30*G22/$G$30 -> 0
A23: =Model!$D$4 -> København | B23: 70-74 år | C23: =VLOOKUP($A23,'Indskrevne plejebolig dec 2025'!$B$7:$I$104,COUNTA($B$22:B23)+1,FALSE) -> 354 | E23: 0 | F23: 0 | G23: =C23 -> 354 | H23: =B10 -> 0 | I23: =G23+H23 -> 354 | J23: =C35 -> 18139 | K23: =G23/J23*100 -> 1.951596 | L23: =+I23/J23*100 -> 1.951596 | M23: =+$M$30*G23/$G$30 -> 0
A24: =Model!$D$4 -> København | B24: 75-79 år | C24: =VLOOKUP($A24,'Indskrevne plejebolig dec 2025'!$B$7:$I$104,COUNTA($B$22:B24)+1,FALSE) -> 593 | E24: 0 | F24: 0 | G24: =C24 -> 593 | H24: =B11 -> 0 | I24: =G24+H24 -> 593 | J24: =C36 -> 15744 | K24: =G24/J24*100 -> 3.7665142 | L24: =+I24/J24*100 -> 3.7665142 | M24: =+$M$30*G24/$G$30 -> 0
A25: =Model!$D$4 -> København | B25: 80-84 år | C25: =VLOOKUP($A25,'Indskrevne plejebolig dec 2025'!$B$7:$I$104,COUNTA($B$22:B25)+1,FALSE) -> 662 | E25: 0 | F25: 0 | G25: =C25 -> 662 | H25: =B12 -> 0 | I25: =G25+H25 -> 662 | J25: =C37 -> 10474 | K25: =G25/J25*100 -> 6.3204124 | L25: =+I25/J25*100 -> 6.3204124 | M25: =+$M$30*G25/$G$30 -> 0
A26: =Model!$D$4 -> København | B26: 85-89 år | C26: =VLOOKUP($A26,'Indskrevne plejebolig dec 2025'!$B$7:$I$104,COUNTA($B$22:B26)+1,FALSE) -> 579 | E26: 0 | F26: 0 | G26: =C26 -> 579 | H26: =B13 -> 0 | I26: =G26+H26 -> 579 | J26: =C38 -> 4743 | K26: =G26/J26*100 -> 12.207464 | L26: =+I26/J26*100 -> 12.207464 | M26: =+$M$30*G26/$G$30 -> 0
A27: =Model!$D$4 -> København | B27: 90-94 år | C27: =VLOOKUP($A27,'Indskrevne plejebolig dec 2025'!$B$7:$I$104,COUNTA($B$22:B27)+1,FALSE) -> 381 | E27: 0 | F27: 0 | G27: =C27 -> 381 | H27: =B14 -> 0 | I27: =G27+H27 -> 381 | J27: =C39 -> 1679 | K27: =G27/J27*100 -> 22.692079 | L27: =+I27/J27*100 -> 22.692079 | M27: =+$M$30*G27/$G$30 -> 0
A28: =Model!$D$4 -> København | B28: 95+ år | C28: =VLOOKUP($A28,'Indskrevne plejebolig dec 2025'!$B$7:$I$104,COUNTA($B$22:B28)+1,FALSE) -> 182 | E28: 0 | F28: 0 | G28: =C28 -> 182 | H28: =B15 -> 0 | I28: =G28+H28 -> 182 | J28: =C40 -> 543 | K28: =G28/J28*100 -> 33.517495 | L28: =+I28/J28*100 -> 33.517495 | M28: =+$M$30*G28/$G$30 -> 0
A30: =Model!$D$4 -> København | B30: I alt | C30: =SUM(C22:C29) -> 3104 | E30: =SUM(E22:E29) -> 0 | F30: =SUM(F22:F29) -> 0 | G30: =C30 -> 3104 | H30: =B17 -> 0 | I30: =G30+H30 -> 3104 | J30: =C42 -> 672681 | K30: =G30/J30*100 -> 0.46143714 | L30: =+I30/J30*100 -> 0.46143714 | M30: =Model!D18 -> 0
A32: Befolkningsfremskrivning (Fra Befolkningsfremskrivning og dermed ny - Befolkningsfremskriv)
A33: Kommune | B33: Aldersgruppe | C33: 2026 | E33: =C33+1 -> 2027 | F33: =E33+1 -> 2028 | G33: =F33+1 -> 2029 | H33: =G33+1 -> 2030 | I33: =H33+1 -> 2031 | J33: =I33+1 -> 2032 | K33: =J33+1 -> 2033 | L33: =K33+1 -> 2034 | M33: =L33+1 -> 2035 | ... AA33: =Z33+1 -> 2049 | AB33: 2050
A34: =Model!$D$4 -> København | B34: Under 70 år | C34: =VLOOKUP($A34&$B34,Befolkningsfremskrivning!$A$4:$AC$795,C$33-2021,FALSE) -> 621359 | E34: =VLOOKUP($A34&$B34,Befolkningsfremskrivning!$A$4:$AC$795,E$33-2021,FALSE) -> 619010 | F34: =VLOOKUP($A34&$B34,Befolkningsfremskrivning!$A$4:$AC$795,F$33-2021,FALSE) -> 621682 | G34: =VLOOKUP($A34&$B34,Befolkningsfremskrivning!$A$4:$AC$795,G$33-2021,FALSE) -> 624128 | H34: =VLOOKUP($A34&$B34,Befolkningsfremskrivning!$A$4:$AC$795,H$33-2021,FALSE) -> 626371 | I34: =VLOOKUP($A34&$B34,Befolkningsfremskrivning!$A$4:$AC$795,I$33-2021,FALSE) -> 628197 | J34: =VLOOKUP($A34&$B34,Befolkningsfremskrivning!$A$4:$AC$795,J$33-2021,FALSE) -> 629624 | K34: =VLOOKUP($A34&$B34,Befolkningsfremskrivning!$A$4:$AC$795,K$33-2021,FALSE) -> 630617 | L34: =VLOOKUP($A34&$B34,Befolkningsfremskrivning!$A$4:$AC$795,L$33-2021,FALSE) -> 630813 | ... AB34: =VLOOKUP($A34&$B34,Befolkningsfremskrivning!$A$4:$AC$795,AB$33-2021,FALSE) -> 622156
A35: =Model!$D$4 -> København | B35: 70-74 år | C35: =VLOOKUP($A35&$B35,Befolkningsfremskrivning!$A$4:$AC$795,C$33-2021,FALSE) -> 18139 | E35: =VLOOKUP($A35&$B35,Befolkningsfremskrivning!$A$4:$AC$795,E$33-2021,FALSE) -> 18385 | F35: =VLOOKUP($A35&$B35,Befolkningsfremskrivning!$A$4:$AC$795,F$33-2021,FALSE) -> 18624 | G35: =VLOOKUP($A35&$B35,Befolkningsfremskrivning!$A$4:$AC$795,G$33-2021,FALSE) -> 18887 | H35: =VLOOKUP($A35&$B35,Befolkningsfremskrivning!$A$4:$AC$795,H$33-2021,FALSE) -> 19286 | I35: =VLOOKUP($A35&$B35,Befolkningsfremskrivning!$A$4:$AC$795,I$33-2021,FALSE) -> 19799 | J35: =VLOOKUP($A35&$B35,Befolkningsfremskrivning!$A$4:$AC$795,J$33-2021,FALSE) -> 20327 | K35: =VLOOKUP($A35&$B35,Befolkningsfremskrivning!$A$4:$AC$795,K$33-2021,FALSE) -> 20993 | L35: =VLOOKUP($A35&$B35,Befolkningsfremskrivning!$A$4:$AC$795,L$33-2021,FALSE) -> 21971 | ... AB35: =VLOOKUP($A35&$B35,Befolkningsfremskrivning!$A$4:$AC$795,AB$33-2021,FALSE) -> 26367
A36: =Model!$D$4 -> København | B36: 75-79 år | C36: =VLOOKUP($A36&$B36,Befolkningsfremskrivning!$A$4:$AC$795,C$33-2021,FALSE) -> 15744 | E36: =VLOOKUP($A36&$B36,Befolkningsfremskrivning!$A$4:$AC$795,E$33-2021,FALSE) -> 15460 | F36: =VLOOKUP($A36&$B36,Befolkningsfremskrivning!$A$4:$AC$795,F$33-2021,FALSE) -> 15179 | G36: =VLOOKUP($A36&$B36,Befolkningsfremskrivning!$A$4:$AC$795,G$33-2021,FALSE) -> 15179 | H36: =VLOOKUP($A36&$B36,Befolkningsfremskrivning!$A$4:$AC$795,H$33-2021,FALSE) -> 15346 | I36: =VLOOKUP($A36&$B36,Befolkningsfremskrivning!$A$4:$AC$795,I$33-2021,FALSE) -> 15442 | J36: =VLOOKUP($A36&$B36,Befolkningsfremskrivning!$A$4:$AC$795,J$33-2021,FALSE) -> 15757 | K36: =VLOOKUP($A36&$B36,Befolkningsfremskrivning!$A$4:$AC$795,K$33-2021,FALSE) -> 15998 | L36: =VLOOKUP($A36&$B36,Befolkningsfremskrivning!$A$4:$AC$795,L$33-2021,FALSE) -> 16268 | ... AB36: =VLOOKUP($A36&$B36,Befolkningsfremskrivning!$A$4:$AC$795,AB$33-2021,FALSE) -> 23952
A37: =Model!$D$4 -> København | B37: 80-84 år | C37: =VLOOKUP($A37&$B37,Befolkningsfremskrivning!$A$4:$AC$795,C$33-2021,FALSE) -> 10474 | E37: =VLOOKUP($A37&$B37,Befolkningsfremskrivning!$A$4:$AC$795,E$33-2021,FALSE) -> 11330 | F37: =VLOOKUP($A37&$B37,Befolkningsfremskrivning!$A$4:$AC$795,F$33-2021,FALSE) -> 11965 | G37: =VLOOKUP($A37&$B37,Befolkningsfremskrivning!$A$4:$AC$795,G$33-2021,FALSE) -> 12272 | H37: =VLOOKUP($A37&$B37,Befolkningsfremskrivning!$A$4:$AC$795,H$33-2021,FALSE) -> 12254 | I37: =VLOOKUP($A37&$B37,Befolkningsfremskrivning!$A$4:$AC$795,I$33-2021,FALSE) -> 12250 | J37: =VLOOKUP($A37&$B37,Befolkningsfremskrivning!$A$4:$AC$795,J$33-2021,FALSE) -> 12088 | K37: =VLOOKUP($A37&$B37,Befolkningsfremskrivning!$A$4:$AC$795,K$33-2021,FALSE) -> 11925 | L37: =VLOOKUP($A37&$B37,Befolkningsfremskrivning!$A$4:$AC$795,L$33-2021,FALSE) -> 11977 | ... AB37: =VLOOKUP($A37&$B37,Befolkningsfremskrivning!$A$4:$AC$795,AB$33-2021,FALSE) -> 18791
A38: =Model!$D$4 -> København | B38: 85-89 år | C38: =VLOOKUP($A38&$B38,Befolkningsfremskrivning!$A$4:$AC$795,C$33-2021,FALSE) -> 4743 | E38: =VLOOKUP($A38&$B38,Befolkningsfremskrivning!$A$4:$AC$795,E$33-2021,FALSE) -> 4971 | F38: =VLOOKUP($A38&$B38,Befolkningsfremskrivning!$A$4:$AC$795,F$33-2021,FALSE) -> 5424 | G38: =VLOOKUP($A38&$B38,Befolkningsfremskrivning!$A$4:$AC$795,G$33-2021,FALSE) -> 5913 | H38: =VLOOKUP($A38&$B38,Befolkningsfremskrivning!$A$4:$AC$795,H$33-2021,FALSE) -> 6399 | I38: =VLOOKUP($A38&$B38,Befolkningsfremskrivning!$A$4:$AC$795,I$33-2021,FALSE) -> 6961 | J38: =VLOOKUP($A38&$B38,Befolkningsfremskrivning!$A$4:$AC$795,J$33-2021,FALSE) -> 7548 | K38: =VLOOKUP($A38&$B38,Befolkningsfremskrivning!$A$4:$AC$795,K$33-2021,FALSE) -> 7988 | L38: =VLOOKUP($A38&$B38,Befolkningsfremskrivning!$A$4:$AC$795,L$33-2021,FALSE) -> 8203 | ... AB38: =VLOOKUP($A38&$B38,Befolkningsfremskrivning!$A$4:$AC$795,AB$33-2021,FALSE) -> 11619
A39: =Model!$D$4 -> København | B39: 90-94 år | C39: =VLOOKUP($A39&$B39,Befolkningsfremskrivning!$A$4:$AC$795,C$33-2021,FALSE) -> 1679 | E39: =VLOOKUP($A39&$B39,Befolkningsfremskrivning!$A$4:$AC$795,E$33-2021,FALSE) -> 1752 | F39: =VLOOKUP($A39&$B39,Befolkningsfremskrivning!$A$4:$AC$795,F$33-2021,FALSE) -> 1822 | G39: =VLOOKUP($A39&$B39,Befolkningsfremskrivning!$A$4:$AC$795,G$33-2021,FALSE) -> 1969 | H39: =VLOOKUP($A39&$B39,Befolkningsfremskrivning!$A$4:$AC$795,H$33-2021,FALSE) -> 2140 | I39: =VLOOKUP($A39&$B39,Befolkningsfremskrivning!$A$4:$AC$795,I$33-2021,FALSE) -> 2296 | J39: =VLOOKUP($A39&$B39,Befolkningsfremskrivning!$A$4:$AC$795,J$33-2021,FALSE) -> 2419 | K39: =VLOOKUP($A39&$B39,Befolkningsfremskrivning!$A$4:$AC$795,K$33-2021,FALSE) -> 2654 | L39: =VLOOKUP($A39&$B39,Befolkningsfremskrivning!$A$4:$AC$795,L$33-2021,FALSE) -> 2916 | ... AB39: =VLOOKUP($A39&$B39,Befolkningsfremskrivning!$A$4:$AC$795,AB$33-2021,FALSE) -> 4913
A40: =Model!$D$4 -> København | B40: 95+ år | C40: =VLOOKUP($A40&$B40,Befolkningsfremskrivning!$A$4:$AC$795,C$33-2021,FALSE) -> 543 | E40: =VLOOKUP($A40&$B40,Befolkningsfremskrivning!$A$4:$AC$795,E$33-2021,FALSE) -> 526 | F40: =VLOOKUP($A40&$B40,Befolkningsfremskrivning!$A$4:$AC$795,F$33-2021,FALSE) -> 528 | G40: =VLOOKUP($A40&$B40,Befolkningsfremskrivning!$A$4:$AC$795,G$33-2021,FALSE) -> 525 | H40: =VLOOKUP($A40&$B40,Befolkningsfremskrivning!$A$4:$AC$795,H$33-2021,FALSE) -> 516 | I40: =VLOOKUP($A40&$B40,Befolkningsfremskrivning!$A$4:$AC$795,I$33-2021,FALSE) -> 536 | J40: =VLOOKUP($A40&$B40,Befolkningsfremskrivning!$A$4:$AC$795,J$33-2021,FALSE) -> 564 | K40: =VLOOKUP($A40&$B40,Befolkningsfremskrivning!$A$4:$AC$795,K$33-2021,FALSE) -> 594 | L40: =VLOOKUP($A40&$B40,Befolkningsfremskrivning!$A$4:$AC$795,L$33-2021,FALSE) -> 647 | ... AB40: =VLOOKUP($A40&$B40,Befolkningsfremskrivning!$A$4:$AC$795,AB$33-2021,FALSE) -> 1573
A42: =Model!$D$4 -> København | B42: I alt | C42: =SUM(C34:C41) -> 672681 | E42: =SUM(E34:E41) -> 671434 | F42: =SUM(F34:F41) -> 675224 | G42: =SUM(G34:G41) -> 678873 | H42: =SUM(H34:H41) -> 682312 | I42: =SUM(I34:I41) -> 685481 | J42: =SUM(J34:J41) -> 688327 | K42: =SUM(K34:K41) -> 690769 | L42: =SUM(L34:L41) -> 692795 | ... AB42: =SUM(AB34:AB41) -> 709371
U43: 31894 | V43: 31941 | W43: 31983 | X43: 32013 | Y43: 32035 | Z43: 32048 | AA43: 32056
A44: Fremskrivning af behovsgrader
A45: Kommune | B45: Aldersgruppe | C45: =C33 -> 2026 | E45: =C45+1 -> 2027 | F45: =E45+1 -> 2028 | G45: =F45+1 -> 2029 | H45: =G45+1 -> 2030 | I45: =H45+1 -> 2031 | J45: =I45+1 -> 2032 | K45: =J45+1 -> 2033 | L45: =K45+1 -> 2034 | M45: =L45+1 -> 2035 | ... AA45: =Z45+1 -> 2049
A46: =Model!$D$4 -> København | B46: Under 70 år | C46: =L22 -> 0.056810958 | E46: =MIN(MAX(0,C46+IF(E$45-$C$45<=Model!$O$10,IF(AND(ISNUMBER(Model!$M10),ISNUMBER(Model!$O$10)),(Model!$M10-Model!$G10)/Model!$O$10),0)),100) -> 0.057517678 | F46: =MIN(MAX(0,E46+IF(F$45-$C$45<=Model!$O$10,IF(AND(ISNUMBER(Model!$M10),ISNUMBER(Model!$O$10)),(Model!$M10-Model!$G10)/Model!$O$10),0)),100) -> 0.058224398 | G46: =MIN(MAX(0,F46+IF(G$45-$C$45<=Model!$O$10,IF(AND(ISNUMBER(Model!$M10),ISNUMBER(Model!$O$10)),(Model!$M10-Model!$G10)/Model!$O$10),0)),100) -> 0.058931117 | H46: =MIN(MAX(0,G46+IF(H$45-$C$45<=Model!$O$10,IF(AND(ISNUMBER(Model!$M10),ISNUMBER(Model!$O$10)),(Model!$M10-Model!$G10)/Model!$O$10),0)),100) -> 0.059637837 | I46: =MIN(MAX(0,H46+IF(I$45-$C$45<=Model!$O$10,IF(AND(ISNUMBER(Model!$M10),ISNUMBER(Model!$O$10)),(Model!$M10-Model!$G10)/Model!$O$10),0)),100) -> 0.060344557 | J46: =MIN(MAX(0,I46+IF(J$45-$C$45<=Model!$O$10,IF(AND(ISNUMBER(Model!$M10),ISNUMBER(Model!$O$10)),(Model!$M10-Model!$G10)/Model!$O$10),0)),100) -> 0.061051277 | K46: =MIN(MAX(0,J46+IF(K$45-$C$45<=Model!$O$10,IF(AND(ISNUMBER(Model!$M10),ISNUMBER(Model!$O$10)),(Model!$M10-Model!$G10)/Model!$O$10),0)),100) -> 0.061757996 | L46: =MIN(MAX(0,K46+IF(L$45-$C$45<=Model!$O$10,IF(AND(ISNUMBER(Model!$M10),ISNUMBER(Model!$O$10)),(Model!$M10-Model!$G10)/Model!$O$10),0)),100) -> 0.062464716 | M46: =MIN(MAX(0,L46+IF(M$45-$C$45<=Model!$O$10,IF(AND(ISNUMBER(Model!$M10),ISNUMBER(Model!$O$10)),(Model!$M10-Model!$G10)/Model!$O$10),0)),100) -> 0.063171436 | ... AA46: =MIN(MAX(0,Z46+IF(AA$45-$C$45<=Model!$O$10,IF(AND(ISNUMBER(Model!$M10),ISNUMBER(Model!$O$10)),(Model!$M10-Model!$G10)/Model!$O$10),0)),100) -> 0.063878156
A47: =Model!$D$4 -> København | B47: 70-74 år | C47: =L23 -> 1.951596 | E47: =MIN(MAX(0,C47+IF(E$45-$C$45<=Model!$O$10,IF(AND(ISNUMBER(Model!$M11),ISNUMBER(Model!$O$10)),(Model!$M11-Model!$G11)/Model!$O$10),0)),100) -> 1.9806327 | F47: =MIN(MAX(0,E47+IF(F$45-$C$45<=Model!$O$10,IF(AND(ISNUMBER(Model!$M11),ISNUMBER(Model!$O$10)),(Model!$M11-Model!$G11)/Model!$O$10),0)),100) -> 2.0096695 | G47: =MIN(MAX(0,F47+IF(G$45-$C$45<=Model!$O$10,IF(AND(ISNUMBER(Model!$M11),ISNUMBER(Model!$O$10)),(Model!$M11-Model!$G11)/Model!$O$10),0)),100) -> 2.0387062 | H47: =MIN(MAX(0,G47+IF(H$45-$C$45<=Model!$O$10,IF(AND(ISNUMBER(Model!$M11),ISNUMBER(Model!$O$10)),(Model!$M11-Model!$G11)/Model!$O$10),0)),100) -> 2.0677429 | I47: =MIN(MAX(0,H47+IF(I$45-$C$45<=Model!$O$10,IF(AND(ISNUMBER(Model!$M11),ISNUMBER(Model!$O$10)),(Model!$M11-Model!$G11)/Model!$O$10),0)),100) -> 2.0967796 | J47: =MIN(MAX(0,I47+IF(J$45-$C$45<=Model!$O$10,IF(AND(ISNUMBER(Model!$M11),ISNUMBER(Model!$O$10)),(Model!$M11-Model!$G11)/Model!$O$10),0)),100) -> 2.1258164 | K47: =MIN(MAX(0,J47+IF(K$45-$C$45<=Model!$O$10,IF(AND(ISNUMBER(Model!$M11),ISNUMBER(Model!$O$10)),(Model!$M11-Model!$G11)/Model!$O$10),0)),100) -> 2.1548531 | L47: =MIN(MAX(0,K47+IF(L$45-$C$45<=Model!$O$10,IF(AND(ISNUMBER(Model!$M11),ISNUMBER(Model!$O$10)),(Model!$M11-Model!$G11)/Model!$O$10),0)),100) -> 2.1838898 | M47: =MIN(MAX(0,L47+IF(M$45-$C$45<=Model!$O$10,IF(AND(ISNUMBER(Model!$M11),ISNUMBER(Model!$O$10)),(Model!$M11-Model!$G11)/Model!$O$10),0)),100) -> 2.2129266 | ... AA47: =MIN(MAX(0,Z47+IF(AA$45-$C$45<=Model!$O$10,IF(AND(ISNUMBER(Model!$M11),ISNUMBER(Model!$O$10)),(Model!$M11-Model!$G11)/Model!$O$10),0)),100) -> 2.2419633
A48: =Model!$D$4 -> København | B48: 75-79 år | C48: =L24 -> 3.7665142 | E48: =MIN(MAX(0,C48+IF(E$45-$C$45<=Model!$O$10,IF(AND(ISNUMBER(Model!$M12),ISNUMBER(Model!$O$10)),(Model!$M12-Model!$G12)/Model!$O$10),0)),100) -> 3.7854459 | F48: =MIN(MAX(0,E48+IF(F$45-$C$45<=Model!$O$10,IF(AND(ISNUMBER(Model!$M12),ISNUMBER(Model!$O$10)),(Model!$M12-Model!$G12)/Model!$O$10),0)),100) -> 3.8043777 | G48: =MIN(MAX(0,F48+IF(G$45-$C$45<=Model!$O$10,IF(AND(ISNUMBER(Model!$M12),ISNUMBER(Model!$O$10)),(Model!$M12-Model!$G12)/Model!$O$10),0)),100) -> 3.8233094 | H48: =MIN(MAX(0,G48+IF(H$45-$C$45<=Model!$O$10,IF(AND(ISNUMBER(Model!$M12),ISNUMBER(Model!$O$10)),(Model!$M12-Model!$G12)/Model!$O$10),0)),100) -> 3.8422411 | I48: =MIN(MAX(0,H48+IF(I$45-$C$45<=Model!$O$10,IF(AND(ISNUMBER(Model!$M12),ISNUMBER(Model!$O$10)),(Model!$M12-Model!$G12)/Model!$O$10),0)),100) -> 3.8611728 | J48: =MIN(MAX(0,I48+IF(J$45-$C$45<=Model!$O$10,IF(AND(ISNUMBER(Model!$M12),ISNUMBER(Model!$O$10)),(Model!$M12-Model!$G12)/Model!$O$10),0)),100) -> 3.8801045 | K48: =MIN(MAX(0,J48+IF(K$45-$C$45<=Model!$O$10,IF(AND(ISNUMBER(Model!$M12),ISNUMBER(Model!$O$10)),(Model!$M12-Model!$G12)/Model!$O$10),0)),100) -> 3.8990362 | L48: =MIN(MAX(0,K48+IF(L$45-$C$45<=Model!$O$10,IF(AND(ISNUMBER(Model!$M12),ISNUMBER(Model!$O$10)),(Model!$M12-Model!$G12)/Model!$O$10),0)),100) -> 3.9179679 | M48: =MIN(MAX(0,L48+IF(M$45-$C$45<=Model!$O$10,IF(AND(ISNUMBER(Model!$M12),ISNUMBER(Model!$O$10)),(Model!$M12-Model!$G12)/Model!$O$10),0)),100) -> 3.9368997 | ... AA48: =MIN(MAX(0,Z48+IF(AA$45-$C$45<=Model!$O$10,IF(AND(ISNUMBER(Model!$M12),ISNUMBER(Model!$O$10)),(Model!$M12-Model!$G12)/Model!$O$10),0)),100) -> 3.9558314
A49: =Model!$D$4 -> København | B49: 80-84 år | C49: =L25 -> 6.3204124 | E49: =MIN(MAX(0,C49+IF(E$45-$C$45<=Model!$O$10,IF(AND(ISNUMBER(Model!$M13),ISNUMBER(Model!$O$10)),(Model!$M13-Model!$G13)/Model!$O$10),0)),100) -> 6.0920692 | F49: =MIN(MAX(0,E49+IF(F$45-$C$45<=Model!$O$10,IF(AND(ISNUMBER(Model!$M13),ISNUMBER(Model!$O$10)),(Model!$M13-Model!$G13)/Model!$O$10),0)),100) -> 5.863726 | G49: =MIN(MAX(0,F49+IF(G$45-$C$45<=Model!$O$10,IF(AND(ISNUMBER(Model!$M13),ISNUMBER(Model!$O$10)),(Model!$M13-Model!$G13)/Model!$O$10),0)),100) -> 5.6353827 | H49: =MIN(MAX(0,G49+IF(H$45-$C$45<=Model!$O$10,IF(AND(ISNUMBER(Model!$M13),ISNUMBER(Model!$O$10)),(Model!$M13-Model!$G13)/Model!$O$10),0)),100) -> 5.4070395 | I49: =MIN(MAX(0,H49+IF(I$45-$C$45<=Model!$O$10,IF(AND(ISNUMBER(Model!$M13),ISNUMBER(Model!$O$10)),(Model!$M13-Model!$G13)/Model!$O$10),0)),100) -> 5.1786962 | J49: =MIN(MAX(0,I49+IF(J$45-$C$45<=Model!$O$10,IF(AND(ISNUMBER(Model!$M13),ISNUMBER(Model!$O$10)),(Model!$M13-Model!$G13)/Model!$O$10),0)),100) -> 4.950353 | K49: =MIN(MAX(0,J49+IF(K$45-$C$45<=Model!$O$10,IF(AND(ISNUMBER(Model!$M13),ISNUMBER(Model!$O$10)),(Model!$M13-Model!$G13)/Model!$O$10),0)),100) -> 4.7220097 | L49: =MIN(MAX(0,K49+IF(L$45-$C$45<=Model!$O$10,IF(AND(ISNUMBER(Model!$M13),ISNUMBER(Model!$O$10)),(Model!$M13-Model!$G13)/Model!$O$10),0)),100) -> 4.4936665 | M49: =MIN(MAX(0,L49+IF(M$45-$C$45<=Model!$O$10,IF(AND(ISNUMBER(Model!$M13),ISNUMBER(Model!$O$10)),(Model!$M13-Model!$G13)/Model!$O$10),0)),100) -> 4.2653233 | ... AA49: =MIN(MAX(0,Z49+IF(AA$45-$C$45<=Model!$O$10,IF(AND(ISNUMBER(Model!$M13),ISNUMBER(Model!$O$10)),(Model!$M13-Model!$G13)/Model!$O$10),0)),100) -> 4.03698
A50: =Model!$D$4 -> København | B50: 85-89 år | C50: =L26 -> 12.207464 | E50: =MIN(MAX(0,C50+IF(E$45-$C$45<=Model!$O$10,IF(AND(ISNUMBER(Model!$M14),ISNUMBER(Model!$O$10)),(Model!$M14-Model!$G14)/Model!$O$10),0)),100) -> 11.736392 | F50: =MIN(MAX(0,E50+IF(F$45-$C$45<=Model!$O$10,IF(AND(ISNUMBER(Model!$M14),ISNUMBER(Model!$O$10)),(Model!$M14-Model!$G14)/Model!$O$10),0)),100) -> 11.265321 | G50: =MIN(MAX(0,F50+IF(G$45-$C$45<=Model!$O$10,IF(AND(ISNUMBER(Model!$M14),ISNUMBER(Model!$O$10)),(Model!$M14-Model!$G14)/Model!$O$10),0)),100) -> 10.79425 | H50: =MIN(MAX(0,G50+IF(H$45-$C$45<=Model!$O$10,IF(AND(ISNUMBER(Model!$M14),ISNUMBER(Model!$O$10)),(Model!$M14-Model!$G14)/Model!$O$10),0)),100) -> 10.323178 | I50: =MIN(MAX(0,H50+IF(I$45-$C$45<=Model!$O$10,IF(AND(ISNUMBER(Model!$M14),ISNUMBER(Model!$O$10)),(Model!$M14-Model!$G14)/Model!$O$10),0)),100) -> 9.8521072 | J50: =MIN(MAX(0,I50+IF(J$45-$C$45<=Model!$O$10,IF(AND(ISNUMBER(Model!$M14),ISNUMBER(Model!$O$10)),(Model!$M14-Model!$G14)/Model!$O$10),0)),100) -> 9.3810359 | K50: =MIN(MAX(0,J50+IF(K$45-$C$45<=Model!$O$10,IF(AND(ISNUMBER(Model!$M14),ISNUMBER(Model!$O$10)),(Model!$M14-Model!$G14)/Model!$O$10),0)),100) -> 8.9099646 | L50: =MIN(MAX(0,K50+IF(L$45-$C$45<=Model!$O$10,IF(AND(ISNUMBER(Model!$M14),ISNUMBER(Model!$O$10)),(Model!$M14-Model!$G14)/Model!$O$10),0)),100) -> 8.4388934 | M50: =MIN(MAX(0,L50+IF(M$45-$C$45<=Model!$O$10,IF(AND(ISNUMBER(Model!$M14),ISNUMBER(Model!$O$10)),(Model!$M14-Model!$G14)/Model!$O$10),0)),100) -> 7.9678221 | ... AA50: =MIN(MAX(0,Z50+IF(AA$45-$C$45<=Model!$O$10,IF(AND(ISNUMBER(Model!$M14),ISNUMBER(Model!$O$10)),(Model!$M14-Model!$G14)/Model!$O$10),0)),100) -> 7.4967508
A51: =Model!$D$4 -> København | B51: 90-94 år | C51: =L27 -> 22.692079 | E51: =MIN(MAX(0,C51+IF(E$45-$C$45<=Model!$O$10,IF(AND(ISNUMBER(Model!$M15),ISNUMBER(Model!$O$10)),(Model!$M15-Model!$G15)/Model!$O$10),0)),100) -> 21.850177 | F51: =MIN(MAX(0,E51+IF(F$45-$C$45<=Model!$O$10,IF(AND(ISNUMBER(Model!$M15),ISNUMBER(Model!$O$10)),(Model!$M15-Model!$G15)/Model!$O$10),0)),100) -> 21.008275 | G51: =MIN(MAX(0,F51+IF(G$45-$C$45<=Model!$O$10,IF(AND(ISNUMBER(Model!$M15),ISNUMBER(Model!$O$10)),(Model!$M15-Model!$G15)/Model!$O$10),0)),100) -> 20.166373 | H51: =MIN(MAX(0,G51+IF(H$45-$C$45<=Model!$O$10,IF(AND(ISNUMBER(Model!$M15),ISNUMBER(Model!$O$10)),(Model!$M15-Model!$G15)/Model!$O$10),0)),100) -> 19.324471 | I51: =MIN(MAX(0,H51+IF(I$45-$C$45<=Model!$O$10,IF(AND(ISNUMBER(Model!$M15),ISNUMBER(Model!$O$10)),(Model!$M15-Model!$G15)/Model!$O$10),0)),100) -> 18.482569 | J51: =MIN(MAX(0,I51+IF(J$45-$C$45<=Model!$O$10,IF(AND(ISNUMBER(Model!$M15),ISNUMBER(Model!$O$10)),(Model!$M15-Model!$G15)/Model!$O$10),0)),100) -> 17.640667 | K51: =MIN(MAX(0,J51+IF(K$45-$C$45<=Model!$O$10,IF(AND(ISNUMBER(Model!$M15),ISNUMBER(Model!$O$10)),(Model!$M15-Model!$G15)/Model!$O$10),0)),100) -> 16.798765 | L51: =MIN(MAX(0,K51+IF(L$45-$C$45<=Model!$O$10,IF(AND(ISNUMBER(Model!$M15),ISNUMBER(Model!$O$10)),(Model!$M15-Model!$G15)/Model!$O$10),0)),100) -> 15.956863 | M51: =MIN(MAX(0,L51+IF(M$45-$C$45<=Model!$O$10,IF(AND(ISNUMBER(Model!$M15),ISNUMBER(Model!$O$10)),(Model!$M15-Model!$G15)/Model!$O$10),0)),100) -> 15.114961 | ... AA51: =MIN(MAX(0,Z51+IF(AA$45-$C$45<=Model!$O$10,IF(AND(ISNUMBER(Model!$M15),ISNUMBER(Model!$O$10)),(Model!$M15-Model!$G15)/Model!$O$10),0)),100) -> 14.273059
A52: =Model!$D$4 -> København | B52: 95+ år | C52: =L28 -> 33.517495 | E52: =MIN(MAX(0,C52+IF(E$45-$C$45<=Model!$O$10,IF(AND(ISNUMBER(Model!$M16),ISNUMBER(Model!$O$10)),(Model!$M16-Model!$G16)/Model!$O$10),0)),100) -> 31.85471 | F52: =MIN(MAX(0,E52+IF(F$45-$C$45<=Model!$O$10,IF(AND(ISNUMBER(Model!$M16),ISNUMBER(Model!$O$10)),(Model!$M16-Model!$G16)/Model!$O$10),0)),100) -> 30.191925 | G52: =MIN(MAX(0,F52+IF(G$45-$C$45<=Model!$O$10,IF(AND(ISNUMBER(Model!$M16),ISNUMBER(Model!$O$10)),(Model!$M16-Model!$G16)/Model!$O$10),0)),100) -> 28.52914 | H52: =MIN(MAX(0,G52+IF(H$45-$C$45<=Model!$O$10,IF(AND(ISNUMBER(Model!$M16),ISNUMBER(Model!$O$10)),(Model!$M16-Model!$G16)/Model!$O$10),0)),100) -> 26.866354 | I52: =MIN(MAX(0,H52+IF(I$45-$C$45<=Model!$O$10,IF(AND(ISNUMBER(Model!$M16),ISNUMBER(Model!$O$10)),(Model!$M16-Model!$G16)/Model!$O$10),0)),100) -> 25.203569 | J52: =MIN(MAX(0,I52+IF(J$45-$C$45<=Model!$O$10,IF(AND(ISNUMBER(Model!$M16),ISNUMBER(Model!$O$10)),(Model!$M16-Model!$G16)/Model!$O$10),0)),100) -> 23.540784 | K52: =MIN(MAX(0,J52+IF(K$45-$C$45<=Model!$O$10,IF(AND(ISNUMBER(Model!$M16),ISNUMBER(Model!$O$10)),(Model!$M16-Model!$G16)/Model!$O$10),0)),100) -> 21.877999 | L52: =MIN(MAX(0,K52+IF(L$45-$C$45<=Model!$O$10,IF(AND(ISNUMBER(Model!$M16),ISNUMBER(Model!$O$10)),(Model!$M16-Model!$G16)/Model!$O$10),0)),100) -> 20.215213 | M52: =MIN(MAX(0,L52+IF(M$45-$C$45<=Model!$O$10,IF(AND(ISNUMBER(Model!$M16),ISNUMBER(Model!$O$10)),(Model!$M16-Model!$G16)/Model!$O$10),0)),100) -> 18.552428 | ... AA52: =MIN(MAX(0,Z52+IF(AA$45-$C$45<=Model!$O$10,IF(AND(ISNUMBER(Model!$M16),ISNUMBER(Model!$O$10)),(Model!$M16-Model!$G16)/Model!$O$10),0)),100) -> 16.889643
A54: =Model!$D$4 -> København | B54: I alt over 70 | C54: =SUM(C62:C68)/SUM(C35:C41)*100 -> 5.3602743 | E54: =SUM(E62:E68)/SUM(E35:E41)*100 -> 5.2903015 | F54: =SUM(F62:F68)/SUM(F35:F41)*100 -> 5.2417864 | G54: =SUM(G62:G68)/SUM(G35:G41)*100 -> 5.1914925 | H54: =SUM(H62:H68)/SUM(H35:H41)*100 -> 5.1192293 | I54: =SUM(I62:I68)/SUM(I35:I41)*100 -> 5.046837 | J54: =SUM(J62:J68)/SUM(J35:J41)*100 -> 4.956271 | K54: =SUM(K62:K68)/SUM(K35:K41)*100 -> 4.8656043 | L54: =SUM(L62:L68)/SUM(L35:L41)*100 -> 4.749348 | ... AA54: =SUM(AA62:AA68)/SUM(AA35:AA41)*100 -> 4.6913988
A56: Forventede behovsgrader | B56: I alt over 70 | C56: =SUMPRODUCT(C35:C41,$L23:$L29)/SUM(C35:C41) -> 5.3602743 | E56: =SUMPRODUCT(E35:E41,$L23:$L29)/SUM(E35:E41) -> 5.4133737 | F56: =SUMPRODUCT(F35:F41,$L23:$L29)/SUM(F35:F41) -> 5.4984436 | G56: =SUMPRODUCT(G35:G41,$L23:$L29)/SUM(G35:G41) -> 5.5905733 | H56: =SUMPRODUCT(H35:H41,$L23:$L29)/SUM(H35:H41) -> 5.6642065 | I56: =SUMPRODUCT(I35:I41,$L23:$L29)/SUM(I35:I41) -> 5.7480232 | J56: =SUMPRODUCT(J35:J41,$L23:$L29)/SUM(J35:J41) -> 5.8150034 | K56: =SUMPRODUCT(K35:K41,$L23:$L29)/SUM(K35:K41) -> 5.8891617 | L56: =SUMPRODUCT(L35:L41,$L23:$L29)/SUM(L35:L41) -> 5.9347148 | ... AA56: =SUMPRODUCT(AA35:AA41,$L23:$L29)/SUM(AA35:AA41) -> 6.4104146
A57: Forskel til forventet | B57: I alt over 70 | C57: =C54-C56 -> 0 | E57: =E54-E56 -> -0.1230722 | F57: =F54-F56 -> -0.25665717 | G57: =G54-G56 -> -0.39908077 | H57: =H54-H56 -> -0.54497719 | I57: =I54-I56 -> -0.7011862 | J57: =J54-J56 -> -0.85873237 | K57: =K54-K56 -> -1.0235574 | L57: =L54-L56 -> -1.1853668 | ... AA57: =AA54-AA56 -> -1.7190158
A59: Behovsfremskrivning
A60: Kommune | B60: Aldersgruppe | C60: =C33 -> 2026 | E60: =E33 -> 2027 | F60: =F33 -> 2028 | G60: =G33 -> 2029 | H60: =H33 -> 2030 | I60: =I33 -> 2031 | J60: =J33 -> 2032 | K60: =K33 -> 2033 | L60: =L33 -> 2034 | ... AA60: =AA33 -> 2049
A61: =Model!$D$4 -> København | B61: Under 70 år | C61: =C34*(C46/100) -> 353 | E61: =E34*(E46/100) -> 356.04018 | F61: =F34*(F46/100) -> 361.9706 | G61: =G34*(G46/100) -> 367.8056 | H61: =H34*(H46/100) -> 373.55412 | I61: =I34*(I46/100) -> 379.0827 | J61: =J34*(J46/100) -> 384.39349 | K61: =K34*(K46/100) -> 389.45642 | L61: =L34*(L46/100) -> 394.03555 | ... AA61: =AA34*(AA46/100) -> 397.44733
A62: =Model!$D$4 -> København | B62: 70-74 år | C62: =C35*(C47/100) -> 354 | E62: =E35*(E47/100) -> 364.13933 | F62: =F35*(F47/100) -> 374.28084 | G62: =G35*(G47/100) -> 385.05044 | H62: =H35*(H47/100) -> 398.7849 | I62: =I35*(I47/100) -> 415.1414 | J62: =J35*(J47/100) -> 432.11469 | K62: =K35*(K47/100) -> 452.36831 | L62: =L35*(L47/100) -> 479.82243 | ... AA62: =AA35*(AA47/100) -> 601.94472
A63: =Model!$D$4 -> København | B63: 75-79 år | C63: =C36*(C48/100) -> 593 | E63: =E36*(E48/100) -> 585.22994 | F63: =F36*(F48/100) -> 577.46648 | G63: =G36*(G48/100) -> 580.34013 | H63: =H36*(H48/100) -> 589.63032 | I63: =I36*(I48/100) -> 596.2423 | J63: =J36*(J48/100) -> 611.38807 | K63: =K36*(K48/100) -> 623.76782 | L63: =L36*(L48/100) -> 637.37502 | ... AA63: =AA36*(AA48/100) -> 920.79887
A64: =Model!$D$4 -> København | B64: 80-84 år | C64: =C37*(C49/100) -> 662 | E64: =E37*(E49/100) -> 690.23144 | F64: =F37*(F49/100) -> 701.59481 | G64: =G37*(G49/100) -> 691.57417 | H64: =H37*(H49/100) -> 662.57862 | I64: =I37*(I49/100) -> 634.39029 | J64: =J37*(J49/100) -> 598.39867 | K64: =K37*(K49/100) -> 563.09966 | L64: =L37*(L49/100) -> 538.20644 | ... AA64: =AA37*(AA49/100) -> 761.53591
A65: =Model!$D$4 -> København | B65: 85-89 år | C65: =C38*(C50/100) -> 579 | E65: =E38*(E50/100) -> 583.41606 | F65: =F38*(F50/100) -> 611.03101 | G65: =G38*(G50/100) -> 638.26399 | H65: =H38*(H50/100) -> 660.58019 | I65: =I38*(I50/100) -> 685.80518 | J65: =J38*(J50/100) -> 708.08059 | K65: =K38*(K50/100) -> 711.72798 | L65: =L38*(L50/100) -> 692.24242 | ... AA65: =AA38*(AA50/100) -> 824.86749
A66: =Model!$D$4 -> København | B66: 90-94 år | C66: =C39*(C51/100) -> 381 | E66: =E39*(E51/100) -> 382.81509 | F66: =F39*(F51/100) -> 382.77076 | G66: =G39*(G51/100) -> 397.07588 | H66: =H39*(H51/100) -> 413.54367 | I66: =I39*(I51/100) -> 424.35978 | J66: =J39*(J51/100) -> 426.72773 | K66: =K39*(K51/100) -> 445.83922 | L66: =L39*(L51/100) -> 465.30212 | ... AA66: =AA39*(AA51/100) -> 679.68306
A67: =Model!$D$4 -> København | B67: 95+ år | C67: =C40*(C52/100) -> 182 | E67: =E40*(E52/100) -> 167.55578 | F67: =F40*(F52/100) -> 159.41336 | G67: =G40*(G52/100) -> 149.77798 | H67: =H40*(H52/100) -> 138.63039 | I67: =I40*(I52/100) -> 135.09113 | J67: =J40*(J52/100) -> 132.77002 | K67: =K40*(K52/100) -> 129.95531 | L67: =L40*(L52/100) -> 130.79243 | ... AA67: =AA40*(AA52/100) -> 259.42491
A69: =Model!$D$4 -> København | B69: I alt | C69: =SUM(C61:C68) -> 3104 | E69: =SUM(E61:E68) -> 3129.4278 | F69: =SUM(F61:F68) -> 3168.5279 | G69: =SUM(G61:G68) -> 3209.8882 | H69: =SUM(H61:H68) -> 3237.3022 | I69: =SUM(I61:I68) -> 3270.1128 | J69: =SUM(J61:J68) -> 3293.8733 | K69: =SUM(K61:K68) -> 3316.2147 | L69: =SUM(L61:L68) -> 3337.7764 | ... AA69: =SUM(AA61:AA68) -> 4445.7023
A71: Afgang (Obs. For de enkelte aldersgrupper er udregnet på baggrund af antal personer med behov, og altså ikke taget højde for, om der er plads i plejeboliger til alle disse personer)
A72: Kommune | B72: Aldersgruppe | C72: =C60 -> 2026 | E72: =E60 -> 2027 | F72: =F60 -> 2028 | G72: =G60 -> 2029 | H72: =H60 -> 2030 | I72: =I60 -> 2031 | J72: =J60 -> 2032 | K72: =K60 -> 2033 | L72: =L60 -> 2034 | ... AA72: =AA60 -> 2049
A73: =Model!$D$4 -> København | B73: Under 70 år | C73: =C61/$B$19 -> 128.36364 | E73: =E61/$B$19 -> 129.46916 | F73: =F61/$B$19 -> 131.62567 | G73: =G61/$B$19 -> 133.74749 | H73: =H61/$B$19 -> 135.83786 | I73: =I61/$B$19 -> 137.84825 | J73: =J61/$B$19 -> 139.77945 | K73: =K61/$B$19 -> 141.62052 | L73: =L61/$B$19 -> 143.28565 | ... AA73: =AA61/$B$19 -> 144.5263
A74: =Model!$D$4 -> København | B74: 70-74 år | C74: =C62/$B$19 -> 128.72727 | E74: =E62/$B$19 -> 132.4143 | F74: =F62/$B$19 -> 136.10212 | G74: =G62/$B$19 -> 140.01834 | H74: =H62/$B$19 -> 145.01269 | I74: =I62/$B$19 -> 150.96051 | J74: =J62/$B$19 -> 157.13262 | K74: =K62/$B$19 -> 164.49757 | L74: =L62/$B$19 -> 174.48088 | ... AA74: =AA62/$B$19 -> 218.88899
A75: =Model!$D$4 -> København | B75: 75-79 år | C75: =C63/$B$19 -> 215.63636 | E75: =E63/$B$19 -> 212.81089 | F75: =F63/$B$19 -> 209.98781 | G75: =G63/$B$19 -> 211.03277 | H75: =H63/$B$19 -> 214.41102 | I75: =I63/$B$19 -> 216.81538 | J75: =J63/$B$19 -> 222.32293 | K75: =K63/$B$19 -> 226.82466 | L75: =L63/$B$19 -> 231.77274 | ... AA75: =AA63/$B$19 -> 334.83595
A76: =Model!$D$4 -> København | B76: 80-84 år | C76: =C64/$B$19 -> 240.72727 | E76: =E64/$B$19 -> 250.99325 | F76: =F64/$B$19 -> 255.12539 | G76: =G64/$B$19 -> 251.48152 | H76: =H64/$B$19 -> 240.93768 | I76: =I64/$B$19 -> 230.68738 | J76: =J64/$B$19 -> 217.59952 | K76: =K64/$B$19 -> 204.76351 | L76: =L64/$B$19 -> 195.71143 | ... AA76: =AA64/$B$19 -> 276.92215
A77: =Model!$D$4 -> København | B77: 85-89 år | C77: =C65/$B$19 -> 210.54545 | E77: =E65/$B$19 -> 212.1513 | F77: =F65/$B$19 -> 222.1931 | G77: =G65/$B$19 -> 232.096 | H77: =H65/$B$19 -> 240.21098 | I77: =I65/$B$19 -> 249.3837 | J77: =J65/$B$19 -> 257.48385 | K77: =K65/$B$19 -> 258.81017 | L77: =L65/$B$19 -> 251.72452 | ... AA77: =AA65/$B$19 -> 299.95181
A78: =Model!$D$4 -> København | B78: 90-94 år | C78: =C66/$B$19 -> 138.54545 | E78: =E66/$B$19 -> 139.20549 | F78: =F66/$B$19 -> 139.18937 | G78: =G66/$B$19 -> 144.39123 | H78: =H66/$B$19 -> 150.37952 | I78: =I66/$B$19 -> 154.31265 | J78: =J66/$B$19 -> 155.17372 | K78: =K66/$B$19 -> 162.12335 | L78: =L66/$B$19 -> 169.20077 | ... AA78: =AA66/$B$19 -> 247.15748
A79: =Model!$D$4 -> København | B79: 95+ år | C79: =C67/$B$19 -> 66.181818 | E79: =E67/$B$19 -> 60.929373 | F79: =F67/$B$19 -> 57.968496 | G79: =G67/$B$19 -> 54.464721 | H79: =H67/$B$19 -> 50.41105 | I79: =I67/$B$19 -> 49.124048 | J79: =J67/$B$19 -> 48.280008 | K79: =K67/$B$19 -> 47.256477 | L79: =L67/$B$19 -> 47.560884 | ... AA79: =AA67/$B$19 -> 94.336333
A81: =Model!$D$4 -> København | B81: I alt (Returnerer mindsteværdi) | C81: =MIN(C69,$B$107/$B$19) -> 1234.1818 | E81: =MIN(E69,$B$107/$B$19) -> 1234.1818 | F81: =MIN(F69,$B$107/$B$19) -> 1234.1818 | G81: =MIN(G69,$B$107/$B$19) -> 1234.1818 | H81: =MIN(H69,$B$107/$B$19) -> 1234.1818 | I81: =MIN(I69,$B$107/$B$19) -> 1234.1818 | J81: =MIN(J69,$B$107/$B$19) -> 1234.1818 | K81: =MIN(K69,$B$107/$B$19) -> 1234.1818 | L81: =MIN(L69,$B$107/$B$19) -> 1234.1818 | ... AA81: =MIN(AA69,$B$107/$B$19) -> 1234.1818
B82: Alternativ afgang 1 (Kun behov/gns. År) | C82: =SUM(C73:C80) -> 1128.7273 | E82: =SUM(E73:E80) -> 1137.9738 | F82: =SUM(F73:F80) -> 1152.192 | G82: =SUM(G73:G80) -> 1167.2321 | H82: =SUM(H73:H80) -> 1177.2008 | I82: =SUM(I73:I80) -> 1189.1319 | J82: =SUM(J73:J80) -> 1197.7721 | K82: =SUM(K73:K80) -> 1205.8963 | L82: =SUM(L73:L80) -> 1213.7369 | ... AA82: =SUM(AA73:AA80) -> 1616.619
B83: Alternativ afgang 2 (MAKS()) | C83: =MAX(C69,$C$103+SUM($C$111:C$112)-SUM($C$113:C113))/$B$19 -> 1128.7273 | E83: =MAX(E69,$C$103+SUM($C$111:E$112)-SUM($C$113:E113))/$B$19 -> 1137.9738 | F83: =MAX(F69,$C$103+SUM($C$111:F$112)-SUM($C$113:F113))/$B$19 -> 1152.192 | G83: =MAX(G69,$C$103+SUM($C$111:G$112)-SUM($C$113:G113))/$B$19 -> 1167.2321 | H83: =MAX(H69,$C$103+SUM($C$111:H$112)-SUM($C$113:H113))/$B$19 -> 1177.2008 | I83: =MAX(I69,$C$103+SUM($C$111:I$112)-SUM($C$113:I113))/$B$19 -> 1189.1319 | J83: =MAX(J69,$C$103+SUM($C$111:J$112)-SUM($C$113:J113))/$B$19 -> 1197.7721 | K83: =MAX(K69,$C$103+SUM($C$111:K$112)-SUM($C$113:K113))/$B$19 -> 1205.8963 | L83: =MAX(L69,$C$103+SUM($C$111:L$112)-SUM($C$113:L113))/$B$19 -> 1213.7369 | ... AA83: =MAX(AA69,$C$103+SUM($C$111:AA$112)-SUM($C$113:AA113))/$B$19 -> 1616.619
A84: Tilgang
A85: Kommune | B85: Aldersgruppe | C85: =C72 -> 2026 | E85: =E72 -> 2027 | F85: =F72 -> 2028 | G85: =G72 -> 2029 | H85: =H72 -> 2030 | I85: =I72 -> 2031 | J85: =J72 -> 2032 | K85: =K72 -> 2033 | L85: =L72 -> 2034 | ... AA85: =AA72 -> 2049
A86: =Model!$D$4 -> København | B86: Under 70 år | C86: =E61-C61+C73 -> 131.40381 | E86: =F61-E61+E73 -> 135.39958 | F86: =G61-F61+F73 -> 137.46068 | G86: =H61-G61+G73 -> 139.49601 | H86: =I61-H61+H73 -> 141.36644 | I86: =J61-I61+I73 -> 143.15905 | J86: =K61-J61+J73 -> 144.84239 | K86: =L61-K61+K73 -> 146.19964 | L86: =M61-L61+L73 -> 147.60855 | ... Z86: =AA61-Z61+Z73 -> 144.42712 | AA86: =MAX(0,AB61-AA61+AA73) -> 0
A87: =Model!$D$4 -> København | B87: 70-74 år | C87: =E62-C62+C74 -> 138.8666 | E87: =F62-E62+E74 -> 142.55581 | F87: =G62-F62+F74 -> 146.87172 | G87: =H62-G62+G74 -> 153.7528 | H87: =I62-H62+H74 -> 161.36919 | I87: =J62-I62+I74 -> 167.9338 | J87: =K62-J62+J74 -> 177.38623 | K87: =L62-K62+K74 -> 191.95169 | L87: =M62-L62+L74 -> 204.05201 | ... Z87: =AA62-Z62+Z74 -> 215.65037 | AA87: =MAX(0,AB62-AA62+AA74) -> 0
A88: =Model!$D$4 -> København | B88: 75-79 år | C88: =E63-C63+C75 -> 207.86631 | E88: =F63-E63+E75 -> 205.04743 | F88: =G63-F63+F75 -> 212.86146 | G88: =H63-G63+G75 -> 220.32296 | H88: =I63-H63+H75 -> 221.02301 | I88: =J63-I63+I75 -> 231.96115 | J88: =K63-J63+J75 -> 234.70268 | K88: =L63-K63+K75 -> 240.43187 | L88: =M63-L63+L75 -> 249.37971 | ... Z88: =AA63-Z63+Z75 -> 344.70395 | AA88: =MAX(0,AB63-AA63+AA75) -> 0
A89: =Model!$D$4 -> København | B89: 80-84 år | C89: =E64-C64+C76 -> 268.95871 | E89: =F64-E64+E76 -> 262.35662 | F89: =G64-F64+F76 -> 245.10474 | G89: =H64-G64+G76 -> 222.48597 | H89: =I64-H64+H76 -> 212.74935 | I89: =J64-I64+I76 -> 194.69576 | J89: =K64-J64+J76 -> 182.30051 | K89: =L64-K64+K76 -> 179.87029 | L89: =M64-L64+L76 -> 175.4432 | ... Z89: =AA64-Z64+Z76 -> 280.26183 | AA89: =MAX(0,AB64-AA64+AA76) -> 0
A90: =Model!$D$4 -> København | B90: 85-89 år | C90: =E65-C65+C77 -> 214.96152 | E90: =F65-E65+E77 -> 239.76625 | F90: =G65-F65+F77 -> 249.42607 | G90: =H65-G65+G77 -> 254.4122 | H90: =I65-H65+H77 -> 265.43597 | I90: =J65-I65+I77 -> 271.65911 | J90: =K65-J65+J77 -> 261.13124 | K90: =L65-K65+K77 -> 239.32462 | L90: =M65-L65+L77 -> 212.1264 | ... Z90: =AA65-Z65+Z77 -> 328.14641 | AA90: =MAX(0,AB65-AA65+AA77) -> 0
A91: =Model!$D$4 -> København | B91: 90-94 år | C91: =E66-C66+C78 -> 140.36055 | E91: =F66-E66+E78 -> 139.16116 | F91: =G66-F66+F78 -> 153.49448 | G91: =H66-G66+G78 -> 160.85902 | H91: =I66-H66+H78 -> 161.19562 | I91: =J66-I66+I78 -> 156.6806 | J91: =K66-J66+J78 -> 174.28521 | K91: =L66-K66+K78 -> 181.58625 | L91: =M66-L66+L78 -> 184.5544 | ... Z91: =AA66-Z66+Z78 -> 259.78264 | AA91: =MAX(0,AB66-AA66+AA78) -> 0
A92: =Model!$D$4 -> København | B92: 95+ år | C92: =E67-C67+C79 -> 51.737594 | E92: =F67-E67+E79 -> 52.786961 | F92: =G67-F67+F79 -> 48.333115 | G92: =H67-G67+G79 -> 43.317127 | H92: =I67-H67+H79 -> 46.871792 | I92: =J67-I67+I79 -> 46.802938 | J92: =K67-J67+J79 -> 45.465298 | K92: =L67-K67+K79 -> 48.093596 | L92: =M67-L67+L79 -> 46.449926 | ... Z92: =AA67-Z67+Z79 -> 98.742994 | AA92: =MAX(0,AB67-AA67+AA79) -> 0
A94: =Model!$D$4 -> København | B94: I alt | C94: =SUM(C86:C93) -> 1154.1551 | E94: =SUM(E86:E93) -> 1177.0738 | F94: =SUM(F86:F93) -> 1193.5523 | G94: =SUM(G86:G93) -> 1194.6461 | H94: =SUM(H86:H93) -> 1210.0114 | I94: =SUM(I86:I93) -> 1212.8924 | J94: =SUM(J86:J93) -> 1220.1135 | K94: =SUM(K86:K93) -> 1227.458 | L94: =SUM(L86:L93) -> 1219.6142 | ... Z94: =SUM(Z86:Z93) -> 1671.7153 | AA94: =MAX(0,AB69-AA69+AA81) -> 0
A107: Plejeboliger i alt 2026 | B107: =Model!$F$44 -> 3394
A109: Planlagte kapacitetsændringer
A110: År | C110: =C33 -> 2026 | E110: =E33 -> 2027 | F110: =F33 -> 2028 | G110: =G33 -> 2029 | H110: =H33 -> 2030 | I110: =I33 -> 2031 | J110: =J33 -> 2032 | K110: =K33 -> 2033 | L110: =L33 -> 2034 | ... AA110: =AA33 -> 2049
A111: Nyetablerede plejeboliger | C111: =IF(Model!$L32='Beregning 2026'!C110,Model!$M32)+IF(Model!$L33='Beregning 2026'!C110,Model!$M33)+IF(Model!$L34='Beregning 2026'!C110,Model!$M34)+IF(Model!$L35='Beregning 2026'!C110,Model!$M35)+IF(Model!$L36='Beregning 2026'!C110,Model!$M36)+IF(Model!$L38='Beregning 2026'!C110,Model!$M38)+IF(Model!$L39='Beregning 2026'!C110,Model!$M39)+IF(Model!$L40='Beregning 2026'!C110,Model!$M40) -> 0 | E111: =IFERROR(VLOOKUP(E$110,Model!$L$30:$O$35,2,FALSE),0) -> 0 | F111: =IFERROR(VLOOKUP(F$110,Model!$L$30:$O$35,2,FALSE),0) -> 0 | G111: =IFERROR(VLOOKUP(G$110,Model!$L$30:$O$35,2,FALSE),0) -> 0 | H111: =IFERROR(VLOOKUP(H$110,Model!$L$30:$O$35,2,FALSE),0) -> 0 | I111: =IFERROR(VLOOKUP(I$110,Model!$L$30:$O$35,2,FALSE),0) -> 0 | J111: =IFERROR(VLOOKUP(J$110,Model!$L$30:$O$35,2,FALSE),0) -> 0 | K111: =IFERROR(VLOOKUP(K$110,Model!$L$30:$O$35,2,FALSE),0) -> 0 | L111: =IFERROR(VLOOKUP(L$110,Model!$L$30:$O$35,2,FALSE),0) -> 0 | ... AA111: =IFERROR(VLOOKUP(AA$110,Model!$L$30:$O$35,2,FALSE),0) -> 0
A112: Konverterede ældreboliger | C112: =IF(Model!$N$39<>"Fejl!",IF(Model!$L30='Beregning 2026'!C110,Model!$N30)+IF(Model!$L31='Beregning 2026'!C110,Model!$N31)+IF(Model!$L32='Beregning 2026'!C110,Model!$N32)+IF(Model!$L33='Beregning 2026'!C110,Model!$N33)+IF(Model!$L34='Beregning 2026'!C110,Model!$N34)+IF(Model!$L35='Beregning 2026'!C110,Model!$N35)+IF(Model!$L36='Beregning 2026'!C110,Model!$N36)+IF(Model!$L38='Beregning 2026'!C110,Model!$N38),0) -> 0 | E112: =IFERROR(VLOOKUP(E$110,Model!$L$30:$O$35,3,FALSE),0) -> 0 | F112: =IFERROR(VLOOKUP(F$110,Model!$L$30:$O$35,3,FALSE),0) -> 0 | G112: =IFERROR(VLOOKUP(G$110,Model!$L$30:$O$35,3,FALSE),0) -> 0 | H112: =IFERROR(VLOOKUP(H$110,Model!$L$30:$O$35,3,FALSE),0) -> 0 | I112: =IFERROR(VLOOKUP(I$110,Model!$L$30:$O$35,3,FALSE),0) -> 0 | J112: =IFERROR(VLOOKUP(J$110,Model!$L$30:$O$35,3,FALSE),0) -> 0 | K112: =IFERROR(VLOOKUP(K$110,Model!$L$30:$O$35,3,FALSE),0) -> 0 | L112: =IFERROR(VLOOKUP(L$110,Model!$L$30:$O$35,3,FALSE),0) -> 0 | ... AA112: =IFERROR(VLOOKUP(AA$110,Model!$L$30:$O$35,3,FALSE),0) -> 0
A113: Nedlagte plejeboliger | C113: =IF(Model!$L30='Beregning 2026'!C110,Model!$O30)+IF(Model!$L31='Beregning 2026'!C110,Model!$O31)+IF(Model!$L32='Beregning 2026'!C110,Model!$O32)+IF(Model!$L33='Beregning 2026'!C110,Model!$O33)+IF(Model!$L34='Beregning 2026'!C110,Model!$O34)+IF(Model!$L35='Beregning 2026'!C110,Model!$O35)+IF(Model!$L36='Beregning 2026'!C110,Model!$O36)+IF(Model!$L38='Beregning 2026'!C110,Model!$O38) -> 0 | E113: =IFERROR(VLOOKUP(E$110,Model!$L$30:$O$35,4,FALSE),0) -> 0 | F113: =IFERROR(VLOOKUP(F$110,Model!$L$30:$O$35,4,FALSE),0) -> 0 | G113: =IFERROR(VLOOKUP(G$110,Model!$L$30:$O$35,4,FALSE),0) -> 0 | H113: =IFERROR(VLOOKUP(H$110,Model!$L$30:$O$35,4,FALSE),0) -> 0 | I113: =IFERROR(VLOOKUP(I$110,Model!$L$30:$O$35,4,FALSE),0) -> 0 | J113: =IFERROR(VLOOKUP(J$110,Model!$L$30:$O$35,4,FALSE),0) -> 0 | K113: =IFERROR(VLOOKUP(K$110,Model!$L$30:$O$35,4,FALSE),0) -> 0 | L113: =IFERROR(VLOOKUP(L$110,Model!$L$30:$O$35,4,FALSE),0) -> 0 | ... AA113: =IFERROR(VLOOKUP(AA$110,Model!$L$30:$O$35,4,FALSE),0) -> 0
A115: Tomgang md. | C115: =Model!$F$46 -> 1 | E115: =IF(Model!$F$47>Model!$F$46,IF(ISNUMBER(Model!$F$47),MIN(C115-(Model!$F$46-Model!$F$47)/MAX(INT(Model!$F$48),1),Model!$F$47),Model!$F$46),IF(ISNUMBER(Model!$F$47),MAX(C115-(Model!$F$46-Model!$F$47)/MAX(INT(Model!$F$48),1),Model!$F$47),Model!$F$46)) -> 1 | F115: =IF(Model!$F$47>Model!$F$46,IF(ISNUMBER(Model!$F$47),MIN(E115-(Model!$F$46-Model!$F$47)/MAX(INT(Model!$F$48),1),Model!$F$47),Model!$F$46),IF(ISNUMBER(Model!$F$47),MAX(E115-(Model!$F$46-Model!$F$47)/MAX(INT(Model!$F$48),1),Model!$F$47),Model!$F$46)) -> 1 | G115: =IF(Model!$F$47>Model!$F$46,IF(ISNUMBER(Model!$F$47),MIN(F115-(Model!$F$46-Model!$F$47)/MAX(INT(Model!$F$48),1),Model!$F$47),Model!$F$46),IF(ISNUMBER(Model!$F$47),MAX(F115-(Model!$F$46-Model!$F$47)/MAX(INT(Model!$F$48),1),Model!$F$47),Model!$F$46)) -> 1 | H115: =IF(Model!$F$47>Model!$F$46,IF(ISNUMBER(Model!$F$47),MIN(G115-(Model!$F$46-Model!$F$47)/MAX(INT(Model!$F$48),1),Model!$F$47),Model!$F$46),IF(ISNUMBER(Model!$F$47),MAX(G115-(Model!$F$46-Model!$F$47)/MAX(INT(Model!$F$48),1),Model!$F$47),Model!$F$46)) -> 1 | I115: =IF(Model!$F$47>Model!$F$46,IF(ISNUMBER(Model!$F$47),MIN(H115-(Model!$F$46-Model!$F$47)/MAX(INT(Model!$F$48),1),Model!$F$47),Model!$F$46),IF(ISNUMBER(Model!$F$47),MAX(H115-(Model!$F$46-Model!$F$47)/MAX(INT(Model!$F$48),1),Model!$F$47),Model!$F$46)) -> 1 | J115: =IF(Model!$F$47>Model!$F$46,IF(ISNUMBER(Model!$F$47),MIN(I115-(Model!$F$46-Model!$F$47)/MAX(INT(Model!$F$48),1),Model!$F$47),Model!$F$46),IF(ISNUMBER(Model!$F$47),MAX(I115-(Model!$F$46-Model!$F$47)/MAX(INT(Model!$F$48),1),Model!$F$47),Model!$F$46)) -> 1 | K115: =IF(Model!$F$47>Model!$F$46,IF(ISNUMBER(Model!$F$47),MIN(J115-(Model!$F$46-Model!$F$47)/MAX(INT(Model!$F$48),1),Model!$F$47),Model!$F$46),IF(ISNUMBER(Model!$F$47),MAX(J115-(Model!$F$46-Model!$F$47)/MAX(INT(Model!$F$48),1),Model!$F$47),Model!$F$46)) -> 1 | L115: =IF(Model!$F$47>Model!$F$46,IF(ISNUMBER(Model!$F$47),MIN(K115-(Model!$F$46-Model!$F$47)/MAX(INT(Model!$F$48),1),Model!$F$47),Model!$F$46),IF(ISNUMBER(Model!$F$47),MAX(K115-(Model!$F$46-Model!$F$47)/MAX(INT(Model!$F$48),1),Model!$F$47),Model!$F$46)) -> 1 | M115: =IF(Model!$F$47>Model!$F$46,IF(ISNUMBER(Model!$F$47),MIN(L115-(Model!$F$46-Model!$F$47)/MAX(INT(Model!$F$48),1),Model!$F$47),Model!$F$46),IF(ISNUMBER(Model!$F$47),MAX(L115-(Model!$F$46-Model!$F$47)/MAX(INT(Model!$F$48),1),Model!$F$47),Model!$F$46)) -> 1 | ... AA115: =IF(Model!$F$47>Model!$F$46,IF(ISNUMBER(Model!$F$47),MIN(Z115-(Model!$F$46-Model!$F$47)/MAX(INT(Model!$F$48),1),Model!$F$47),Model!$F$46),IF(ISNUMBER(Model!$F$47),MAX(Z115-(Model!$F$46-Model!$F$47)/MAX(INT(Model!$F$48),1),Model!$F$47),Model!$F$46)) -> 1
A116: Tomgang boliger | C116: =MIN(C115*(B107+SUM($C$111:C112)-SUM($C$113:C113))/($B$19*12),C115*(C30)/($B$19*12)) -> 94.060606 | E116: =MIN(E115*($B$107+SUM($C$111:E112)-SUM($C$113:E113))/($B$19*12),E115*E69/($B$19*12)) -> 94.831146 | F116: =MIN(F115*($B$107+SUM($C$111:F112)-SUM($C$113:F113))/($B$19*12),F115*F69/($B$19*12)) -> 96.015996 | G116: =MIN(G115*($B$107+SUM($C$111:G112)-SUM($C$113:G113))/($B$19*12),G115*G69/($B$19*12)) -> 97.269339 | H116: =MIN(H115*($B$107+SUM($C$111:H112)-SUM($C$113:H113))/($B$19*12),H115*H69/($B$19*12)) -> 98.100067 | I116: =MIN(I115*($B$107+SUM($C$111:I112)-SUM($C$113:I113))/($B$19*12),I115*I69/($B$19*12)) -> 99.094327 | J116: =MIN(J115*($B$107+SUM($C$111:J112)-SUM($C$113:J113))/($B$19*12),J115*J69/($B$19*12)) -> 99.814341 | K116: =MIN(K115*($B$107+SUM($C$111:K112)-SUM($C$113:K113))/($B$19*12),K115*K69/($B$19*12)) -> 100.49136 | L116: =MIN(L115*($B$107+SUM($C$111:L112)-SUM($C$113:L113))/($B$19*12),L115*L69/($B$19*12)) -> 101.14474 | ... AA116: =MIN(AA115*($B$107+SUM($C$111:AA112)-SUM($C$113:AA113))/($B$19*12),AA115*AA69/($B$19*12)) -> 102.84848
C117: =MIN(C69,$C$103+SUM(C111:C113))/Model!$F$45*C115 -> 0 | E117: =MIN(E69,$C$103+SUM(E111:E113))/Model!$F$45*E115 -> 0 | F117: =MIN(F69,$C$103+SUM(F111:F113))/Model!$F$45*F115 -> 0 | G117: =MIN(G69,$C$103+SUM(G111:G113))/Model!$F$45*G115 -> 0 | H117: =MIN(H69,$C$103+SUM(H111:H113))/Model!$F$45*H115 -> 0 | I117: =MIN(I69,$C$103+SUM(I111:I113))/Model!$F$45*I115 -> 0 | J117: =MIN(J69,$C$103+SUM(J111:J113))/Model!$F$45*J115 -> 0 | K117: =MIN(K69,$C$103+SUM(K111:K113))/Model!$F$45*K115 -> 0 | L117: =MIN(L69,$C$103+SUM(L111:L113))/Model!$F$45*L115 -> 0 | ... AA117: =MIN(AA69,$C$103+SUM(AA111:AA113))/Model!$F$45*AA115 -> 0
A120: Ventetid | B120: Personer på venteliste i alt | C120: Personer visiteret til den generelle venteliste | E120: Personer der vælger frit valg | F120: Andel af personer på venteliste i alt, der vælger frit valg, procent | G120: Andel af personer på generel venteliste
A121: =Model!$D$4 -> København | B121: =IF(Model!E18>0,Model!E18,0) -> 0 | C121: =B121*Model!F20/100 -> 0 | E121: =B121-C121 -> 0 | F121: =E121/B121 -> #DIV/0! | G121: =C121/B121 -> #DIV/0!

Sheet Indskrevne plejebolig dec 2025
B1: 45992 | C1: Alder på referencetidspunktet
C2: Under 70 år | D2: 70-74 år | E2: 75-79 år | F2: 80-84 år | G2: 85-89 år | H2: 90-94 år | I2: 95+ år
C3: plejebolig_dec | D3: plejebolig_dec | E3: plejebolig_dec | F3: plejebolig_dec | G3: plejebolig_dec | H3: plejebolig_dec | I3: plejebolig_dec | M3: Under 70 år | N3: 70-74 år | O3: 75-79 år | P3: 80-84 år | Q3: 85-89 år | R3: 90-94 år | S3: 95+ år
C4: 1 | D4: 1 | E4: 1 | F4: 1 | G4: 1 | H4: 1 | I4: 1 | L4: Total population | M4: =SUMIFS(Befolkningsfremskrivning!$F$4:$F$787,Befolkningsfremskrivning!$D$4:$D$787,M9) -> 5046898 | N4: =SUMIFS(Befolkningsfremskrivning!$F$4:$F$787,Befolkningsfremskrivning!$D$4:$D$787,N3) -> 298991 | O4: =SUMIFS(Befolkningsfremskrivning!$F$4:$F$787,Befolkningsfremskrivning!$D$4:$D$787,O3) -> 270633 | P4: =SUMIFS(Befolkningsfremskrivning!$F$4:$F$787,Befolkningsfremskrivning!$D$4:$D$787,P3) -> 221842 | Q4: =SUMIFS(Befolkningsfremskrivning!$F$4:$F$787,Befolkningsfremskrivning!$D$4:$D$787,Q3) -> 108979 | R4: =SUMIFS(Befolkningsfremskrivning!$F$4:$F$787,Befolkningsfremskrivning!$D$4:$D$787,R3) -> 41013 | S4: =SUMIFS(Befolkningsfremskrivning!$F$4:$F$787,Befolkningsfremskrivning!$D$4:$D$787,S3) -> 9858
C5: N | D5: N | E5: N | F5: N | G5: N | H5: N | I5: N | L5: Antal i plejebolig | M5: =C105 -> 4142 | N5: =D105 -> 3521 | O5: =E105 -> 6730 | P5: =F105 -> 8425 | Q5: =G105 -> 9036 | R5: =H105 -> 5911 | S5: =I105 -> 2517
A6: Gamle opslagsnumre til VBA. Må ikke slettes | B6: Kommunekode | L6: National andel i plejebolig | M6: =M5/M4*100 -> 0.082070214 | N6: =N5/N4*100 -> 1.1776274 | O6: =O5/O4*100 -> 2.4867625 | P6: =P5/P4*100 -> 3.7977479 | Q6: =Q5/Q4*100 -> 8.2915057 | R6: =R5/R4*100 -> 14.412503 | S6: =S5/S4*100 -> 25.532562
A7: 1 | B7: København | C7: 353 | D7: 354 | E7: 593 | F7: 662 | G7: 579 | H7: 381 | I7: 182
A8: 2 | B8: Frederiksberg | C8: 76 | D8: 78 | E8: 146 | F8: 198 | G8: 209 | H8: 158 | I8: 71 | M8: National andel i plejebolig
A9: 6 | B9: Ballerup | C9: 35 | D9: 18 | E9: 55 | F9: 68 | G9: 80 | H9: 39 | I9: 10 | M9: Under 70 år
A10: 7 | B10: Brøndby | C10: 28 | D10: 27 | E10: 47 | F10: 49 | G10: 50 | H10: 31 | I10: 12
A11: 3 | B11: Dragør | C11: =VLOOKUP($B11&C$2,Befolkningsfremskrivning!$A$4:$AC$800,5,FALSE)*(M$6/100) -> 9.4388953 | D11: =VLOOKUP($B11&D$2,Befolkningsfremskrivning!$A$4:$AC$800,5,FALSE)*(N$6/100) -> 9.3974668 | E11: =VLOOKUP($B11&E$2,Befolkningsfremskrivning!$A$4:$AC$800,5,FALSE)*(O$6/100) -> 21.485628 | F11: =VLOOKUP($B11&F$2,Befolkningsfremskrivning!$A$4:$AC$800,5,FALSE)*(P$6/100) -> 24.875249 | G11: =VLOOKUP($B11&G$2,Befolkningsfremskrivning!$A$4:$AC$800,5,FALSE)*(Q$6/100) -> 31.839382 | H11: =VLOOKUP($B11&H$2,Befolkningsfremskrivning!$A$4:$AC$800,5,FALSE)*(R$6/100) -> 19.601005 | I11: =VLOOKUP($B11&I$2,Befolkningsfremskrivning!$A$4:$AC$800,5,FALSE)*(S$6/100) -> 9.1917225
A12: 8 | B12: Gentofte | C12: 53 | D12: 66 | E12: 118 | F12: 152 | G12: 186 | H12: 121 | I12: 63 | M12: Hvis antallet er under 5 er der ikke hentet et tal hjem fra forksningsmaskinen, men antallet er
A13: 9 | B13: Gladsaxe | C13: 64 | D13: 45 | E13: 69 | F13: 99 | G13: 110 | H13: 81 | I13: 51 | M13: beregnet ud fra den nationale andel i plejeboliger og det faktiske antal af beboere i kommunen
A14: 10 | B14: Glostrup | C14: 19 | D14: 14 | E14: 40 | F14: 26 | G14: 46 | H14: 25 | I14: 16
A15: 11 | B15: Herlev | C15: 21 | D15: 25 | E15: 37 | F15: 46 | G15: 62 | H15: 51 | I15: 22 | M15: Der er ikke faktiske tal fra:
A16: 5 | B16: Albertslund | C16: 13 | D16: 7 | E16: 21 | F16: 34 | G16: 22 | H16: 15 | I16: 6 | M16: Vallendsbæk
A17: 12 | B17: Hvidovre | C17: 35 | D17: 26 | E17: 51 | F17: 84 | G17: 70 | H17: 55 | I17: 25
A18: 13 | B18: Høje-Taastrup | C18: 23 | D18: 26 | E18: 53 | F18: 64 | G18: 46 | H18: 23 | I18: 11 | M18: Fanø
A19: 15 | B19: Lyngby-Taarbæk | C19: 38 | D19: 32 | E19: 74 | F19: 85 | G19: 110 | H19: 79 | I19: 49 | M19: Samsø
A20: 16 | B20: Rødovre | C20: 34 | D20: 19 | E20: 41 | F20: 75 | G20: 72 | H20: 42 | I20: 15 | M20: Læsø
A21: 14 | B21: Ishøj | C21: =VLOOKUP($B21&C$2,Befolkningsfremskrivning!$A$4:$AC$800,5,FALSE)*(M$6/100) -> 17.73127 | D21: =VLOOKUP($B21&D$2,Befolkningsfremskrivning!$A$4:$AC$800,5,FALSE)*(N$6/100) -> 10.469108 | E21: =VLOOKUP($B21&E$2,Befolkningsfremskrivning!$A$4:$AC$800,5,FALSE)*(O$6/100) -> 24.569214 | F21: =VLOOKUP($B21&F$2,Befolkningsfremskrivning!$A$4:$AC$800,5,FALSE)*(P$6/100) -> 25.976596 | G21: =VLOOKUP($B21&G$2,Befolkningsfremskrivning!$A$4:$AC$800,5,FALSE)*(Q$6/100) -> 24.211197 | H21: =VLOOKUP($B21&H$2,Befolkningsfremskrivning!$A$4:$AC$800,5,FALSE)*(R$6/100) -> 11.962378 | I21: =VLOOKUP($B21&I$2,Befolkningsfremskrivning!$A$4:$AC$800,5,FALSE)*(S$6/100) -> 4.3405356 | M21: Dragør
A22: 4 | B22: Tårnby | C22: 36 | D22: 40 | E22: 50 | F22: 57 | G22: 75 | H22: 38 | I22: 17 | M22: Egedal
A23: 17 | B23: Vallensbæk | C23: =VLOOKUP($B23&C$2,Befolkningsfremskrivning!$A$4:$AC$800,5,FALSE)*(M$6/100) -> 13.101689 | D23: =VLOOKUP($B23&D$2,Befolkningsfremskrivning!$A$4:$AC$800,5,FALSE)*(N$6/100) -> 8.4082598 | E23: =VLOOKUP($B23&E$2,Befolkningsfremskrivning!$A$4:$AC$800,5,FALSE)*(O$6/100) -> 18.551248 | F23: =VLOOKUP($B23&F$2,Befolkningsfremskrivning!$A$4:$AC$800,5,FALSE)*(P$6/100) -> 26.014573 | G23: =VLOOKUP($B23&G$2,Befolkningsfremskrivning!$A$4:$AC$800,5,FALSE)*(Q$6/100) -> 24.045367 | H23: =VLOOKUP($B23&H$2,Befolkningsfremskrivning!$A$4:$AC$800,5,FALSE)*(R$6/100) -> 15.133129 | I23: =VLOOKUP($B23&I$2,Befolkningsfremskrivning!$A$4:$AC$800,5,FALSE)*(S$6/100) -> 4.8511869
A24: 22 | B24: Furesø | C24: 18 | D24: 22 | E24: 38 | F24: 63 | G24: 51 | H24: 39 | I24: 11
A25: 18 | B25: Allerød | C25: 13 | D25: 19 | E25: 25 | F25: 47 | G25: 45 | H25: 29 | I25: 11
A26: 20 | B26: Fredensborg | C26: 30 | D26: 25 | E26: 47 | F26: 55 | G26: 62 | H26: 40 | I26: 17
A27: 25 | B27: Helsingør | C27: 48 | D27: 45 | E27: 85 | F27: 106 | G27: 103 | H27: 67 | I27: 26
A28: 26 | B28: Hillerød | C28: 45 | D28: 24 | E28: 63 | F28: 86 | G28: 92 | H28: 47 | I28: 17
A29: 27 | B29: Hørsholm | C29: 20 | D29: 14 | E29: 36 | F29: 57 | G29: 49 | H29: 36 | I29: 16
A30: 28 | B30: Rudersdal | C30: 38 | D30: 26 | E30: 87 | F30: 98 | G30: 143 | H30: 113 | I30: 64
A31: 19 | B31: Egedal | C31: =VLOOKUP($B31&C$2,Befolkningsfremskrivning!$A$4:$AC$800,5,FALSE)*(M$6/100) -> 32.251132 | D31: =VLOOKUP($B31&D$2,Befolkningsfremskrivning!$A$4:$AC$800,5,FALSE)*(N$6/100) -> 20.667361 | E31: =VLOOKUP($B31&E$2,Befolkningsfremskrivning!$A$4:$AC$800,5,FALSE)*(O$6/100) -> 50.904029 | F31: =VLOOKUP($B31&F$2,Befolkningsfremskrivning!$A$4:$AC$800,5,FALSE)*(P$6/100) -> 65.625085 | G31: =VLOOKUP($B31&G$2,Befolkningsfremskrivning!$A$4:$AC$800,5,FALSE)*(Q$6/100) -> 67.575771 | H31: =VLOOKUP($B31&H$2,Befolkningsfremskrivning!$A$4:$AC$800,5,FALSE)*(R$6/100) -> 32.860508 | I31: =VLOOKUP($B31&I$2,Befolkningsfremskrivning!$A$4:$AC$800,5,FALSE)*(S$6/100) -> 8.9363968
A32: 21 | B32: Frederikssund | C32: 33 | D32: 23 | E32: 62 | F32: 65 | G32: 62 | H32: 43 | I32: 14
A33: 30 | B33: Greve | C33: 24 | D33: 17 | E33: 60 | F33: 66 | G33: 76 | H33: 41 | I33: 7
A34: 31 | B34: Køge | C34: 54 | D34: 38 | E34: 85 | F34: 83 | G34: 77 | H34: 54 | I34: 20
A35: 24 | B35: Halsnæs | C35: 23 | D35: 24 | E35: 43 | F35: 57 | G35: 53 | H35: 34 | I35: 12
A36: 33 | B36: Roskilde | C36: 48 | D36: 48 | E36: 83 | F36: 113 | G36: 125 | H36: 70 | I36: 41
A37: 34 | B37: Solrød | C37: 6 | D37: 10 | E37: 15 | F37: 33 | G37: 26 | H37: 15 | I37: 6
A38: 23 | B38: Gribskov | C38: 31 | D38: 34 | E38: 73 | F38: 91 | G38: 77 | H38: 46 | I38: 23
A39: 41 | B39: Odsherred | C39: 28 | D39: 33 | E39: 47 | F39: 58 | G39: 74 | H39: 41 | I39: 11
A40: 37 | B40: Holbæk | C40: 24 | D40: 35 | E40: 56 | F40: 69 | G40: 69 | H40: 44 | I40: 23
A41: 35 | B41: Faxe | C41: 33 | D41: 36 | E41: 47 | F41: 64 | G41: 64 | H41: 36 | I41: 14
A42: 38 | B42: Kalundborg | C42: 34 | D42: 22 | E42: 52 | F42: 64 | G42: 64 | H42: 32 | I42: 29
A43: 42 | B43: Ringsted | C43: 15 | D43: 19 | E43: 29 | F43: 46 | G43: 50 | H43: 19 | I43: 9
... A67: 58 | B67: Esbjerg | C67: 102 | D67: 74 | E67: 146 | F67: 162 | G67: 189 | H67: 106 | I67: 38
A68: 59 | B68: Fanø | C68: =VLOOKUP($B68&C$2,Befolkningsfremskrivning!$A$4:$AC$800,5,FALSE)*(M$6/100) -> 1.8318072 | D68: =VLOOKUP($B68&D$2,Befolkningsfremskrivning!$A$4:$AC$800,5,FALSE)*(N$6/100) -> 3.909723 | E68: =VLOOKUP($B68&E$2,Befolkningsfremskrivning!$A$4:$AC$800,5,FALSE)*(O$6/100) -> 8.4798602 | F68: =VLOOKUP($B68&F$2,Befolkningsfremskrivning!$A$4:$AC$800,5,FALSE)*(P$6/100) -> 8.2790905 | G68: =VLOOKUP($B68&G$2,Befolkningsfremskrivning!$A$4:$AC$800,5,FALSE)*(Q$6/100) -> 6.2186293 | H68: =VLOOKUP($B68&H$2,Befolkningsfremskrivning!$A$4:$AC$800,5,FALSE)*(R$6/100) -> 3.7472509 | I68: =VLOOKUP($B68&I$2,Befolkningsfremskrivning!$A$4:$AC$800,5,FALSE)*(S$6/100) -> 2.5532562
A69: 65 | B69: Varde | C69: 21 | D69: 22 | E69: 65 | F69: 87 | G69: 101 | H69: 77 | I69: 23
A70: 66 | B70: Vejen | C70: 26 | D70: 18 | E70: 42 | F70: 59 | G70: 81 | H70: 51 | I70: 9
A71: 68 | B71: Aabenraa | C71: 60 | D71: 32 | E71: 59 | F71: 68 | G71: 98 | H71: 62 | I71: 27
A72: 60 | B72: Fredericia | C72: 26 | D72: 29 | E72: 57 | F72: 83 | G72: 58 | H72: 68 | I72: 18
A73: 71 | B73: Horsens | C73: 69 | D73: 58 | E73: 103 | F73: 132 | G73: 128 | H73: 73 | I73: 27
A74: 62 | B74: Kolding | C74: 55 | D74: 36 | E74: 96 | F74: 108 | G74: 135 | H74: 76 | I74: 39
A75: 67 | B75: Vejle | C75: 118 | D75: 68 | E75: 132 | F75: 172 | G75: 210 | H75: 123 | I75: 52
A76: 80 | B76: Herning | C76: 74 | D76: 59 | E76: 112 | F76: 142 | G76: 151 | H76: 89 | I76: 55
A77: 81 | B77: Holstebro | C77: 40 | D77: 24 | E77: 66 | F77: 86 | G77: 105 | H77: 65 | I77: 27
A78: 83 | B78: Lemvig | C78: 13 | D78: 15 | E78: 27 | F78: 32 | G78: 45 | H78: 36 | I78: 10
A79: 86 | B79: Struer | C79: 15 | D79: 15 | E79: 31 | F79: 34 | G79: 35 | H79: 32 | I79: 11
A80: 78 | B80: Syddjurs | C80: 30 | D80: 18 | E80: 62 | F80: 76 | G80: 63 | H80: 36 | I80: 18
... A85: 76 | B85: Silkeborg | C85: 60 | D85: 67 | E85: 108 | F85: 131 | G85: 120 | H85: 87 | I85: 35
A86: 75 | B86: Samsø | C86: =VLOOKUP($B86&C$2,Befolkningsfremskrivning!$A$4:$AC$800,5,FALSE)*(M$6/100) -> 2.1568052 | D86: =VLOOKUP($B86&D$2,Befolkningsfremskrivning!$A$4:$AC$800,5,FALSE)*(N$6/100) -> 3.9450519 | E86: =VLOOKUP($B86&E$2,Befolkningsfremskrivning!$A$4:$AC$800,5,FALSE)*(O$6/100) -> 7.6592285 | F86: =VLOOKUP($B86&F$2,Befolkningsfremskrivning!$A$4:$AC$800,5,FALSE)*(P$6/100) -> 8.2031356 | G86: =VLOOKUP($B86&G$2,Befolkningsfremskrivning!$A$4:$AC$800,5,FALSE)*(Q$6/100) -> 9.2035713 | H86: =VLOOKUP($B86&H$2,Befolkningsfremskrivning!$A$4:$AC$800,5,FALSE)*(R$6/100) -> 6.7738766 | I86: =VLOOKUP($B86&I$2,Befolkningsfremskrivning!$A$4:$AC$800,5,FALSE)*(S$6/100) -> 3.0639075
A87: 77 | B87: Skanderborg | C87: 27 | D87: 29 | E87: 51 | F87: 77 | G87: 79 | H87: 42 | I87: 16
A88: 79 | B88: Aarhus | C88: 203 | D88: 242 | E88: 388 | F88: 437 | G88: 536 | H88: 326 | I88: 135
A89: 82 | B89: Ikast-Brande | C89: 31 | D89: 20 | E89: 38 | F89: 56 | G89: 56 | H89: 50 | I89: 18
A90: 84 | B90: Ringkøbing-Skjern | C90: 31 | D90: 21 | E90: 68 | F90: 96 | G90: 134 | H90: 86 | I90: 38
A91: 70 | B91: Hedensted | C91: 19 | D91: 17 | E91: 32 | F91: 66 | G91: 66 | H91: 47 | I91: 29
A92: 94 | B92: Morsø | C92: 23 | D92: 20 | E92: 43 | F92: 42 | G92: 44 | H92: 41 | I92: 24
A93: 85 | B93: Skive | C93: 41 | D93: 24 | E93: 56 | F93: 84 | G93: 91 | H93: 86 | I93: 22
A94: 96 | B94: Thisted | C94: 30 | D94: 37 | E94: 72 | F94: 88 | G94: 88 | H94: 71 | I94: 27
A95: 87 | B95: Viborg | C95: 80 | D95: 59 | E95: 118 | F95: 142 | G95: 170 | H95: 97 | I95: 41
A96: 88 | B96: Brønderslev | C96: 22 | D96: 28 | E96: 48 | F96: 65 | G96: 71 | H96: 57 | I96: 18
A97: 89 | B97: Frederikshavn | C97: 49 | D97: 30 | E97: 97 | F97: 112 | G97: 90 | H97: 76 | I97: 33
A98: 97 | B98: Vesthimmerlands | C98: 25 | D98: 28 | E98: 42 | F98: 66 | G98: 69 | H98: 64 | I98: 25
A99: 92 | B99: Læsø | C99: =VLOOKUP($B99&C$2,Befolkningsfremskrivning!$A$4:$AC$800,5,FALSE)*(M$6/100) -> 0.93560044 | D99: =VLOOKUP($B99&D$2,Befolkningsfremskrivning!$A$4:$AC$800,5,FALSE)*(N$6/100) -> 1.8959801 | E99: =VLOOKUP($B99&E$2,Befolkningsfremskrivning!$A$4:$AC$800,5,FALSE)*(O$6/100) -> 4.9486574 | F99: =VLOOKUP($B99&F$2,Befolkningsfremskrivning!$A$4:$AC$800,5,FALSE)*(P$6/100) -> 4.4053876 | G99: =VLOOKUP($B99&G$2,Befolkningsfremskrivning!$A$4:$AC$800,5,FALSE)*(Q$6/100) -> 5.804054 | H99: =VLOOKUP($B99&H$2,Befolkningsfremskrivning!$A$4:$AC$800,5,FALSE)*(R$6/100) -> 2.5942506 | I99: =VLOOKUP($B99&I$2,Befolkningsfremskrivning!$A$4:$AC$800,5,FALSE)*(S$6/100) -> 0.76597687
A100: 95 | B100: Rebild | C100: 12 | D100: 17 | E100: 31 | F100: 37 | G100: 65 | H100: 46 | I100: 14
A101: 93 | B101: Mariagerfjord | C101: 46 | D101: 24 | E101: 48 | F101: 74 | G101: 94 | H101: 55 | I101: 15
A102: 91 | B102: Jammerbugt | C102: 22 | D102: 21 | E102: 40 | F102: 50 | G102: 64 | H102: 41 | I102: 12
A103: 98 | B103: Aalborg | C103: 171 | D103: 153 | E103: 268 | F103: 346 | G103: 356 | H103: 274 | I103: 107
A104: 90 | B104: Hjørring | C104: 27 | D104: 24 | E104: 60 | F104: 91 | G104: 106 | H104: 58 | I104: 33
B105: All | C105: 4142 | D105: 3521 | E105: 6730 | F105: 8425 | G105: 9036 | H105: 5911 | I105: 2517

Sheet Befolkningsfremskrivning
B1: Kilde: | C1: DST, FRKM125 | D1: Bearbejdet i Python, se notebook: "Befolkningsfremskrivning"
C3: kommune | D3: kategori | E3: 2026 | F3: =E3+1 -> 2027 | G3: =F3+1 -> 2028 | H3: =G3+1 -> 2029 | I3: =H3+1 -> 2030 | J3: =I3+1 -> 2031 | K3: =J3+1 -> 2032 | L3: =K3+1 -> 2033 | M3: =L3+1 -> 2034 | ... AC3: =AB3+1 -> 2050
A4: =C4&D4 -> AabenraaAlder i alt | B4: 0 | C4: Aabenraa | D4: Alder i alt | E4: 58494 | F4: 57978 | G4: 57784 | H4: 57602 | I4: 57422 | J4: 57248 | K4: 57085 | L4: 56930 | M4: 56784 | N4: 56641 | O4: 56498 | P4: 56354 | Q4: 56201 | R4: 56039 | S4: 55878 | T4: 55720 | U4: 55571 | V4: 55429 | W4: 55295 | X4: 55170 | Y4: 55047 | Z4: 54926 | AA4: 54802 | AB4: 54676 | AC4: 54549
A5: =C5&D5 -> AalborgAlder i alt | B5: 1 | C5: Aalborg | D5: Alder i alt | E5: 225942 | F5: 226203 | G5: 227286 | H5: 228346 | I5: 229364 | J5: 230308 | K5: 231149 | L5: 231883 | M5: 232518 | N5: 233084 | O5: 233620 | P5: 234166 | Q5: 234731 | R5: 235302 | S5: 235851 | T5: 236360 | U5: 236817 | V5: 237211 | W5: 237525 | X5: 237772 | Y5: 237983 | Z5: 238200 | AA5: 238435 | AB5: 238686 | AC5: 238942
A6: =C6&D6 -> AarhusAlder i alt | B6: 2 | C6: Aarhus | D6: Alder i alt | E6: 377737 | F6: 379741 | G6: 383397 | H6: 387010 | I6: 390527 | J6: 393915 | K6: 397093 | L6: 400010 | M6: 402627 | N6: 405016 | O6: 407271 | P6: 409510 | Q6: 411829 | R6: 414235 | S6: 416652 | T6: 419047 | U6: 421411 | V6: 423720 | W6: 425892 | X6: 427840 | Y6: 429660 | Z6: 431481 | AA6: 433387 | AB6: 435358 | AC6: 437365
A7: =C7&D7 -> AlbertslundAlder i alt | B7: 3 | C7: Albertslund | D7: Alder i alt | E7: 28207 | F7: 27957 | G7: 27987 | H7: 28024 | I7: 28064 | J7: 28099 | K7: 28137 | L7: 28168 | M7: 28199 | N7: 28233 | O7: 28269 | P7: 28307 | Q7: 28346 | R7: 28387 | S7: 28428 | T7: 28466 | U7: 28503 | V7: 28540 | W7: 28574 | X7: 28608 | Y7: 28641 | Z7: 28673 | AA7: 28705 | AB7: 28733 | AC7: 28757 | AF7: {=_xlfn.UNIQUE(D4:D787)} -> Alder i alt
A8: =C8&D8 -> AllerødAlder i alt | B8: 4 | C8: Allerød | D8: Alder i alt | E8: 26101 | F8: 25878 | G8: 25822 | H8: 25769 | I8: 25716 | J8: 25673 | K8: 25645 | L8: 25628 | M8: 25621 | N8: 25619 | O8: 25620 | P8: 25618 | Q8: 25609 | R8: 25591 | S8: 25565 | T8: 25534 | U8: 25503 | V8: 25473 | W8: 25448 | X8: 25424 | Y8: 25396 | Z8: 25364 | AA8: 25327 | AB8: 25286 | AC8: 25241 | AF8: Under 70 år
A9: =C9&D9 -> AssensAlder i alt | B9: 5 | C9: Assens | D9: Alder i alt | E9: 40407 | F9: 40084 | G9: 39981 | H9: 39884 | I9: 39791 | J9: 39703 | K9: 39627 | L9: 39555 | M9: 39489 | N9: 39428 | O9: 39372 | P9: 39314 | Q9: 39255 | R9: 39193 | S9: 39129 | T9: 39062 | U9: 38999 | V9: 38937 | W9: 38883 | X9: 38827 | Y9: 38776 | Z9: 38720 | AA9: 38666 | AB9: 38608 | AC9: 38548 | AF9: 70-74 år
A10: =C10&D10 -> BallerupAlder i alt | B10: 6 | C10: Ballerup | D10: Alder i alt | E10: 53602 | F10: 53669 | G10: 54207 | H10: 54733 | I10: 55244 | J10: 55750 | K10: 56244 | L10: 56725 | M10: 57195 | N10: 57656 | O10: 58100 | P10: 58523 | Q10: 58923 | R10: 59302 | S10: 59661 | T10: 60005 | U10: 60328 | V10: 60637 | W10: 60935 | X10: 61215 | Y10: 61475 | Z10: 61713 | AA10: 61932 | AB10: 62132 | AC10: 62310 | AF10: 75-79 år
A11: =C11&D11 -> BillundAlder i alt | B11: 7 | C11: Billund | D11: Alder i alt | E11: 27248 | F11: 27110 | G11: 27141 | H11: 27175 | I11: 27207 | J11: 27239 | K11: 27272 | L11: 27305 | M11: 27341 | N11: 27376 | O11: 27408 | P11: 27434 | Q11: 27452 | R11: 27467 | S11: 27477 | T11: 27487 | U11: 27492 | V11: 27499 | W11: 27501 | X11: 27503 | Y11: 27500 | Z11: 27496 | AA11: 27487 | AB11: 27475 | AC11: 27458 | AF11: 80-84 år
A12: =C12&D12 -> BornholmAlder i alt | B12: 8 | C12: Bornholm | D12: Alder i alt | E12: 38799 | F12: 38316 | G12: 38097 | H12: 37885 | I12: 37680 | J12: 37483 | K12: 37295 | L12: 37114 | M12: 36934 | N12: 36751 | O12: 36573 | P12: 36389 | Q12: 36207 | R12: 36024 | S12: 35840 | T12: 35656 | U12: 35474 | V12: 35299 | W12: 35138 | X12: 34979 | Y12: 34824 | Z12: 34673 | AA12: 34528 | AB12: 34384 | AC12: 34243 | AF12: 85-89 år
A13: =C13&D13 -> BrøndbyAlder i alt | B13: 9 | C13: Brøndby | D13: Alder i alt | E13: 41311 | F13: 41593 | G13: 42296 | H13: 42971 | I13: 43611 | J13: 44222 | K13: 44800 | L13: 45347 | M13: 45861 | N13: 46347 | O13: 46808 | P13: 47243 | Q13: 47656 | R13: 48045 | S13: 48415 | T13: 48759 | U13: 49080 | V13: 49382 | W13: 49664 | X13: 49922 | Y13: 50160 | Z13: 50382 | AA13: 50589 | AB13: 50783 | AC13: 50961 | AF13: 90-94 år
A14: =C14&D14 -> BrønderslevAlder i alt | B14: 10 | C14: Brønderslev | D14: Alder i alt | E14: 36784 | F14: 36637 | G14: 36665 | H14: 36692 | I14: 36716 | J14: 36745 | K14: 36781 | L14: 36820 | M14: 36861 | N14: 36905 | O14: 36940 | P14: 36964 | Q14: 36976 | R14: 36976 | S14: 36964 | T14: 36947 | U14: 36924 | V14: 36898 | W14: 36872 | X14: 36847 | Y14: 36822 | Z14: 36791 | AA14: 36756 | AB14: 36715 | AC14: 36669 | AF14: 95+ år
A15: =C15&D15 -> ChristiansøAlder i alt | B15: 12 | C15: Christiansø | D15: Alder i alt | E15: 0 | F15: 0 | G15: 0 | H15: 0 | I15: 0 | J15: 0 | K15: 0 | L15: 0 | M15: 0 | N15: 0 | O15: 0 | P15: 0 | Q15: 0 | R15: 0 | S15: 0 | T15: 0 | U15: 0 | V15: 0 | W15: 0 | X15: 0 | Y15: 0 | Z15: 0 | AA15: 0 | AB15: 0 | AC15: 0
A16: =C16&D16 -> DragørAlder i alt | B16: 13 | C16: Dragør | D16: Alder i alt | E16: 14377 | F16: 14177 | G16: 14080 | H16: 13992 | I16: 13907 | J16: 13826 | K16: 13752 | L16: 13685 | M16: 13621 | N16: 13561 | O16: 13507 | P16: 13457 | Q16: 13410 | R16: 13366 | S16: 13324 | T16: 13286 | U16: 13247 | V16: 13211 | W16: 13181 | X16: 13156 | Y16: 13133 | Z16: 13108 | AA16: 13084 | AB16: 13059 | AC16: 13032
A17: =C17&D17 -> EgedalAlder i alt | B17: 14 | C17: Egedal | D17: Alder i alt | E17: 45903 | F17: 45798 | G17: 46025 | H17: 46248 | I17: 46472 | J17: 46695 | K17: 46922 | L17: 47153 | M17: 47386 | N17: 47621 | O17: 47849 | P17: 48057 | Q17: 48249 | R17: 48421 | S17: 48575 | T17: 48709 | U17: 48823 | V17: 48920 | W17: 49008 | X17: 49086 | Y17: 49153 | Z17: 49206 | AA17: 49245 | AB17: 49270 | AC17: 49283
A18: =C18&D18 -> EsbjergAlder i alt | B18: 15 | C18: Esbjerg | D18: Alder i alt | E18: 115126 | F18: 114560 | G18: 114409 | H18: 114246 | I18: 114066 | J18: 113871 | K18: 113660 | L18: 113441 | M18: 113211 | N18: 112972 | O18: 112727 | P18: 112471 | Q18: 112206 | R18: 111933 | S18: 111656 | T18: 111372 | U18: 111083 | V18: 110791 | W18: 110512 | X18: 110240 | Y18: 109978 | Z18: 109720 | AA18: 109463 | AB18: 109209 | AC18: 108957
A19: =C19&D19 -> Faaborg-MidtfynAlder i alt | B19: 16 | C19: Faaborg-Midtfyn | D19: Alder i alt | E19: 52376 | F19: 52117 | G19: 52147 | H19: 52180 | I19: 52219 | J19: 52266 | K19: 52323 | L19: 52387 | M19: 52460 | N19: 52533 | O19: 52602 | P19: 52664 | Q19: 52721 | R19: 52767 | S19: 52803 | T19: 52831 | U19: 52850 | V19: 52859 | W19: 52859 | X19: 52859 | Y19: 52853 | Z19: 52839 | AA19: 52815 | AB19: 52785 | AC19: 52750
A20: =C20&D20 -> FanøAlder i alt | B20: 17 | C20: Fanø | D20: Alder i alt | E20: 3233 | F20: 3165 | G20: 3125 | H20: 3088 | I20: 3050 | J20: 3017 | K20: 2982 | L20: 2954 | M20: 2925 | N20: 2894 | O20: 2867 | P20: 2839 | Q20: 2810 | R20: 2785 | S20: 2759 | T20: 2735 | U20: 2713 | V20: 2693 | W20: 2674 | X20: 2655 | Y20: 2641 | Z20: 2625 | AA20: 2612 | AB20: 2598 | AC20: 2586
A21: =C21&D21 -> FavrskovAlder i alt | B21: 18 | C21: Favrskov | D21: Alder i alt | E21: 49557 | F21: 49454 | G21: 49607 | H21: 49771 | I21: 49948 | J21: 50140 | K21: 50347 | L21: 50570 | M21: 50808 | N21: 51056 | O21: 51307 | P21: 51552 | Q21: 51783 | R21: 52000 | S21: 52204 | T21: 52390 | U21: 52557 | V21: 52704 | W21: 52835 | X21: 52963 | Y21: 53087 | Z21: 53199 | AA21: 53294 | AB21: 53372 | AC21: 53438
A22: =C22&D22 -> FaxeAlder i alt | B22: 19 | C22: Faxe | D22: Alder i alt | E22: 37989 | F22: 37781 | G22: 37864 | H22: 37940 | I22: 38017 | J22: 38092 | K22: 38169 | L22: 38247 | M22: 38326 | N22: 38403 | O22: 38471 | P22: 38531 | Q22: 38583 | R22: 38625 | S22: 38658 | T22: 38684 | U22: 38702 | V22: 38716 | W22: 38725 | X22: 38732 | Y22: 38735 | Z22: 38733 | AA22: 38724 | AB22: 38708 | AC22: 38685
A23: =C23&D23 -> FredensborgAlder i alt | B23: 20 | C23: Fredensborg | D23: Alder i alt | E23: 42396 | F23: 42129 | G23: 42242 | H23: 42352 | I23: 42466 | J23: 42580 | K23: 42689 | L23: 42798 | M23: 42905 | N23: 43013 | O23: 43110 | P23: 43197 | Q23: 43271 | R23: 43333 | S23: 43383 | T23: 43425 | U23: 43457 | V23: 43483 | W23: 43502 | X23: 43517 | Y23: 43527 | Z23: 43528 | AA23: 43520 | AB23: 43505 | AC23: 43482
A24: =C24&D24 -> FredericiaAlder i alt | B24: 21 | C24: Fredericia | D24: Alder i alt | E24: 52875 | F24: 52761 | G24: 52931 | H24: 53090 | I24: 53241 | J24: 53385 | K24: 53520 | L24: 53648 | M24: 53771 | N24: 53892 | O24: 54013 | P24: 54127 | Q24: 54232 | R24: 54328 | S24: 54415 | T24: 54496 | U24: 54570 | V24: 54636 | W24: 54693 | X24: 54745 | Y24: 54792 | Z24: 54829 | AA24: 54857 | AB24: 54878 | AC24: 54890
A25: =C25&D25 -> FrederiksbergAlder i alt | B25: 22 | C25: Frederiksberg | D25: Alder i alt | E25: 105909 | F25: 104535 | G25: 104370 | H25: 104219 | I25: 104072 | J25: 103918 | K25: 103753 | L25: 103562 | M25: 103348 | N25: 103122 | O25: 102898 | P25: 102691 | Q25: 102515 | R25: 102363 | S25: 102229 | T25: 102108 | U25: 102005 | V25: 101912 | W25: 101825 | X25: 101737 | Y25: 101657 | Z25: 101598 | AA25: 101563 | AB25: 101548 | AC25: 101551
A26: =C26&D26 -> FrederikshavnAlder i alt | B26: 23 | C26: Frederikshavn | D26: Alder i alt | E26: 57606 | F26: 57069 | G26: 56755 | H26: 56451 | I26: 56154 | J26: 55866 | K26: 55588 | L26: 55320 | M26: 55059 | N26: 54805 | O26: 54550 | P26: 54291 | Q26: 54031 | R26: 53769 | S26: 53512 | T26: 53259 | U26: 53009 | V26: 52769 | W26: 52539 | X26: 52319 | Y26: 52104 | Z26: 51892 | AA26: 51682 | AB26: 51474 | AC26: 51266
... A787: =C787&D787 -> Tønder95+ år | B787: 791 | C787: Tønder | D787: 95+ år | E787: 75 | F787: 76 | G787: 78 | H787: 78 | I787: 83 | J787: 88 | K787: 96 | L787: 104 | M787: 115 | N787: 116 | O787: 117 | P787: 124 | Q787: 136 | R787: 146 | S787: 153 | T787: 166 | U787: 178 | V787: 191 | W787: 196 | X787: 198 | Y787: 200 | Z787: 198 | AA787: 202 | AB787: 212 | AC787: 224
A788: =C788&D788 -> Vallensbæk95+ år | C788: Vallensbæk | D788: 95+ år | E788: 19 | F788: 17 | G788: 17 | H788: 23 | I788: 27 | J788: 26 | K788: 28 | L788: 32 | M788: 33 | N788: 38 | O788: 41 | P788: 46 | Q788: 53 | R788: 64 | S788: 69 | T788: 74 | U788: 79 | V788: 79 | W788: 78 | X788: 75 | Y788: 72 | Z788: 70 | AA788: 70 | AB788: 69 | AC788: 66
A789: =C789&D789 -> Varde95+ år | C789: Varde | D789: 95+ år | E789: 104 | F789: 108 | G789: 122 | H789: 120 | I789: 126 | J789: 125 | K789: 129 | L789: 139 | M789: 145 | N789: 150 | O789: 157 | P789: 168 | Q789: 176 | R789: 182 | S789: 189 | T789: 202 | U789: 224 | V789: 233 | W789: 237 | X789: 244 | Y789: 249 | Z789: 251 | AA789: 260 | AB789: 267 | AC789: 282
A790: =C790&D790 -> Vejen95+ år | C790: Vejen | D790: 95+ år | E790: 96 | F790: 93 | G790: 91 | H790: 101 | I790: 105 | J790: 109 | K790: 118 | L790: 121 | M790: 123 | N790: 130 | O790: 139 | P790: 143 | Q790: 149 | R790: 160 | S790: 164 | T790: 183 | U790: 199 | V790: 205 | W790: 205 | X790: 203 | Y790: 207 | Z790: 208 | AA790: 214 | AB790: 223 | AC790: 225
A791: =C791&D791 -> Vejle95+ år | C791: Vejle | D791: 95+ år | E791: 209 | F791: 202 | G791: 209 | H791: 207 | I791: 223 | J791: 234 | K791: 251 | L791: 274 | M791: 297 | N791: 310 | O791: 335 | P791: 357 | Q791: 386 | R791: 412 | S791: 448 | T791: 493 | U791: 532 | V791: 562 | W791: 581 | X791: 578 | Y791: 585 | Z791: 588 | AA791: 595 | AB791: 611 | AC791: 618
A792: =C792&D792 -> Vesthimmerlands95+ år | C792: Vesthimmerlands | D792: 95+ år | E792: 84 | F792: 83 | G792: 83 | H792: 90 | I792: 94 | J792: 96 | K792: 102 | L792: 110 | M792: 118 | N792: 127 | O792: 137 | P792: 147 | Q792: 156 | R792: 167 | S792: 179 | T792: 192 | U792: 204 | V792: 209 | W792: 217 | X792: 221 | Y792: 227 | Z792: 229 | AA792: 230 | AB792: 235 | AC792: 236
A793: =C793&D793 -> Viborg95+ år | C793: Viborg | D793: 95+ år | E793: 186 | F793: 198 | G793: 199 | H793: 202 | I793: 221 | J793: 229 | K793: 245 | L793: 263 | M793: 276 | N793: 291 | O793: 305 | P793: 330 | Q793: 361 | R793: 387 | S793: 423 | T793: 461 | U793: 508 | V793: 532 | W793: 543 | X793: 550 | Y793: 562 | Z793: 571 | AA793: 569 | AB793: 599 | AC793: 609
A794: =C794&D794 -> Vordingborg95+ år | C794: Vordingborg | D794: 95+ år | E794: 95 | F794: 101 | G794: 105 | H794: 109 | I794: 108 | J794: 116 | K794: 129 | L794: 139 | M794: 154 | N794: 169 | O794: 178 | P794: 188 | Q794: 212 | R794: 231 | S794: 258 | T794: 280 | U794: 293 | V794: 312 | W794: 321 | X794: 320 | Y794: 324 | Z794: 321 | AA794: 326 | AB794: 327 | AC794: 335
A795: =C795&D795 -> Ærø95+ år | C795: Ærø | D795: 95+ år | E795: 26 | F795: 24 | G795: 24 | H795: 25 | I795: 26 | J795: 27 | K795: 32 | L795: 32 | M795: 33 | N795: 36 | O795: 41 | P795: 39 | Q795: 43 | R795: 48 | S795: 48 | T795: 51 | U795: 57 | V795: 59 | W795: 60 | X795: 60 | Y795: 58 | Z795: 57 | AA795: 58 | AB795: 60 | AC795: 61

Sheet Lister
A1: Lister til rullemenuer (datavalidering)
A3: Kommuner | C3: Behovsgrad-scenarier | E3: Venteliste-scenarier
A4: ='Indskrevne plejebolig dec 2025'!B7 -> København | C4: ='Analyse behovsgrad'!A3 -> Ingen udvikling i behovsgrad | E4: ='Beregning 2026'!A4 -> Jeg har indtastet venteliste efter aldersgruppe
A5: ='Indskrevne plejebolig dec 2025'!B8 -> Frederiksberg | C5: ='Analyse behovsgrad'!A4 -> Tilpasning til aktuelt landsgennemsnit for indskrevne (ekskl. ventelister) | E5: ='Beregning 2026'!A5 -> Jeg har indtastet venteliste i alt
A6: ='Indskrevne plejebolig dec 2025'!B9 -> Ballerup | C6: ='Analyse behovsgrad'!A5 -> Gennemsnitlig ændring i beboere 2019-2026, hele landet
A7: ='Indskrevne plejebolig dec 2025'!B10 -> Brøndby
A8: ='Indskrevne plejebolig dec 2025'!B11 -> Dragør
A9: ='Indskrevne plejebolig dec 2025'!B12 -> Gentofte
A10: ='Indskrevne plejebolig dec 2025'!B13 -> Gladsaxe
A11: ='Indskrevne plejebolig dec 2025'!B14 -> Glostrup
A12: ='Indskrevne plejebolig dec 2025'!B15 -> Herlev
A13: ='Indskrevne plejebolig dec 2025'!B16 -> Albertslund
A14: ='Indskrevne plejebolig dec 2025'!B17 -> Hvidovre
A15: ='Indskrevne plejebolig dec 2025'!B18 -> Høje-Taastrup
A16: ='Indskrevne plejebolig dec 2025'!B19 -> Lyngby-Taarbæk
A17: ='Indskrevne plejebolig dec 2025'!B20 -> Rødovre
A18: ='Indskrevne plejebolig dec 2025'!B21 -> Ishøj
... A101: ='Indskrevne plejebolig dec 2025'!B104 -> Hjørring
