Workbook

Sheet Model
B2: Fremskrivningsmodel for plejeboligbehov
B4: Vælg kommune | D4: København
B6: Forudsætninger | K6: Scenarier
B7: Behovsgrader i kommunen | L7: Ændringer i behovsgraden
B8: Indtast venteliste enten for aldergrupperne eller i alt | I8: Andel i plejehjemsbolig, DST | O8: I løbet af
C9: Indskrevne pr. dec. 2025 | D9: Indtast venteliste i alt eller pr. aldersgruppe | E9: Benyttet værdi | F9: Beregnet personer med behov i alt | G9: Beregnet behovsgrad | I9: Kommunen | J9: Landsplan | L9: ="Behovsgrad i "&2024+O10 -> Behovsgrad i 2034 | O9: (helt antal år)
B10: Under 70 år | C10: =VLOOKUP($D$4,'Indskrevne plejebolig dec 2025'!$B$7:$I$104,COUNTA($B$10:B10)+1,FALSE) -> 353 | E10: =IF($D$19="Jeg har indtastet venteliste i alt",'Beregning 2026'!M22,Model!D10) -> 0 | F10: ='Beregning 2026'!I22 -> 353 | G10: ='Beregning 2026'!L22 -> 0.056810958 | I10: ='Beregning 2026'!K22 -> 0.056810958 | J10: ='Analyse behovsgrad'!G232 -> 0.08209354 | L10: Under 70 år | M10: ='Analyse behovsgrad'!B13 -> 0.063878156 | O10: 10
B11: 70-74 år | C11: =VLOOKUP($D$4,'Indskrevne plejebolig dec 2025'!$B$7:$I$104,COUNTA($B$10:B11)+1,FALSE) -> 354 | E11: =IF($D$19="Jeg har indtastet venteliste i alt",'Beregning 2026'!M23,Model!D11) -> 0 | F11: ='Beregning 2026'!I23 -> 354 | G11: ='Beregning 2026'!L23 -> 1.951596 | I11: ='Beregning 2026'!K23 -> 1.951596 | J11: ='Analyse behovsgrad'!G233 -> 1.1934814 | L11: 70-74 år | M11: ='Analyse behovsgrad'!B14 -> 2.2419633
B12: 75-79 år | C12: =VLOOKUP($D$4,'Indskrevne plejebolig dec 2025'!$B$7:$I$104,COUNTA($B$10:B12)+1,FALSE) -> 593 | E12: =IF($D$19="Jeg har indtastet venteliste i alt",'Beregning 2026'!M24,Model!D12) -> 0 | F12: ='Beregning 2026'!I24 -> 593 | G12: ='Beregning 2026'!L24 -> 3.7665142 | I12: ='Beregning 2026'!K24 -> 3.7665142 | J12: ='Analyse behovsgrad'!G234 -> 2.4092028 | L12: 75-79 år | M12: ='Analyse behovsgrad'!B15 -> 3.9558314
B13: 80-84 år | C13: =VLOOKUP($D$4,'Indskrevne plejebolig dec 2025'!$B$7:$I$104,COUNTA($B$10:B13)+1,FALSE) -> 662 | E13: =IF($D$19="Jeg har indtastet venteliste i alt",'Beregning 2026'!M25,Model!D13) -> 0 | F13: ='Beregning 2026'!I25 -> 662 | G13: ='Beregning 2026'!L25 -> 6.3204124 | I13: ='Beregning 2026'!K25 -> 6.3204124 | J13: ='Analyse behovsgrad'!G235 -> 4.0831147 | L13: 80-84 år | M13: ='Analyse behovsgrad'!B16 -> 4.03698
B14: 85-89 år | C14: =VLOOKUP($D$4,'Indskrevne plejebolig dec 2025'!$B$7:$I$104,COUNTA($B$10:B14)+1,FALSE) -> 579 | E14: =IF($D$19="Jeg har indtastet venteliste i alt",'Beregning 2026'!M26,Model!D14) -> 0 | F14: ='Beregning 2026'!I26 -> 579 | G14: ='Beregning 2026'!L26 -> 12.207464 | I14: ='Beregning 2026'!K26 -> 12.207464 | J14: ='Analyse behovsgrad'!G236 -> 8.7305939 | L14: 85-89 år | M14: ='Analyse behovsgrad'!B17 -> 7.4967508
B15: 90-94 år | C15: =VLOOKUP($D$4,'Indskrevne plejebolig dec 2025'!$B$7:$I$104,COUNTA($B$10:B15)+1,FALSE) -> 381 | E15: =IF($D$19="Jeg har indtastet venteliste i alt",'Beregning 2026'!M27,Model!D15) -> 0 | F15: ='Beregning 2026'!I27 -> 381 | G15: ='Beregning 2026'!L27 -> 22.692079 | I15: ='Beregning 2026'!K27 -> 22.692079 | J15: ='Analyse behovsgrad'!G237 -> 15.401926 | L15: 90-94 år | M15: ='Analyse behovsgrad'!B18 -> 14.273059
B16: 95+ år | C16: =VLOOKUP($D$4,'Indskrevne plejebolig dec 2025'!$B$7:$I$104,COUNTA($B$10:B16)+1,FALSE) -> 182 | E16: =IF($D$19="Jeg har indtastet venteliste i alt",'Beregning 2026'!M28,Model!D16) -> 0 | F16: ='Beregning 2026'!I28 -> 182 | G16: ='Beregning 2026'!L28 -> 33.517495 | I16: ='Beregning 2026'!K28 -> 33.517495 | J16: ='Analyse behovsgrad'!G238 -> 24.043229 | L16: 95+ år | M16: ='Analyse behovsgrad'!B19 -> 16.889643
B18: I alt | C18: =SUM(C10:C16) -> 3104 | E18: =IF(D19="Jeg har indtastet venteliste i alt",D18,SUM(E10:E16)) -> 0 | F18: =SUM(F10:F17) -> 3104 | G18: ='Beregning 2026'!L30 -> 0.46143714 | I18: ='Beregning 2026'!K30 -> 0.46143714 | J18: ='Analyse behovsgrad'!G240 -> 0.67202232
B19: Vælg venteliste-scenarie | D19: Jeg har indtastet venteliste i alt
L20: Vælg evt. scenarie
L21: Gennemsnitlig ændring i beboere 2019-2026, hele landet
B22: NB! Hvis der ikke er indtastet en venteliste antages det, at behovet i kommunen er de indskrevne i en plejebolig.
B24: Gns. periode med plejeboligbehov
C25: Indtast | L25: Antal plejeboliger i starten af året | M25: 2026
B26: Gns. antal måneder i alt | C26: 33 | M26: =E44 -> 3394 | N26: Kilde: plejehjemsoversigt.dk, september 2025
B30: Tomgang ved fraflytning i plejeboliger 2026 | G30: Ændring i tomgangskapacitet fra 2026 | L30: Første år efter etablering eller nedlægning | M30: Nye plejeboliger | N30: Konverterede ældreboliger | O30: Nedlagte plejerboliger
H31: Indtast | L31: 2027
B32: Antal måneder | C32: 1 | G32: Ændres til (md.) | H32: 1 | L32: =L31+1 -> 2028
B33: - svarende til antal boliger | D33: =IF(NOT(ISBLANK($F$44)),MIN($F$44,F18)/$F$45*$F$46,MIN(F18,F18)/$F$45*$F$46) -> 94.060606 | G33: I løbet af (helt antal år) | H33: 1 | L33: =L32+1 -> 2029
B34: Udnyttelsesgrad (pct.) | D34: =(1-(D33/C55))*100 -> 97.228621 | L34: =L33+1 -> 2030
L35: =L34+1 -> 2031
L36: I alt | M36: =SUM(M31:M35) -> 0 | N36: =SUM(N31:N35) -> 0 | O36: =SUM(O31:O35) -> 0
B42: Nulstillingsværdier (udfyldes kun hvis du vil afvige fra standarden)
B43: Felt | D43: Dit input | E43: Standard | F43: Anvendt
B44: Antal plejeboliger (K26) | D44: =M26 -> 3394 | E44: =plejehjemsoversigt.dk!G4 -> 3394 | F44: =IF(ISBLANK(D44),E44,D44) -> 3394
B45: Gns. antal måneder med plejeboligbehov (C26) | D45: =C26 -> 33 | E45: 36 | F45: =IF(ISBLANK(D45),E45,D45) -> 33
B46: Tomgang: antal måneder (C32) | D46: =C32 -> 1 | E46: =1 -> 1 | F46: =IF(ISBLANK(D46),E46,D46) -> 1
B47: Tomgang ændres til, md. (G32) | D47: =H32 -> 1 | E47: =1 -> 1 | F47: =IF(ISBLANK(D47),E47,D47) -> 1
B48: Tomgang: i løbet af antal år (G33) | D48: =H33 -> 1 | E48: =1 -> 1 | F48: =IF(ISBLANK(D48),E48,D48) -> 1
B50: =IF(AND(ISBLANK(F20),COUNTA(M31:O35)=0),"","OBS: du har indtastet egne kapacitetsændringer og/eller ændret ventetid. Kontrollér, at de gælder den kommune, du har valgt ovenfor.")
B52: Hovedtal fra 2026 og fremskrivning - se mere detaljerede resultater i arket "Resultat"
C53: ='Resultat '!C3 -> 2026 | D53: ='Resultat '!D3 -> 2027 | E53: ='Resultat '!E3 -> 2028 | F53: ='Resultat '!F3 -> 2029 | G53: ='Resultat '!G3 -> 2030 | H53: ='Resultat '!H3 -> 2031 | I53: ='Resultat '!I3 -> 2032 | J53: ='Resultat '!J3 -> 2033 | ... P53: ='Resultat '!P3 -> 2039
B55: Antal boliger | C55: ='Resultat '!C13 -> 3394 | D55: ='Resultat '!D13 -> 3394 | E55: ='Resultat '!E13 -> 3394 | F55: ='Resultat '!F13 -> 3394 | G55: ='Resultat '!G13 -> 3394 | H55: ='Resultat '!H13 -> 3394 | I55: ='Resultat '!I13 -> 3394 | J55: ='Resultat '!J13 -> 3394 | ... P55: ='Resultat '!P13 -> 3394
B56: Tomgang ved fraflytning - svarende til antal boliger | C56: ='Resultat '!C16 -> 94.060606 | D56: ='Resultat '!D16 -> 94.831146 | E56: ='Resultat '!E16 -> 96.015996 | F56: ='Resultat '!F16 -> 97.269339 | G56: ='Resultat '!G16 -> 98.100067 | H56: ='Resultat '!H16 -> 99.094327 | I56: ='Resultat '!I16 -> 99.814341 | J56: ='Resultat '!J16 -> 100.49136 | ... P56: ='Resultat '!P16 -> 102.84848
...

Sheet Resultat 
A2: Resultat: Fremskrivning af plejeboligbehov
A3: Grønne felter har andre referencer eller formler | B3: =#REF! -> #REF! | C3: ='Beregning 2026'!C33 -> 2026 | D3: =C3+1 -> 2027 | E3: =D3+1 -> 2028 | F3: =E3+1 -> 2029 | G3: =F3+1 -> 2030 | H3: =G3+1 -> 2031 | I3: =H3+1 -> 2032 | J3: =I3+1 -> 2033 | K3: =J3+1 -> 2034 | ... W3: =V3+1 -> 2046 | Y3: =X3+1 -> 1
C4: (Udgangspunkt)
A5: Venteliste primo året | B5: 0 | C5: =B32 -> 0 | D5: =C32 -> 0 | E5: =D32 -> 0 | F5: =E32 -> 0 | G5: =F32 -> 0 | H5: =G32 -> 0 | I5: =H32 -> 0 | J5: =I32 -> 0 | ... W5: =V32 -> 826.67235 | Y5: =X32 -> 0
A7: Beboere primo året | B7: =MIN(B8,B13) -> #REF! | C7: ='Beregning 2026'!C30 -> 3104 | D7: =C25 -> 3129.4278 | E7: =D25 -> 3168.5279 | F7: =E25 -> 3209.8882 | G7: =F25 -> 3237.3022 | H7: =G25 -> 3270.1128 | I7: =H25 -> 3293.8733 | J7: =I25 -> 3294.1857 | K7: =J25 -> 3293.5086 | ... W7: =V25 -> 3291.1515 | Y7: =MIN(Y8,Y13) -> #REF!
A8: Antal borgere i kommunen med behov | B8: =#REF! -> #REF! | C8: ='Beregning 2026'!C69 -> 3104 | D8: ='Beregning 2026'!E69 -> 3129.4278 | E8: ='Beregning 2026'!F69 -> 3168.5279 | F8: ='Beregning 2026'!G69 -> 3209.8882 | G8: ='Beregning 2026'!H69 -> 3237.3022 | H8: ='Beregning 2026'!I69 -> 3270.1128 | I8: ='Beregning 2026'!J69 -> 3293.8733 | J8: ='Beregning 2026'!K69 -> 3316.2147 | K8: ='Beregning 2026'!L69 -> 3337.7764 | ... W8: ='Beregning 2026'!X69 -> 4201.8119 | Y8: =#REF! -> #REF!
A10: Nyetablerede plejeboliger | B10: =#REF! -> #REF! | C10: ='Beregning 2026'!C111 -> 0 | D10: ='Beregning 2026'!E111 -> 0 | E10: ='Beregning 2026'!F111 -> 0 | F10: ='Beregning 2026'!G111 -> 0 | G10: ='Beregning 2026'!H111 -> 0 | H10: ='Beregning 2026'!I111 -> 0 | I10: ='Beregning 2026'!J111 -> 0 | J10: ='Beregning 2026'!K111 -> 0 | K10: ='Beregning 2026'!L111 -> 0 | ... W10: ='Beregning 2026'!X111 -> 0 | Y10: =#REF! -> #REF!
A11: Konverterede ældreboliger | B11: =#REF! -> #REF! | C11: ='Beregning 2026'!C112 -> 0 | D11: ='Beregning 2026'!E112 -> 0 | E11: ='Beregning 2026'!F112 -> 0 | F11: ='Beregning 2026'!G112 -> 0 | G11: ='Beregning 2026'!H112 -> 0 | H11: ='Beregning 2026'!I112 -> 0 | I11: ='Beregning 2026'!J112 -> 0 | J11: ='Beregning 2026'!K112 -> 0 | K11: ='Beregning 2026'!L112 -> 0 | ... W11: ='Beregning 2026'!X112 -> 0 | Y11: =#REF! -> #REF!
A12: Nedlagte plejeboliger | B12: =#REF! -> #REF! | C12: ='Beregning 2026'!C113 -> 0 | D12: ='Beregning 2026'!E113 -> 0 | E12: ='Beregning 2026'!F113 -> 0 | F12: ='Beregning 2026'!G113 -> 0 | G12: ='Beregning 2026'!H113 -> 0 | H12: ='Beregning 2026'!I113 -> 0 | I12: ='Beregning 2026'!J113 -> 0 | J12: ='Beregning 2026'!K113 -> 0 | K12: ='Beregning 2026'!L113 -> 0 | ... W12: ='Beregning 2026'!X113 -> 0 | Y12: =#REF! -> #REF!
A13: Antal boliger i alt | B13: =IF(Model!$F$44>0,Model!$F$44,Model!#REF!)+B10+B11-B12 -> #REF! | C13: =IF(Model!O26>0,Model!O26,IF(Model!$F$44>0,Model!$F$44)+C10+C11-C12) -> 3394 | D13: =IF(Model!O26>0,Model!O26,C13)+D10+D11-D12 -> 3394 | E13: =D13+E10+E11-E12 -> 3394 | F13: =E13+F10+F11-F12 -> 3394 | G13: =F13+G10+G11-G12 -> 3394 | H13: =G13+H10+H11-H12 -> 3394 | I13: =H13+I10+I11-I12 -> 3394 | J13: =I13+J10+J11-J12 -> 3394 | K13: =J13+K10+K11-K12 -> 3394 | L13: =K13+L10+L11-L12 -> 3394 | ... W13: =V13+W10+W11-W12 -> 3394 | Y13: =X13+Y10+Y11-Y12 -> #REF!
A15: Tomgang ved fraflytning (md.) | B15: =#REF! -> #REF! | C15: ='Beregning 2026'!C115 -> 1 | D15: ='Beregning 2026'!E115 -> 1 | E15: ='Beregning 2026'!F115 -> 1 | F15: ='Beregning 2026'!G115 -> 1 | G15: ='Beregning 2026'!H115 -> 1 | H15: ='Beregning 2026'!I115 -> 1 | I15: ='Beregning 2026'!J115 -> 1 | J15: ='Beregning 2026'!K115 -> 1 | K15: ='Beregning 2026'!L115 -> 1 | ... W15: ='Beregning 2026'!X115 -> 1 | Y15: =#REF! -> #REF!
A16: - svarende til antal boliger (Pr. måned) | B16: =#REF! -> #REF! | C16: ='Beregning 2026'!C116 -> 94.060606 | D16: ='Beregning 2026'!E116 -> 94.831146 | E16: ='Beregning 2026'!F116 -> 96.015996 | F16: ='Beregning 2026'!G116 -> 97.269339 | G16: ='Beregning 2026'!H116 -> 98.100067 | H16: ='Beregning 2026'!I116 -> 99.094327 | I16: ='Beregning 2026'!J116 -> 99.814341 | J16: ='Beregning 2026'!K116 -> 100.49136 | K16: ='Beregning 2026'!L116 -> 101.14474 | ... W16: ='Beregning 2026'!X116 -> 102.84848 | Y16: ='Beregning 2026'!Z116 -> 102.84848
A18: Behovsgrad pr. over 70-årig (pct.) | B18: =#REF! -> #REF! | C18: ='Beregning 2026'!C54 -> 5.3602743 | D18: ='Beregning 2026'!E54 -> 5.2903015 | E18: ='Beregning 2026'!F54 -> 5.2417864 | F18: ='Beregning 2026'!G54 -> 5.1914925 | G18: ='Beregning 2026'!H54 -> 5.1192293 | H18: ='Beregning 2026'!I54 -> 5.046837 | I18: ='Beregning 2026'!J54 -> 4.956271 | J18: ='Beregning 2026'!K54 -> 4.8656043 | K18: ='Beregning 2026'!L54 -> 4.749348 | ... W18: ='Beregning 2026'!X54 -> 4.5829277 | Y18: =#REF! -> #REF!
A19: Ændring ift. udgangsniveau (pct.point) | B19: =#REF! -> #REF! | C19: ='Beregning 2026'!C57 -> 0 | D19: ='Beregning 2026'!E57 -> -0.1230722 | E19: ='Beregning 2026'!F57 -> -0.25665717 | F19: ='Beregning 2026'!G57 -> -0.39908077 | G19: ='Beregning 2026'!H57 -> -0.54497719 | H19: ='Beregning 2026'!I57 -> -0.7011862 | I19: ='Beregning 2026'!J57 -> -0.85873237 | J19: ='Beregning 2026'!K57 -> -1.0235574 | K19: ='Beregning 2026'!L57 -> -1.1853668 | ... W19: ='Beregning 2026'!X57 -> -1.6082261 | Y19: =#REF! -> #REF!
A21: Nyvisiterede i løbet af året (Behov) | B21: =#REF! -> #REF! | C21: ='Beregning 2026'!C94 -> 1154.1551 | D21: ='Beregning 2026'!E94 -> 1177.0738 | E21: ='Beregning 2026'!F94 -> 1193.5523 | F21: ='Beregning 2026'!G94 -> 1194.6461 | G21: ='Beregning 2026'!H94 -> 1210.0114 | H21: ='Beregning 2026'!I94 -> 1212.8924 | I21: ='Beregning 2026'!J94 -> 1220.1135 | J21: ='Beregning 2026'!K94 -> 1227.458 | K21: ='Beregning 2026'!L94 -> 1219.6142 | ... W21: ='Beregning 2026'!X94 -> 1608.0236 | Y21: =#REF! -> #REF!
A22: Afgang i boliger i løbet af året | B22: =#REF! -> #REF! | C22: ='Beregning 2026'!C81 -> 1234.1818 | D22: ='Beregning 2026'!E81 -> 1234.1818 | E22: ='Beregning 2026'!F81 -> 1234.1818 | F22: ='Beregning 2026'!G81 -> 1234.1818 | G22: ='Beregning 2026'!H81 -> 1234.1818 | H22: ='Beregning 2026'!I81 -> 1234.1818 | I22: ='Beregning 2026'!J81 -> 1234.1818 | J22: ='Beregning 2026'!K81 -> 1234.1818 | K22: ='Beregning 2026'!L81 -> 1234.1818 | ... W22: ='Beregning 2026'!X81 -> 1234.1818
A23: Afgang i behov i løbet af året | B23: =#REF! -> #REF! | C23: ='Beregning 2026'!C82 -> 1128.7273 | D23: ='Beregning 2026'!E82 -> 1137.9738 | E23: ='Beregning 2026'!F82 -> 1152.192 | F23: ='Beregning 2026'!G82 -> 1167.2321 | G23: ='Beregning 2026'!H82 -> 1177.2008 | H23: ='Beregning 2026'!I82 -> 1189.1319 | I23: ='Beregning 2026'!J82 -> 1197.7721 | J23: ='Beregning 2026'!K82 -> 1205.8963 | K23: ='Beregning 2026'!L82 -> 1213.7369 | ... W23: ='Beregning 2026'!X82 -> 1527.9316 | Y23: =#REF! -> #REF!
A25: Beboere efter nettotilgang | B25: =MIN(B13-B16,B7-B23+B21) -> #REF! | C25: =MIN(C13-C16,C7-C23+C21) -> 3129.4278 | D25: =MIN(D13-D16,D7-D23+D21) -> 3168.5279 | E25: =MIN(E13-E16,E7-E23+E21) -> 3209.8882 | F25: =MIN(F13-F16,F7-F23+F21) -> 3237.3022 | G25: =MIN(G13-G16,G7-G23+G21) -> 3270.1128 | H25: =MIN(H13-H16,H7-H23+H21) -> 3293.8733 | I25: =MIN(I13-I16,I7-I23+I21) -> 3294.1857 | ... W25: =MIN(W13-W16,W7-W23+W21) -> 3291.1515 | Y25: =MIN(Y13-Y16,Y7-Y23+Y21) -> #REF!
A27: Beboere efter udnyttelse af evt. ledige boliger | B27: =B25+MIN(B5,B13-B16-B25) -> #REF! | C27: =C7 -> 3104 | D27: =D25+MIN(D5,D13-D16-D25) -> 3168.5279 | E27: =E25+MIN(E5,E13-E16-E25) -> 3209.8882 | F27: =F25+MIN(F5,F13-F16-F25) -> 3237.3022 | G27: =G25+MIN(G5,G13-G16-G25) -> 3270.1128 | H27: =H25+MIN(H5,H13-H16-H25) -> 3293.8733 | I27: =I25+MIN(I5,I13-I16-I25) -> 3294.1857 | J27: =J25+MIN(J5,J13-J16-J25) -> 3293.5086 | K27: =K25+MIN(K5,K13-K16-K25) -> 3292.8553 | ... W27: =W25+MIN(W5,W13-W16-W25) -> 3291.1515 | Y27: =Y25+MIN(Y5,Y13-Y16-Y25) -> #REF!
A29: Ledige boliger primo året | B29: =B13-B16-B27 -> #REF! | C29: =C13-C16-C27 -> 195.93939 | D29: =D13-D16-D27 -> 130.64098 | E29: =E13-E16-E27 -> 88.095815 | F29: =F13-F16-F27 -> 59.428458 | G29: =G13-G16-G27 -> 25.787153 | H29: =H13-H16-H27 -> 1.0324117 | I29: =I13-I16-I27 -> 0 | ... W29: =W13-W16-W27 -> 0 | Y29: =Y13-Y16-Y27 -> #REF!
A32: Venteliste primo året, personer | B32: =Model!E18 -> 0 | C32: =MAX(C8+C16-C13,0) -> 0 | D32: =MAX(D8+D16-D13,0) -> 0 | E32: =MAX(E8+E16-E13,0) -> 0 | F32: =MAX(F8+F16-F13,0) -> 0 | G32: =MAX(G8+G16-G13,0) -> 0 | H32: =MAX(H8+H16-H13,0) -> 0 | I32: =MAX(I8+I16-I13,0) -> 0 | J32: =MAX(J8+J16-J13,0) -> 22.706071 | ... W32: =MAX(W8+W16-W13,0) -> 910.66034 | Y32: =MAX(Y8+Y16-Y13,0) -> #REF!
A33: ="-heraf på generel venteliste" -> -heraf på generel venteliste | B33: =B32*Model!$F$20/100 -> 0 | C33: =C32*Model!$F$20/100 -> 0 | D33: =D32*Model!$F$20/100 -> 0 | E33: =E32*Model!$F$20/100 -> 0 | F33: =F32*Model!$F$20/100 -> 0 | G33: =G32*Model!$F$20/100 -> 0 | H33: =H32*Model!$F$20/100 -> 0 | I33: =I32*Model!$F$20/100 -> 0 | ... W33: =W32*Model!$F$20/100 -> 0 | Y33: =Y32*Model!#REF!/100 -> #REF!
A35: Gns. ventetid primo året (mdr.) | B35: =MAX(B32/(B23/12),0) -> #REF! | C35: =MAX(C32/(C23/12),0) -> 0 | D35: =MAX(D32/(D23/12),0) -> 0 | E35: =MAX(E32/(E23/12),0) -> 0 | F35: =MAX(F32/(F23/12),0) -> 0 | G35: =MAX(G32/(G23/12),0) -> 0 | H35: =MAX(H32/(H23/12),0) -> 0 | I35: =MAX(I32/(I23/12),0) -> 0 | ... W35: =MAX(W32/(W23/12),0) -> 7.152103 | Y35: =MAX(ROUND(Y32/(Y23/12),1),0) -> #REF!
A36: Venteliste primo året (boliger) | B36: =B35*(B$22/12) -> #REF! | C36: =C35*(C$22/12) -> 0 | D36: =D35*(D$22/12) -> 0 | E36: =E35*(E$22/12) -> 0 | F36: =F35*(F$22/12) -> 0 | G36: =G35*(G$22/12) -> 0 | H36: =H35*(H$22/12) -> 0 | I36: =I35*(I$22/12) -> 0 | ... W36: =W35*(W$22/12) -> 735.58296
A38: Grænse for ventetid (Måneder) | B38: 2 | C38: 2 | D38: 2 | E38: 2 | F38: 2 | G38: 2 | H38: 2 | I38: 2 | J38: 2 | K38: 2 | L38: 2 | M38: 2 | N38: 2 | O38: 2 | P38: 2 | Q38: 2 | R38: 2 | S38: 2 | T38: 2 | U38: 2 | V38: 2 | W38: 2
A39: Grænse for ventetid (Boliger) | B39: =B38*(B$22/12) -> #REF! | C39: =C38*(C$22/12) -> 205.69697 | D39: =D38*(D$22/12) -> 205.69697 | E39: =E38*(E$22/12) -> 205.69697 | F39: =F38*(F$22/12) -> 205.69697 | G39: =G38*(G$22/12) -> 205.69697 | H39: =H38*(H$22/12) -> 205.69697 | I39: =I38*(I$22/12) -> 205.69697 | ... W39: =W38*(W$22/12) -> 205.69697 | Y39: =Y38*(Y$22/12) -> 0
A41: Overskredet grænse (I antal boliger) | B41: =MAX(B36-B39,0) -> #REF! | C41: =MAX(C36-C39,0) -> 0 | D41: =MAX(D36-D39,0) -> 0 | E41: =MAX(E36-E39,0) -> 0 | F41: =MAX(F36-F39,0) -> 0 | G41: =MAX(G36-G39,0) -> 0 | H41: =MAX(H36-H39,0) -> 0 | I41: =MAX(I36-I39,0) -> 0 | ... W41: =MAX(W36-W39,0) -> 529.88599 | Y41: =IF(Y36>Y39,Y36-Y39,0) -> 0
A42: Tomgang | B42: =B15*(B41/Model!$F$45) -> #REF! | C42: =C15*(C41/Model!$F$45) -> 0 | D42: =D15*(D41/Model!$F$45) -> 0 | E42: =E15*(E41/Model!$F$45) -> 0 | F42: =F15*(F41/Model!$F$45) -> 0 | G42: =G15*(G41/Model!$F$45) -> 0 | H42: =H15*(H41/Model!$F$45) -> 0 | I42: =I15*(I41/Model!$F$45) -> 0 | ... W42: =W15*(W41/Model!$F$45) -> 16.057151
A44: Boliger som skal bygges for at reducere ventelisten til 2 måneder | B44: =B42+B41 -> #REF! | C44: =C42+C41 -> 0 | D44: =D42+D41 -> 0 | E44: =E42+E41 -> 0 | F44: =F42+F41 -> 0 | G44: =G42+G41 -> 0 | H44: =H42+H41 -> 0 | I44: =I42+I41 -> 0 | ... W44: =W42+W41 -> 545.94314
A46: Hvis kun den generelle venteliste havde behov
A47: Gns. ventetid ultimo året (md.) | B47: =MAX(B33/(B23/12),0) -> #REF! | C47: =MAX(C33/(C23/12),0) -> 0 | D47: =MAX(D33/(D23/12),0) -> 0 | E47: =MAX(E33/(E23/12),0) -> 0 | F47: =MAX(F33/(F23/12),0) -> 0 | G47: =MAX(G33/(G23/12),0) -> 0 | H47: =MAX(H33/(H23/12),0) -> 0 | I47: =MAX(I33/(I23/12),0) -> 0 | ... W47: =MAX(W33/(W23/12),0) -> 0
A48: Gns. ventetid ultimo året (Boliger) | B48: =B47*(B$22/12) -> #REF! | C48: =C47*(C$22/12) -> 0 | D48: =D47*(D$22/12) -> 0 | E48: =E47*(E$22/12) -> 0 | F48: =F47*(F$22/12) -> 0 | G48: =G47*(G$22/12) -> 0 | H48: =H47*(H$22/12) -> 0 | I48: =I47*(I$22/12) -> 0 | ... W48: =W47*(W$22/12) -> 0 | Y48: =Y47*(Y$23/12) -> #REF!
A50: Grænse for ventetid (Måneder) | B50: 2 | C50: 2 | D50: 2 | E50: 2 | F50: 2 | G50: 2 | H50: 2 | I50: 2 | J50: 2 | K50: 2 | L50: 2 | M50: 2 | N50: 2 | O50: 2 | P50: 2 | Q50: 2 | R50: 2 | S50: 2 | T50: 2 | U50: 2 | V50: 2 | W50: 2
A51: Grænse for ventetid (Boliger) | B51: =B50*(B$22/12) -> #REF! | C51: =C38*(C$22/12) -> 205.69697 | D51: =D38*(D$22/12) -> 205.69697 | E51: =E38*(E$22/12) -> 205.69697 | F51: =F38*(F$22/12) -> 205.69697 | G51: =G38*(G$22/12) -> 205.69697 | H51: =H38*(H$22/12) -> 205.69697 | I51: =I38*(I$22/12) -> 205.69697 | J51: =J38*(J$22/12) -> 205.69697 | ... W51: =W38*(W$22/12) -> 205.69697
A53: Overskredet grænse (I antal boliger) | B53: =MAX(B48-B51,0) -> #REF! | C53: =MAX(C48-C51,0) -> 0 | D53: =MAX(D48-D51,0) -> 0 | E53: =MAX(E48-E51,0) -> 0 | F53: =MAX(F48-F51,0) -> 0 | G53: =MAX(G48-G51,0) -> 0 | H53: =MAX(H48-H51,0) -> 0 | I53: =MAX(I48-I51,0) -> 0 | ... W53: =MAX(W48-W51,0) -> 0
A54: Tomgang | B54: =B15*(B53/Model!$F$45) -> #REF! | C54: =C15*(C53/Model!$F$45) -> 0 | D54: =D15*(D53/Model!$F$45) -> 0 | E54: =E15*(E53/Model!$F$45) -> 0 | F54: =F15*(F53/Model!$F$45) -> 0 | G54: =G15*(G53/Model!$F$45) -> 0 | H54: =H15*(H53/Model!$F$45) -> 0 | I54: =I15*(I53/Model!$F$45) -> 0 | ... W54: =W15*(W53/Model!$F$45) -> 0
A55: Boliger som skal bygges for at reducere den generelle venteliste til 2 måneder | B55: =B53+B54 -> #REF! | C55: =C53+C54 -> 0 | D55: =D53+D54 -> 0 | E55: =E53+E54 -> 0 | F55: =F53+F54 -> 0 | G55: =G53+G54 -> 0 | H55: =H53+H54 -> 0 | I55: =I53+I54 -> 0 | ... W55: =W53+W54 -> 0

Sheet Analyse behovsgrad
A2: Scenarier:
A3: Ingen udvikling i behovsgrad
A4: Tilpasning til aktuelt landsgennemsnit for indskrevne (ekskl. ventelister)
A5: Gennemsnitlig ændring i beboere 2019-2026, hele landet
A7: Valgt scenarie:
A8: =Model!L21 -> Gennemsnitlig ændring i beboere 2019-2026, hele landet
A10: Over antal år:
A11: =Model!O10 -> 10
A13: Under 70 år | B13: =IF($A$8=$A$3,Model!G10,IF($A$8=$A$4,G232,IF($A$8=$A$5,D175,""))) -> 0.063878156
A14: 70-74 år | B14: =IF($A$8=$A$3,Model!G11,IF($A$8=$A$4,G233,IF($A$8=$A$5,D176,""))) -> 2.2419633
A15: 75-79 år | B15: =IF($A$8=$A$3,Model!G12,IF($A$8=$A$4,G234,IF($A$8=$A$5,D177,""))) -> 3.9558314
A16: 80-84 år | B16: =IF($A$8=$A$3,Model!G13,IF($A$8=$A$4,G235,IF($A$8=$A$5,D178,""))) -> 4.03698
A17: 85-89 år | B17: =IF($A$8=$A$3,Model!G14,IF($A$8=$A$4,G236,IF($A$8=$A$5,D179,""))) -> 7.4967508
A18: 90-94 år | B18: =IF($A$8=$A$3,Model!G15,IF($A$8=$A$4,G237,IF($A$8=$A$5,D180,""))) -> 14.273059
A19: 95+ år | B19: =IF($A$8=$A$3,Model!G16,IF($A$8=$A$4,G238,IF($A$8=$A$5,D181,""))) -> 16.889643
B24: Folketal pr. 1. januar efter område, alder og tid, FOLK1
C26: 2013K1 | D26: 2014K1 | E26: 2015K1 | F26: 2016K1 | G26: 2017K1 | H26: 2018K1 | I26: 2019K1 | J26: 2020K1 | K26: 2021K1 | L26: 2022K1 | M26: 2023K1 | N26: 2024K1 | O26: 2025K1 | P26: 2026K1
A27: Hele landet | B27: 0 år | C27: 58246 | D27: 56161 | E27: 57130 | F27: 58605 | G27: 62025 | H27: 61731 | I27: 61733 | J27: 61466 | K27: 61191 | L27: 63602 | M27: 58740 | N27: 57727 | O27: 57293 | P27: 59649
B28: 1 år | C28: 59718 | D28: 58721 | E28: 56748 | F28: 57894 | G28: 59253 | H28: 62508 | I28: 62046 | J28: 61916 | K28: 61663 | L28: 61514 | M28: 64341 | N28: 59115 | O28: 58176 | P28: 57711
B29: 2 år | C29: 64422 | D29: 60046 | E29: 59134 | F29: 57484 | G29: 58520 | H29: 59523 | I29: 62675 | J29: 62148 | K29: 61967 | L29: 61864 | M29: 62209 | N29: 64654 | O29: 59431 | P29: 58350
B30: 3 år | C30: 64006 | D30: 64638 | E30: 60389 | F30: 59803 | G30: 57977 | H30: 58831 | I30: 59608 | J30: 62697 | K30: 62185 | L30: 62135 | M30: 62571 | N30: 62446 | O30: 64854 | P30: 59630
B31: 4 år | C31: 66564 | D31: 64216 | E31: 64967 | F31: 60962 | G31: 60288 | H31: 58205 | I31: 58901 | J31: 59661 | K31: 62844 | L31: 62297 | M31: 62815 | N31: 62696 | O31: 62674 | P31: 65064
B32: 5 år | C32: 65643 | D32: 66742 | E32: 64546 | F32: 65616 | G32: 61484 | H32: 60478 | I32: 58352 | J32: 58993 | K32: 59740 | L32: 62893 | M32: 63008 | N32: 62960 | O32: 62972 | P32: 62909
B33: 6 år | C33: 66634 | D33: 65822 | E33: 67083 | F33: 65147 | G33: 66047 | H33: 61705 | I33: 60640 | J33: 58415 | K33: 59064 | L33: 59839 | M33: 63652 | N33: 63172 | O33: 63119 | P33: 63143
B34: 7 år | C34: 65676 | D34: 66762 | E34: 66122 | F34: 67681 | G34: 65636 | H34: 66236 | I34: 61798 | J34: 60745 | K34: 58551 | L34: 59165 | M34: 60731 | N34: 63802 | O34: 63409 | P34: 63296
B35: 8 år | C35: 65801 | D35: 65861 | E35: 67053 | F35: 66672 | G35: 68121 | H35: 65871 | I35: 66386 | J35: 61926 | K35: 60898 | L35: 58683 | M35: 60044 | N35: 60896 | O35: 64003 | P35: 63682
B36: 9 år | C36: 65766 | D36: 65959 | E36: 66143 | F36: 67509 | G36: 67155 | H36: 68391 | I36: 66077 | J36: 66522 | K36: 62107 | L36: 61034 | M36: 59474 | N36: 60279 | O36: 61219 | P36: 64317
B37: 10 år | C37: 65167 | D37: 65909 | E37: 66299 | F37: 66619 | G37: 67907 | H37: 67353 | I37: 68541 | J37: 66254 | K37: 66696 | L37: 62282 | M37: 61867 | N37: 59666 | O37: 60484 | P37: 61519
B38: 11 år | C38: 66273 | D38: 65311 | E38: 66211 | F38: 66703 | G38: 66987 | H38: 68155 | I38: 67526 | J38: 68649 | K38: 66428 | L38: 66845 | M38: 63114 | N38: 62097 | O38: 59924 | P38: 60759
B39: 12 år | C39: 68228 | D39: 66422 | E39: 65528 | F39: 66593 | G39: 67022 | H39: 67169 | I39: 68375 | J39: 67673 | K39: 68834 | L39: 66597 | M39: 67655 | N39: 63296 | O39: 62372 | P39: 60212
... B137: 110 år | C137: 0 | D137: 1 | E137: 1 | F137: 1 | G137: 1 | H137: 0 | I137: 2 | J137: 0 | K137: 1 | L137: 0 | M137: 0 | N137: 1 | O137: 1 | P137: 0
B139: Befolkningen i alt | C139: 2013K1 | D139: 2014K1 | E139: 2015K1 | F139: 2016K1 | G139: 2017K1 | H139: 2018K1 | I139: 2019K1 | J139: 2020K1 | K139: 2021K1 | L139: 2022K1 | M139: 2023K1 | N139: 2024K1 | O139: 2025K1 | P139: 2026K1
B140: Under 70 år | C140: =SUM(C27:C96) -> 4954862 | D140: =SUM(D27:D96) -> 4956813 | E140: =SUM(E27:E96) -> 4960466 | F140: =SUM(F27:F96) -> 4977177 | G140: =SUM(G27:G96) -> 4985893 | H140: =SUM(H27:H96) -> 4988755 | I140: =SUM(I27:I96) -> 4990277 | J140: =SUM(J27:J96) -> 4986047 | ... P140: =SUM(P27:P96) -> 5088643
B141: 70-74 år | C141: =SUM(C97:C101) -> 241994 | D141: =SUM(D97:D101) -> 255367 | E141: =SUM(E97:E101) -> 273446 | F141: =SUM(F97:F101) -> 292443 | G141: =SUM(G97:G101) -> 312288 | H141: =SUM(H97:H101) -> 324093 | I141: =SUM(I97:I101) -> 328265 | J141: =SUM(J97:J101) -> 324554 | ... P141: =SUM(P97:P101) -> 295999
B142: 75-79 år | C142: =SUM(C102:C106) -> 173089 | D142: =SUM(D102:D106) -> 180164 | E142: =SUM(E102:E106) -> 186394 | F142: =SUM(F102:F106) -> 193873 | G142: =SUM(G102:G106) -> 200867 | H142: =SUM(H102:H106) -> 211648 | I142: =SUM(I102:I106) -> 223793 | J142: =SUM(J102:J106) -> 239836 | ... P142: =SUM(P102:P106) -> 280325
B143: 80-84 år | C143: =SUM(C107:C111) -> 118170 | D143: =SUM(D107:D111) -> 119026 | E143: =SUM(E107:E111) -> 121930 | F143: =SUM(F107:F111) -> 125369 | G143: =SUM(G107:G111) -> 130127 | H143: =SUM(H107:H111) -> 135926 | I143: =SUM(I107:I111) -> 142088 | J143: =SUM(J107:J111) -> 147963 | ... P143: =SUM(P107:P111) -> 207351
B144: 85-89 år | C144: =SUM(C112:C116) -> 73881 | D144: =SUM(D112:D116) -> 74340 | E144: =SUM(E112:E116) -> 74706 | F144: =SUM(F112:F116) -> 74925 | G144: =SUM(G112:G116) -> 75218 | H144: =SUM(H112:H116) -> 76128 | I144: =SUM(I112:I116) -> 76915 | J144: =SUM(J112:J116) -> 79335 | ... P144: =SUM(P112:P116) -> 104230
B145: 90-94 år | C145: =SUM(C117:C122) -> 34685 | D145: =SUM(D117:D122) -> 35533 | E145: =SUM(E117:E122) -> 36540 | F145: =SUM(F117:F122) -> 37058 | G145: =SUM(G117:G122) -> 37523 | H145: =SUM(H117:H122) -> 37522 | I145: =SUM(I117:I122) -> 37820 | J145: =SUM(J117:J122) -> 37979 | ... O145: =SUM(O117:O122) -> 40057 | P145: =SUM(P117:P121) -> 38545
B146: 95+ år | C146: =SUM(C122:C137) -> 8563 | D146: =SUM(D122:D137) -> 8731 | E146: =SUM(E122:E137) -> 9057 | F146: =SUM(F122:F137) -> 9674 | G146: =SUM(G122:G137) -> 10126 | H146: =SUM(H122:H137) -> 10049 | I146: =SUM(I122:I137) -> 10082 | J146: =SUM(J122:J137) -> 10313 | ... P146: =SUM(P122:P137) -> 10509
B148: I alt | C148: =SUM(C140:C146) -> 5605244 | D148: =SUM(D140:D146) -> 5629974 | E148: =SUM(E140:E146) -> 5662539 | F148: =SUM(F140:F146) -> 5710519 | G148: =SUM(G140:G146) -> 5752042 | H148: =SUM(H140:H146) -> 5784121 | I148: =SUM(I140:I146) -> 5809240 | J148: =SUM(J140:J146) -> 5826027 | ... P148: =SUM(P140:P146) -> 6025602
...

Sheet plejehjemsoversigt.dk
F3: Valgt kommune | G3: Samlet antal boliger, september 2025
F4: =Model!$D$4 -> København | G4: =IFERROR(VLOOKUP(F4,F11:H109,3,FALSE),VLOOKUP(F4&"s",F11:H109,3,FALSE)) -> 3394
A10: Plejehjemsnavn | B10: Kommune | C10: Antal boliger | D10: Antal beboere | F10: Navn | G10: Kommune | H10: Samlet antal boliger | L10: Kom | M10: Samlet antal boliger
A11: Humlehusene | B11: Albertslund Kommune | C11: 48 | D11: 48 | F11: =MID(G11,1,FIND(" ",G11)-1) -> Albertslund | G11: {=_xlfn.UNIQUE(B11:B1048576)} -> Albertslund Kommune | H11: =SUMIFS($C$11:$C$1048576,$B$11:$B$1048576,$G11) -> 165 | L11: Albertslund Kommune | M11: 165 | N11: =IF(M11=H11,"ja","nej") -> ja | O11: =M11-H11 -> 0
A12: Plejecentret Albertshøj | B12: Albertslund Kommune | C12: 117 | D12: 119 | F12: =MID(G12,1,FIND(" ",G12)-1) -> Allerød | G12: Allerød Kommune | H12: =SUMIFS($C$11:$C$1048576,$B$11:$B$1048576,$G12) -> 211 | L12: Allerød Kommune | M12: 211 | N12: =IF(M12=H12,"ja","nej") -> ja | O12: =M12-H12 -> 0
A13: Plejecenter Mimosen | B13: Allerød Kommune | C13: 24 | D13: 24 | F13: =MID(G13,1,FIND(" ",G13)-1) -> Assens | G13: Assens Kommune | H13: =SUMIFS($C$11:$C$1048576,$B$11:$B$1048576,$G13) -> 317 | L13: Assens Kommune | M13: 317 | N13: =IF(M13=H13,"ja","nej") -> ja | O13: =M13-H13 -> 0
A14: Demensplejecenter Skovvang | B14: Allerød Kommune | C14: 40 | D14: 40 | F14: =MID(G14,1,FIND(" ",G14)-1) -> Ballerup | G14: Ballerup Kommune | H14: =SUMIFS($C$11:$C$1048576,$B$11:$B$1048576,$G14) -> 305 | L14: Ballerup Kommune | M14: 304 | N14: =IF(M14=H14,"ja","nej") -> nej | O14: =M14-H14 -> -1
A15: Plejecenter Lyngehus | B15: Allerød Kommune | C15: 42 | D15: 44 | F15: =MID(G15,1,FIND(" ",G15)-1) -> Billund | G15: Billund Kommune | H15: =SUMIFS($C$11:$C$1048576,$B$11:$B$1048576,$G15) -> 227 | L15: Billund Kommune | M15: 235 | N15: =IF(M15=H15,"ja","nej") -> nej | O15: =M15-H15 -> 8
A16: Plejecenter Engholm | B16: Allerød Kommune | C16: 45 | D16: 46 | F16: =MID(G16,1,FIND(" ",G16)-1) -> Bornholms | G16: Bornholms Regionskommune | H16: =SUMIFS($C$11:$C$1048576,$B$11:$B$1048576,$G16) -> 424 | L16: Bornholms Regionskommune | M16: 424 | N16: =IF(M16=H16,"ja","nej") -> ja | O16: =M16-H16 -> 0
A17: Plejecenter Skovvang | B17: Allerød Kommune | C17: 60 | D17: 60 | F17: =MID(G17,1,FIND(" ",G17)-1) -> Brøndby | G17: Brøndby Kommune | H17: =SUMIFS($C$11:$C$1048576,$B$11:$B$1048576,$G17) -> 257 | L17: Brøndby Kommune | M17: 251 | N17: =IF(M17=H17,"ja","nej") -> nej | O17: =M17-H17 -> -6
A18: Bofællesskabet Skelvej | B18: Assens Kommune | C18: 21 | D18: 21 | F18: =MID(G18,1,FIND(" ",G18)-1) -> Brønderslev | G18: Brønderslev Kommune | H18: =SUMIFS($C$11:$C$1048576,$B$11:$B$1048576,$G18) -> 365 | L18: Brønderslev Kommune | M18: 366 | N18: =IF(M18=H18,"ja","nej") -> nej | O18: =M18-H18 -> 1
A19: Bofællesskabet Odensevej | B19: Assens Kommune | C19: 24 | D19: 24 | F19: =MID(G19,1,FIND(" ",G19)-1) -> Dragør | G19: Dragør Kommune | H19: =SUMIFS($C$11:$C$1048576,$B$11:$B$1048576,$G19) -> 99 | L19: Dragør Kommune | M19: 109 | N19: =IF(M19=H19,"ja","nej") -> nej | O19: =M19-H19 -> 10
A20: De Gamles Hjem | B20: Assens Kommune | C20: 25 | D20: 25 | F20: =MID(G20,1,FIND(" ",G20)-1) -> Egedal | G20: Egedal Kommune | H20: =SUMIFS($C$11:$C$1048576,$B$11:$B$1048576,$G20) -> 239 | L20: Egedal Kommune | M20: 239 | N20: =IF(M20=H20,"ja","nej") -> ja | O20: =M20-H20 -> 0
A21: Flemløse Plejehjem | B21: Assens Kommune | C21: 27 | D21: 27 | F21: =MID(G21,1,FIND(" ",G21)-1) -> Esbjerg | G21: Esbjerg Kommune | H21: =SUMIFS($C$11:$C$1048576,$B$11:$B$1048576,$G21) -> 950 | L21: Esbjerg Kommune | M21: 941 | N21: =IF(M21=H21,"ja","nej") -> nej | O21: =M21-H21 -> -9
A22: Strandgården | B22: Assens Kommune | C22: 31 | D22: 31 | F22: =MID(G22,1,FIND(" ",G22)-1) -> Fanø | G22: Fanø Kommune | H22: =SUMIFS($C$11:$C$1048576,$B$11:$B$1048576,$G22) -> 36 | L22: Fanø Kommune | M22: 36 | N22: =IF(M22=H22,"ja","nej") -> ja | O22: =M22-H22 -> 0
A23: Bofællesskabet Korsvang | B23: Assens Kommune | C23: 34 | D23: 36 | F23: =MID(G23,1,FIND(" ",G23)-1) -> Favrskov | G23: Favrskov Kommune | H23: =SUMIFS($C$11:$C$1048576,$B$11:$B$1048576,$G23) -> 312 | L23: Favrskov Kommune | M23: 312 | N23: =IF(M23=H23,"ja","nej") -> ja | O23: =M23-H23 -> 0
... A108: Pleje- og Aktivitetscenter Øresundshjemmet | B108: Fredensborg Kommune | C108: 48 | D108: 48 | F108: =MID(G108,1,FIND(" ",G108)-1) -> Aarhus | G108: Aarhus Kommune | H108: =SUMIFS($C$11:$C$1048576,$B$11:$B$1048576,$G108) -> 3007 | L108: Aarhus Kommune | M108: 2462 | N108: =IF(M108=H108,"ja","nej") -> nej | O108: =M108-H108 -> -545
A109: Pleje- og Aktivitetscenter Benediktehjemmet | B109: Fredensborg Kommune | C109: 56 | D109: 56 | F109: =MID(G109,1,FIND(" ",G109)-1) -> #VALUE! | G109: 0 | H109: =SUMIFS($C$11:$C$1048576,$B$11:$B$1048576,$G109) -> 0
A110: Pleje- og Aktivitetscenter Lystholm | B110: Fredensborg Kommune | C110: 64 | D110: 68 | H110: =SUM(H11:H109) -> 45221
A111: Distrikt - Madsbyhus | B111: Fredericia Kommune | C111: 14 | D111: 14
A112: Distrikt - Rosenlunden | B112: Fredericia Kommune | C112: 23 | D112: 23
A113: Distrikt - Stævnhøj Plejecenter | B113: Fredericia Kommune | C113: 36 | D113: 36
A114: Distrikt - Øster Elkjær Demens | B114: Fredericia Kommune | C114: 43 | D114: 43
A115: Distrikt - Ulleruphus | B115: Fredericia Kommune | C115: 45 | D115: 45
A116: Distrikt 12, 13 og 14 Hybyhus pleje, leve-bo og special afdelinger | B116: Fredericia Kommune | C116: 84 | D116: 86
A117: Othello Plejecenter | B117: Fredericia Kommune | C117: 119 | D117: 119
A118: Flintholm Plejeboliger | B118: Frederiksberg Kommune | C118: 50 | D118: 50
A119: OK Prinsesse Benedikte | B119: Frederiksberg Kommune | C119: 56 | D119: 56
A120: OK-Fonden Lotte | B120: Frederiksberg Kommune | C120: 60 | D120: 60
A121: Betaniahjemmet | B121: Frederiksberg Kommune | C121: 60 | D121: 60
A122: Kastanjehaven | B122: Frederiksberg Kommune | C122: 60 | D122: 68
... A138: Søparken - LeveBo | B138: Frederikshavn Kommune | C138: 60 | D138: 60
A139: Caspershus | B139: Frederikshavn Kommune | C139: 60
A140: Plejecenter Rosengården | B140: Frederikshavn Kommune | C140: 64 | D140: 64
A141: Sæby Ældrecenter | B141: Frederikshavn Kommune | C141: 74 | D141: 74
A142: Omsorgscenter Tolleruphøj | B142: Frederikssund Kommune | C142: 31 | D142: 33
A143: Omsorgscenter Solgården | B143: Frederikssund Kommune | C143: 46 | D143: 46
A144: Omsorgscenter De Tre Ege | B144: Frederikssund Kommune | C144: 48 | D144: 48
A145: Omsorgscenter Nordhøj | B145: Frederikssund Kommune | C145: 50 | D145: 50
A146: Attendo Lærkevej | B146: Frederikssund Kommune | C146: 72 | D146: 72
...

Sheet Beregning 2026
A1: Beregninger
A2: 2026 | B2: Opdateret 11-08-2026
A3: Scenarier:
A4: Jeg har indtastet venteliste efter aldersgruppe
A5: Jeg har indtastet venteliste i alt
A7: Valgt scenarie: | B7: =IF(Model!D19=A5,2,1) -> 2
A9: Under 70 år | B9: =IF($B$7=1,Model!D10,IF($B$7=2,M22,"")) -> 0
A10: 70-74 år | B10: =IF($B$7=1,Model!D11,IF($B$7=2,M23,"")) -> 0
A11: 75-79 år | B11: =IF($B$7=1,Model!D12,IF($B$7=2,M24,"")) -> 0
A12: 80-84 år | B12: =IF($B$7=1,Model!D13,IF($B$7=2,M25,"")) -> 0
A13: 85-89 år | B13: =IF($B$7=1,Model!D14,IF($B$7=2,M26,"")) -> 0
A14: 90-95 år | B14: =IF($B$7=1,Model!D15,IF($B$7=2,M27,"")) -> 0
A15: 95+ år | B15: =IF($B$7=1,Model!D16,IF($B$7=2,M28,"")) -> 0
A17: I alt | B17: =IF($B$7=1,SUM(B9:B16),IF($B$7=2,M30,IF($B$7=3,0,""))) -> 0
A19: Gennemsnitligt antal år med behov | B19: =Model!$F$45/12 -> 2.75 | C19: Statistikbanken laver ikke længere opgørelser over antal i diverse boliger - fra 2023 er det derfor lavet på baggrund af registerdata på indskrevne. Derfor findes der kun en i alt kategori.
A20: =+CONCATENATE("Beregning af behovsgrad primo"," ",A2) -> Beregning af behovsgrad primo 2026 | C20: 34 | E20: 0 | F20: 0
A21: Kommune | B21: Aldersgruppe | C21: I alt | E21: Plejeboliger | F21: Friplejeboliger | G21: Indskrevne i alt | H21: Venteliste (alt efter valg af scenarie) | I21: Behov i alt | J21: I befolkningen | K21: Beboergrad | L21: Behovsgrad | M21: Venteliste (beregnet)
A22: =Model!$D$4 -> København | B22: Under 70 år | C22: =VLOOKUP($A22,'Indskrevne plejebolig dec 2025'!$B$7:$I$104,COUNTA($B$22:B22)+1,FALSE) -> 353 | E22: 0 | F22: 0 | G22: =C22 -> 353 | H22: =B9 -> 0 | I22: =G22+H22 -> 353 | J22: =C34 -> 621359 | K22: =G22/J22*100 -> 0.056810958 | L22: =+I22/J22*100 -> 0.056810958 | M22: =+$M$30*G22/$G$30 -> 0
A23: =Model!$D$4 -> København | B23: 70-74 år | C23: =VLOOKUP($A23,'Indskrevne plejebolig dec 2025'!$B$7:$I$104,COUNTA($B$22:B23)+1,FALSE) -> 354 | E23: 0 | F23: 0 | G23: =C23 -> 354 | H23: =B10 -> 0 | I23: =G23+H23 -> 354 | J23: =C35 -> 18139 | K23: =G23/J23*100 -> 1.951596 | L23: =+I23/J23*100 -> 1.951596 | M23: =+$M$30*G23/$G$30 -> 0
A24: =Model!$D$4 -> København | B24: 75-79 år | C24: =VLOOKUP($A24,'Indskrevne plejebolig dec 2025'!$B$7:$I$104,COUNTA($B$22:B24)+1,FALSE) -> 593 | E24: 0 | F24: 0 | G24: =C24 -> 593 | H24: =B11 -> 0 | I24: =G24+H24 -> 593 | J24: =C36 -> 15744 | K24: =G24/J24*100 -> 3.7665142 | L24: =+I24/J24*100 -> 3.7665142 | M24: =+$M$30*G24/$G$30 -> 0
A25: =Model!$D$4 -> København | B25: 80-84 år | C25: =VLOOKUP($A25,'Indskrevne plejebolig dec 2025'!$B$7:$I$104,COUNTA($B$22:B25)+1,FALSE) -> 662 | E25: 0 | F25: 0 | G25: =C25 -> 662 | H25: =B12 -> 0 | I25: =G25+H25 -> 662 | J25: =C37 -> 10474 | K25: =G25/J25*100 -> 6.3204124 | L25: =+I25/J25*100 -> 6.3204124 | M25: =+$M$30*G25/$G$30 -> 0
A26: =Model!$D$4 -> København | B26: 85-89 år | C26: =VLOOKUP($A26,'Indskrevne plejebolig dec 2025'!$B$7:$I$104,COUNTA($B$22:B26)+1,FALSE) -> 579 | E26: 0 | F26: 0 | G26: =C26 -> 579 | H26: =B13 -> 0 | I26: =G26+H26 -> 579 | J26: =C38 -> 4743 | K26: =G26/J26*100 -> 12.207464 | L26: =+I26/J26*100 -> 12.207464 | M26: =+$M$30*G26/$G$30 -> 0
A27: =Model!$D$4 -> København | B27: 90-94 år | C27: =VLOOKUP($A27,'Indskrevne plejebolig dec 2025'!$B$7:$I$104,COUNTA($B$22:B27)+1,FALSE) -> 381 | E27: 0 | F27: 0 | G27: =C27 -> 381 | H27: =B14 -> 0 | I27: =G27+H27 -> 381 | J27: =C39 -> 1679 | K27: =G27/J27*100 -> 22.692079 | L27: =+I27/J27*100 -> 22.692079 | M27: =+$M$30*G27/$G$30 -> 0
A28: =Model!$D$4 -> København | B28: 95+ år | C28: =VLOOKUP($A28,'Indskrevne plejebolig dec 2025'!$B$7:$I$104,COUNTA($B$22:B28)+1,FALSE) -> 182 | E28: 0 | F28: 0 | G28: =C28 -> 182 | H28: =B15 -> 0 | I28: =G28+H28 -> 182 | J28: =C40 -> 543 | K28: =G28/J28*100 -> 33.517495 | L28: =+I28/J28*100 -> 33.517495 | M28: =+$M$30*G28/$G$30 -> 0
A30: =Model!$D$4 -> København | B30: I alt | C30: =SUM(C22:C29) -> 3104 | E30: =SUM(E22:E29) -> 0 | F30: =SUM(F22:F29) -> 0 | G30: =C30 -> 3104 | H30: =B17 -> 0 | I30: =G30+H30 -> 3104 | J30: =C42 -> 672681 | K30: =G30/J30*100 -> 0.46143714 | L30: =+I30/J30*100 -> 0.46143714 | M30: =Model!D18 -> 0
A32: Befolkningsfremskrivning (Fra Befolkningsfremskrivning og dermed ny - Befolkningsfremskriv)
A33: Kommune | B33: Aldersgruppe | C33: 2026 | E33: =C33+1 -> 2027 | F33: =E33+1 -> 2028 | G33: =F33+1 -> 2029 | H33: =G33+1 -> 2030 | I33: =H33+1 -> 2031 | J33: =I33+1 -> 2032 | K33: =J33+1 -> 2033 | L33: =K33+1 -> 2034 | M33: =L33+1 -> 2035 | ... AA33: =Z33+1 -> 2049 | AB33: 2050
A34: =Model!$D$4 -> København | B34: Under 70 år | C34: =VLOOKUP($A34&$B34,Befolkningsfremskrivning!$A$4:$AC$795,C$33-2021,FALSE) -> 621359 | E34: =VLOOKUP($A34&$B34,Befolkningsfremskrivning!$A$4:$AC$795,E$33-2021,FALSE) -> 619010 | F34: =VLOOKUP($A34&$B34,Befolkningsfremskrivning!$A$4:$AC$795,F$33-2021,FALSE) -> 621682 | G34: =VLOOKUP($A34&$B34,Befolkningsfremskrivning!$A$4:$AC$795,G$33-2021,FALSE) -> 624128 | H34: =VLOOKUP($A34&$B34,Befolkningsfremskrivning!$A$4:$AC$795,H$33-2021,FALSE) -> 626371 | I34: =VLOOKUP($A34&$B34,Befolkningsfremskrivning!$A$4:$AC$795,I$33-2021,FALSE) -> 628197 | J34: =VLOOKUP($A34&$B34,Befolkningsfremskrivning!$A$4:$AC$795,J$33-2021,FALSE) -> 629624 | K34: =VLOOKUP($A34&$B34,Befolkningsfremskrivning!$A$4:$AC$795,K$33-2021,FALSE) -> 630617 | L34: =VLOOKUP($A34&$B34,Befolkningsfremskrivning!$A$4:$AC$795,L$33-2021,FALSE) -> 630813 | ... AB34: =VLOOKUP($A34&$B34,Befolkningsfremskrivning!$A$4:$AC$795,AB$33-2021,FALSE) -> 622156
A35: =Model!$D$4 -> København | B35: 70-74 år | C35: =VLOOKUP($A35&$B35,Befolkningsfremskrivning!$A$4:$AC$795,C$33-2021,FALSE) -> 18139 | E35: =VLOOKUP($A35&$B35,Befolkningsfremskrivning!$A$4:$AC$795,E$33-2021,FALSE) -> 18385 | F35: =VLOOKUP($A35&$B35,Befolkningsfremskrivning!$A$4:$AC$795,F$33-2021,FALSE) -> 18624 | G35: =VLOOKUP($A35&$B35,Befolkningsfremskrivning!$A$4:$AC$795,G$33-2021,FALSE) -> 18887 | H35: =VLOOKUP($A35&$B35,Befolkningsfremskrivning!$A$4:$AC$795,H$33-2021,FALSE) -> 19286 | I35: =VLOOKUP($A35&$B35,Befolkningsfremskrivning!$A$4:$AC$795,I$33-2021,FALSE) -> 19799 | J35: =VLOOKUP($A35&$B35,Befolkningsfremskrivning!$A$4:$AC$795,J$33-2021,FALSE) -> 20327 | K35: =VLOOKUP($A35&$B35,Befolkningsfremskrivning!$A$4:$AC$795,K$33-2021,FALSE) -> 20993 | L35: =VLOOKUP($A35&$B35,Befolkningsfremskrivning!$A$4:$AC$795,L$33-2021,FALSE) -> 21971 | ... AB35: =VLOOKUP($A35&$B35,Befolkningsfremskrivning!$A$4:$AC$795,AB$33-2021,FALSE) -> 26367
A36: =Model!$D$4 -> København | B36: 75-79 år | C36: =VLOOKUP($A36&$B36,Befolkningsfremskrivning!$A$4:$AC$795,C$33-2021,FALSE) -> 15744 | E36: =VLOOKUP($A36&$B36,Befolkningsfremskrivning!$A$4:$AC$795,E$33-2021,FALSE) -> 15460 | F36: =VLOOKUP($A36&$B36,Befolkningsfremskrivning!$A$4:$AC$795,F$33-2021,FALSE) -> 15179 | G36: =VLOOKUP($A36&$B36,Befolkningsfremskrivning!$A$4:$AC$795,G$33-2021,FALSE) -> 15179 | H36: =VLOOKUP($A36&$B36,Befolkningsfremskrivning!$A$4:$AC$795,H$33-2021,FALSE) -> 15346 | I36: =VLOOKUP($A36&$B36,Befolkningsfremskrivning!$A$4:$AC$795,I$33-2021,FALSE) -> 15442 | J36: =VLOOKUP($A36&$B36,Befolkningsfremskrivning!$A$4:$AC$795,J$33-2021,FALSE) -> 15757 | K36: =VLOOKUP($A36&$B36,Befolkningsfremskrivning!$A$4:$AC$795,K$33-2021,FALSE) -> 15998 | L36: =VLOOKUP($A36&$B36,Befolkningsfremskrivning!$A$4:$AC$795,L$33-2021,FALSE) -> 16268 | ... AB36: =VLOOKUP($A36&$B36,Befolkningsfremskrivning!$A$4:$AC$795,AB$33-2021,FALSE) -> 23952
A37: =Model!$D$4 -> København | B37: 80-84 år | C37: =VLOOKUP($A37&$B37,Befolkningsfremskrivning!$A$4:$AC$795,C$33-2021,FALSE) -> 10474 | E37: =VLOOKUP($A37&$B37,Befolkningsfremskrivning!$A$4:$AC$795,E$33-2021,FALSE) -> 11330 | F37: =VLOOKUP($A37&$B37,Befolkningsfremskrivning!$A$4:$AC$795,F$33-2021,FALSE) -> 11965 | G37: =VLOOKUP($A37&$B37,Befolkningsfremskrivning!$A$4:$AC$795,G$33-2021,FALSE) -> 12272 | H37: =VLOOKUP($A37&$B37,Befolkningsfremskrivning!$A$4:$AC$795,H$33-2021,FALSE) -> 12254 | I37: =VLOOKUP($A37&$B37,Befolkningsfremskrivning!$A$4:$AC$795,I$33-2021,FALSE) -> 12250 | J37: =VLOOKUP($A37&$B37,Befolkningsfremskrivning!$A$4:$AC$795,J$33-2021,FALSE) -> 12088 | K37: =VLOOKUP($A37&$B37,Befolkningsfremskrivning!$A$4:$AC$795,K$33-2021,FALSE) -> 11925 | L37: =VLOOKUP($A37&$B37,Befolkningsfremskrivning!$A$4:$AC$795,L$33-2021,FALSE) -> 11977 | ... AB37: =VLOOKUP($A37&$B37,Befolkningsfremskrivning!$A$4:$AC$795,AB$33-2021,FALSE) -> 18791
A38: =Model!$D$4 -> København | B38: 85-89 år | C38: =VLOOKUP($A38&$B38,Befolkningsfremskrivning!$A$4:$AC$795,C$33-2021,FALSE) -> 4743 | E38: =VLOOKUP($A38&$B38,Befolkningsfremskrivning!$A$4:$AC$795,E$33-2021,FALSE) -> 4971 | F38: =VLOOKUP($A38&$B38,Befolkningsfremskrivning!$A$4:$AC$795,F$33-2021,FALSE) -> 5424 | G38: =VLOOKUP($A38&$B38,Befolkningsfremskrivning!$A$4:$AC$795,G$33-2021,FALSE) -> 5913 | H38: =VLOOKUP($A38&$B38,Befolkningsfremskrivning!$A$4:$AC$795,H$33-2021,FALSE) -> 6399 | I38: =VLOOKUP($A38&$B38,Befolkningsfremskrivning!$A$4:$AC$795,I$33-2021,FALSE) -> 6961 | J38: =VLOOKUP($A38&$B38,Befolkningsfremskrivning!$A$4:$AC$795,J$33-2021,FALSE) -> 7548 | K38: =VLOOKUP($A38&$B38,Befolkningsfremskrivning!$A$4:$AC$795,K$33-2021,FALSE) -> 7988 | L38: =VLOOKUP($A38&$B38,Befolkningsfremskrivning!$A$4:$AC$795,L$33-2021,FALSE) -> 8203 | ... AB38: =VLOOKUP($A38&$B38,Befolkningsfremskrivning!$A$4:$AC$795,AB$33-2021,FALSE) -> 11619
A39: =Model!$D$4 -> København | B39: 90-94 år | C39: =VLOOKUP($A39&$B39,Befolkningsfremskrivning!$A$4:$AC$795,C$33-2021,FALSE) -> 1679 | E39: =VLOOKUP($A39&$B39,Befolkningsfremskrivning!$A$4:$AC$795,E$33-2021,FALSE) -> 1752 | F39: =VLOOKUP($A39&$B39,Befolkningsfremskrivning!$A$4:$AC$795,F$33-2021,FALSE) -> 1822 | G39: =VLOOKUP($A39&$B39,Befolkningsfremskrivning!$A$4:$AC$795,G$33-2021,FALSE) -> 1969 | H39: =VLOOKUP($A39&$B39,Befolkningsfremskrivning!$A$4:$AC$795,H$33-2021,FALSE) -> 2140 | I39: =VLOOKUP($A39&$B39,Befolkningsfremskrivning!$A$4:$AC$795,I$33-2021,FALSE) -> 2296 | J39: =VLOOKUP($A39&$B39,Befolkningsfremskrivning!$A$4:$AC$795,J$33-2021,FALSE) -> 2419 | K39: =VLOOKUP($A39&$B39,Befolkningsfremskrivning!$A$4:$AC$795,K$33-2021,FALSE) -> 2654 | L39: =VLOOKUP($A39&$B39,Befolkningsfremskrivning!$A$4:$AC$795,L$33-2021,FALSE) -> 2916 | ... AB39: =VLOOKUP($A39&$B39,Befolkningsfremskrivning!$A$4:$AC$795,AB$33-2021,FALSE) -> 4913
A40: =Model!$D$4 -> København | B40: 95+ år | C40: =VLOOKUP($A40&$B40,Befolkningsfremskrivning!$A$4:$AC$795,C$33-2021,FALSE) -> 543 | E40: =VLOOKUP($A40&$B40,Befolkningsfremskrivning!$A$4:$AC$795,E$33-2021,FALSE) -> 526 | F40: =VLOOKUP($A40&$B40,Befolkningsfremskrivning!$A$4:$AC$795,F$33-2021,FALSE) -> 528 | G40: =VLOOKUP($A40&$B40,Befolkningsfremskrivning!$A$4:$AC$795,G$33-2021,FALSE) -> 525 | H40: =VLOOKUP($A40&$B40,Befolkningsfremskrivning!$A$4:$AC$795,H$33-2021,FALSE) -> 516 | I40: =VLOOKUP($A40&$B40,Befolkningsfremskrivning!$A$4:$AC$795,I$33-2021,FALSE) -> 536 | J40: =VLOOKUP($A40&$B40,Befolkningsfremskrivning!$A$4:$AC$795,J$33-2021,FALSE) -> 564 | K40: =VLOOKUP($A40&$B40,Befolkningsfremskrivning!$A$4:$AC$795,K$33-2021,FALSE) -> 594 | L40: =VLOOKUP($A40&$B40,Befolkningsfremskrivning!$A$4:$AC$795,L$33-2021,FALSE) -> 647 | ... AB40: =VLOOKUP($A40&$B40,Befolkningsfremskrivning!$A$4:$AC$795,AB$33-2021,FALSE) -> 1573
A42: =Model!$D$4 -> København | B42: I alt | C42: =SUM(C34:C41) -> 672681 | E42: =SUM(E34:E41) -> 671434 | F42: =SUM(F34:F41) -> 675224 | G42: =SUM(G34:G41) -> 678873 | H42: =SUM(H34:H41) -> 682312 | I42: =SUM(I34:I41) -> 685481 | J42: =SUM(J34:J41) -> 688327 | K42: =SUM(K34:K41) -> 690769 | L42: =SUM(L34:L41) -> 692795 | ... AB42: =SUM(AB34:AB41) -> 709371
U43: 31894 | V43: 31941 | W43: 31983 | X43: 32013 | Y43: 32035 | Z43: 32048 | AA43: 32056
A44: Fremskrivning af behovsgrader
A45: Kommune | B45: Aldersgruppe | C45: =C33 -> 2026 | E45: =C45+1 -> 2027 | F45: =E45+1 -> 2028 | G45: =F45+1 -> 2029 | H45: =G45+1 -> 2030 | I45: =H45+1 -> 2031 | J45: =I45+1 -> 2032 | K45: =J45+1 -> 2033 | L45: =K45+1 -> 2034 | M45: =L45+1 -> 2035 | ... AA45: =Z45+1 -> 2049
A46: =Model!$D$4 -> København | B46: Under 70 år | C46: =L22 -> 0.056810958 | E46: =MIN(MAX(0,C46+IF(E$45-$C$45<=Model!$O$10,IF(AND(ISNUMBER(Model!$M10),ISNUMBER(Model!$O$10)),(Model!$M10-Model!$G10)/Model!$O$10),0)),100) -> 0.057517678 | F46: =MIN(MAX(0,E46+IF(F$45-$C$45<=Model!$O$10,IF(AND(ISNUMBER(Model!$M10),ISNUMBER(Model!$O$10)),(Model!$M10-Model!$G10)/Model!$O$10),0)),100) -> 0.058224398 | G46: =MIN(MAX(0,F46+IF(G$45-$C$45<=Model!$O$10,IF(AND(ISNUMBER(Model!$M10),ISNUMBER(Model!$O$10)),(Model!$M10-Model!$G10)/Model!$O$10),0)),100) -> 0.058931117 | H46: =MIN(MAX(0,G46+IF(H$45-$C$45<=Model!$O$10,IF(AND(ISNUMBER(Model!$M10),ISNUMBER(Model!$O$10)),(Model!$M10-Model!$G10)/Model!$O$10),0)),100) -> 0.059637837 | I46: =MIN(MAX(0,H46+IF(I$45-$C$45<=Model!$O$10,IF(AND(ISNUMBER(Model!$M10),ISNUMBER(Model!$O$10)),(Model!$M10-Model!$G10)/Model!$O$10),0)),100) -> 0.060344557 | J46: =MIN(MAX(0,I46+IF(J$45-$C$45<=Model!$O$10,IF(AND(ISNUMBER(Model!$M10),ISNUMBER(Model!$O$10)),(Model!$M10-Model!$G10)/Model!$O$10),0)),100) -> 0.061051277 | K46: =MIN(MAX(0,J46+IF(K$45-$C$45<=Model!$O$10,IF(AND(ISNUMBER(Model!$M10),ISNUMBER(Model!$O$10)),(Model!$M10-Model!$G10)/Model!$O$10),0)),100) -> 0.061757996 | L46: =MIN(MAX(0,K46+IF(L$45-$C$45<=Model!$O$10,IF(AND(ISNUMBER(Model!$M10),ISNUMBER(Model!$O$10)),(Model!$M10-Model!$G10)/Model!$O$10),0)),100) -> 0.062464716 | M46: =MIN(MAX(0,L46+IF(M$45-$C$45<=Model!$O$10,IF(AND(ISNUMBER(Model!$M10),ISNUMBER(Model!$O$10)),(Model!$M10-Model!$G10)/Model!$O$10),0)),100) -> 0.063171436 | ... AA46: =MIN(MAX(0,Z46+IF(AA$45-$C$45<=Model!$O$10,IF(AND(ISNUMBER(Model!$M10),ISNUMBER(Model!$O$10)),(Model!$M10-Model!$G10)/Model!$O$10),0)),100) -> 0.063878156
A47: =Model!$D$4 -> København | B47: 70-74 år | C47: =L23 -> 1.951596 | E47: =MIN(MAX(0,C47+IF(E$45-$C$45<=Model!$O$10,IF(AND(ISNUMBER(Model!$M11),ISNUMBER(Model!$O$10)),(Model!$M11-Model!$G11)/Model!$O$10),0)),100) -> 1.9806327 | F47: =MIN(MAX(0,E47+IF(F$45-$C$45<=Model!$O$10,IF(AND(ISNUMBER(Model!$M11),ISNUMBER(Model!$O$10)),(Model!$M11-Model!$G11)/Model!$O$10),0)),100) -> 2.0096695 | G47: =MIN(MAX(0,F47+IF(G$45-$C$45<=Model!$O$10,IF(AND(ISNUMBER(Model!$M11),ISNUMBER(Model!$O$10)),(Model!$M11-Model!$G11)/Model!$O$10),0)),100) -> 2.0387062 | H47: =MIN(MAX(0,G47+IF(H$45-$C$45<=Model!$O$10,IF(AND(ISNUMBER(Model!$M11),ISNUMBER(Model!$O$10)),(Model!$M11-Model!$G11)/Model!$O$10),0)),100) -> 2.0677429 | I47: =MIN(MAX(0,H47+IF(I$45-$C$45<=Model!$O$10,IF(AND(ISNUMBER(Model!$M11),ISNUMBER(Model!$O$10)),(Model!$M11-Model!$G11)/Model!$O$10),0)),100) -> 2.0967796 | J47: =MIN(MAX(0,I47+IF(J$45-$C$45<=Model!$O$10,IF(AND(ISNUMBER(Model!$M11),ISNUMBER(Model!$O$10)),(Model!$M11-Model!$G11)/Model!$O$10),0)),100) -> 2.1258164 | K47: =MIN(MAX(0,J47+IF(K$45-$C$45<=Model!$O$10,IF(AND(ISNUMBER(Model!$M11),ISNUMBER(Model!$O$10)),(Model!$M11-Model!$G11)/Model!$O$10),0)),100) -> 2.1548531 | L47: =MIN(MAX(0,K47+IF(L$45-$C$45<=Model!$O$10,IF(AND(ISNUMBER(Model!$M11),ISNUMBER(Model!$O$10)),(Model!$M11-Model!$G11)/Model!$O$10),0)),100) -> 2.1838898 | M47: =MIN(MAX(0,L47+IF(M$45-$C$45<=Model!$O$10,IF(AND(ISNUMBER(Model!$M11),ISNUMBER(Model!$O$10)),(Model!$M11-Model!$G11)/Model!$O$10),0)),100) -> 2.2129266 | ... AA47: =MIN(MAX(0,Z47+IF(AA$45-$C$45<=Model!$O$10,IF(AND(ISNUMBER(Model!$M11),ISNUMBER(Model!$O$10)),(Model!$M11-Model!$G11)/Model!$O$10),0)),100) -> 2.2419633
...

Sheet Indskrevne plejebolig dec 2025
B1: 45992 | C1: Alder på referencetidspunktet
C2: Under 70 år | D2: 70-74 år | E2: 75-79 år | F2: 80-84 år | G2: 85-89 år | H2: 90-94 år | I2: 95+ år
C3: plejebolig_dec | D3: plejebolig_dec | E3: plejebolig_dec | F3: plejebolig_dec | G3: plejebolig_dec | H3: plejebolig_dec | I3: plejebolig_dec | M3: Under 70 år | N3: 70-74 år | O3: 75-79 år | P3: 80-84 år | Q3: 85-89 år | R3: 90-94 år | S3: 95+ år
C4: 1 | D4: 1 | E4: 1 | F4: 1 | G4: 1 | H4: 1 | I4: 1 | L4: Total population | M4: =SUMIFS(Befolkningsfremskrivning!$F$4:$F$787,Befolkningsfremskrivning!$D$4:$D$787,M9) -> 5046898 | N4: =SUMIFS(Befolkningsfremskrivning!$F$4:$F$787,Befolkningsfremskrivning!$D$4:$D$787,N3) -> 298991 | O4: =SUMIFS(Befolkningsfremskrivning!$F$4:$F$787,Befolkningsfremskrivning!$D$4:$D$787,O3) -> 270633 | P4: =SUMIFS(Befolkningsfremskrivning!$F$4:$F$787,Befolkningsfremskrivning!$D$4:$D$787,P3) -> 221842 | Q4: =SUMIFS(Befolkningsfremskrivning!$F$4:$F$787,Befolkningsfremskrivning!$D$4:$D$787,Q3) -> 108979 | R4: =SUMIFS(Befolkningsfremskrivning!$F$4:$F$787,Befolkningsfremskrivning!$D$4:$D$787,R3) -> 41013 | S4: =SUMIFS(Befolkningsfremskrivning!$F$4:$F$787,Befolkningsfremskrivning!$D$4:$D$787,S3) -> 9858
C5: N | D5: N | E5: N | F5: N | G5: N | H5: N | I5: N | L5: Antal i plejebolig | M5: =C105 -> 4142 | N5: =D105 -> 3521 | O5: =E105 -> 6730 | P5: =F105 -> 8425 | Q5: =G105 -> 9036 | R5: =H105 -> 5911 | S5: =I105 -> 2517
A6: Gamle opslagsnumre til VBA. Må ikke slettes | B6: Kommunekode | L6: National andel i plejebolig | M6: =M5/M4*100 -> 0.082070214 | N6: =N5/N4*100 -> 1.1776274 | O6: =O5/O4*100 -> 2.4867625 | P6: =P5/P4*100 -> 3.7977479 | Q6: =Q5/Q4*100 -> 8.2915057 | R6: =R5/R4*100 -> 14.412503 | S6: =S5/S4*100 -> 25.532562
A7: 1 | B7: København | C7: 353 | D7: 354 | E7: 593 | F7: 662 | G7: 579 | H7: 381 | I7: 182
A8: 2 | B8: Frederiksberg | C8: 76 | D8: 78 | E8: 146 | F8: 198 | G8: 209 | H8: 158 | I8: 71 | M8: National andel i plejebolig
A9: 6 | B9: Ballerup | C9: 35 | D9: 18 | E9: 55 | F9: 68 | G9: 80 | H9: 39 | I9: 10 | M9: Under 70 år
A10: 7 | B10: Brøndby | C10: 28 | D10: 27 | E10: 47 | F10: 49 | G10: 50 | H10: 31 | I10: 12
A11: 3 | B11: Dragør | C11: =VLOOKUP($B11&C$2,Befolkningsfremskrivning!$A$4:$AC$800,5,FALSE)*(M$6/100) -> 9.4388953 | D11: =VLOOKUP($B11&D$2,Befolkningsfremskrivning!$A$4:$AC$800,5,FALSE)*(N$6/100) -> 9.3974668 | E11: =VLOOKUP($B11&E$2,Befolkningsfremskrivning!$A$4:$AC$800,5,FALSE)*(O$6/100) -> 21.485628 | F11: =VLOOKUP($B11&F$2,Befolkningsfremskrivning!$A$4:$AC$800,5,FALSE)*(P$6/100) -> 24.875249 | G11: =VLOOKUP($B11&G$2,Befolkningsfremskrivning!$A$4:$AC$800,5,FALSE)*(Q$6/100) -> 31.839382 | H11: =VLOOKUP($B11&H$2,Befolkningsfremskrivning!$A$4:$AC$800,5,FALSE)*(R$6/100) -> 19.601005 | I11: =VLOOKUP($B11&I$2,Befolkningsfremskrivning!$A$4:$AC$800,5,FALSE)*(S$6/100) -> 9.1917225
A12: 8 | B12: Gentofte | C12: 53 | D12: 66 | E12: 118 | F12: 152 | G12: 186 | H12: 121 | I12: 63 | M12: Hvis antallet er under 5 er der ikke hentet et tal hjem fra forksningsmaskinen, men antallet er
A13: 9 | B13: Gladsaxe | C13: 64 | D13: 45 | E13: 69 | F13: 99 | G13: 110 | H13: 81 | I13: 51 | M13: beregnet ud fra den nationale andel i plejeboliger og det faktiske antal af beboere i kommunen
A14: 10 | B14: Glostrup | C14: 19 | D14: 14 | E14: 40 | F14: 26 | G14: 46 | H14: 25 | I14: 16
A15: 11 | B15: Herlev | C15: 21 | D15: 25 | E15: 37 | F15: 46 | G15: 62 | H15: 51 | I15: 22 | M15: Der er ikke faktiske tal fra:
A16: 5 | B16: Albertslund | C16: 13 | D16: 7 | E16: 21 | F16: 34 | G16: 22 | H16: 15 | I16: 6 | M16: Vallendsbæk
A17: 12 | B17: Hvidovre | C17: 35 | D17: 26 | E17: 51 | F17: 84 | G17: 70 | H17: 55 | I17: 25
A18: 13 | B18: Høje-Taastrup | C18: 23 | D18: 26 | E18: 53 | F18: 64 | G18: 46 | H18: 23 | I18: 11 | M18: Fanø
A19: 15 | B19: Lyngby-Taarbæk | C19: 38 | D19: 32 | E19: 74 | F19: 85 | G19: 110 | H19: 79 | I19: 49 | M19: Samsø
A20: 16 | B20: Rødovre | C20: 34 | D20: 19 | E20: 41 | F20: 75 | G20: 72 | H20: 42 | I20: 15 | M20: Læsø
A21: 14 | B21: Ishøj | C21: =VLOOKUP($B21&C$2,Befolkningsfremskrivning!$A$4:$AC$800,5,FALSE)*(M$6/100) -> 17.73127 | D21: =VLOOKUP($B21&D$2,Befolkningsfremskrivning!$A$4:$AC$800,5,FALSE)*(N$6/100) -> 10.469108 | E21: =VLOOKUP($B21&E$2,Befolkningsfremskrivning!$A$4:$AC$800,5,FALSE)*(O$6/100) -> 24.569214 | F21: =VLOOKUP($B21&F$2,Befolkningsfremskrivning!$A$4:$AC$800,5,FALSE)*(P$6/100) -> 25.976596 | G21: =VLOOKUP($B21&G$2,Befolkningsfremskrivning!$A$4:$AC$800,5,FALSE)*(Q$6/100) -> 24.211197 | H21: =VLOOKUP($B21&H$2,Befolkningsfremskrivning!$A$4:$AC$800,5,FALSE)*(R$6/100) -> 11.962378 | I21: =VLOOKUP($B21&I$2,Befolkningsfremskrivning!$A$4:$AC$800,5,FALSE)*(S$6/100) -> 4.3405356 | M21: Dragør
A22: 4 | B22: Tårnby | C22: 36 | D22: 40 | E22: 50 | F22: 57 | G22: 75 | H22: 38 | I22: 17 | M22: Egedal
A23: 17 | B23: Vallensbæk | C23: =VLOOKUP($B23&C$2,Befolkningsfremskrivning!$A$4:$AC$800,5,FALSE)*(M$6/100) -> 13.101689 | D23: =VLOOKUP($B23&D$2,Befolkningsfremskrivning!$A$4:$AC$800,5,FALSE)*(N$6/100) -> 8.4082598 | E23: =VLOOKUP($B23&E$2,Befolkningsfremskrivning!$A$4:$AC$800,5,FALSE)*(O$6/100) -> 18.551248 | F23: =VLOOKUP($B23&F$2,Befolkningsfremskrivning!$A$4:$AC$800,5,FALSE)*(P$6/100) -> 26.014573 | G23: =VLOOKUP($B23&G$2,Befolkningsfremskrivning!$A$4:$AC$800,5,FALSE)*(Q$6/100) -> 24.045367 | H23: =VLOOKUP($B23&H$2,Befolkningsfremskrivning!$A$4:$AC$800,5,FALSE)*(R$6/100) -> 15.133129 | I23: =VLOOKUP($B23&I$2,Befolkningsfremskrivning!$A$4:$AC$800,5,FALSE)*(S$6/100) -> 4.8511869
A24: 22 | B24: Furesø | C24: 18 | D24: 22 | E24: 38 | F24: 63 | G24: 51 | H24: 39 | I24: 11
A25: 18 | B25: Allerød | C25: 13 | D25: 19 | E25: 25 | F25: 47 | G25: 45 | H25: 29 | I25: 11
A26: 20 | B26: Fredensborg | C26: 30 | D26: 25 | E26: 47 | F26: 55 | G26: 62 | H26: 40 | I26: 17
A27: 25 | B27: Helsingør | C27: 48 | D27: 45 | E27: 85 | F27: 106 | G27: 103 | H27: 67 | I27: 26
A28: 26 | B28: Hillerød | C28: 45 | D28: 24 | E28: 63 | F28: 86 | G28: 92 | H28: 47 | I28: 17
A29: 27 | B29: Hørsholm | C29: 20 | D29: 14 | E29: 36 | F29: 57 | G29: 49 | H29: 36 | I29: 16
A30: 28 | B30: Rudersdal | C30: 38 | D30: 26 | E30: 87 | F30: 98 | G30: 143 | H30: 113 | I30: 64
A31: 19 | B31: Egedal | C31: =VLOOKUP($B31&C$2,Befolkningsfremskrivning!$A$4:$AC$800,5,FALSE)*(M$6/100) -> 32.251132 | D31: =VLOOKUP($B31&D$2,Befolkningsfremskrivning!$A$4:$AC$800,5,FALSE)*(N$6/100) -> 20.667361 | E31: =VLOOKUP($B31&E$2,Befolkningsfremskrivning!$A$4:$AC$800,5,FALSE)*(O$6/100) -> 50.904029 | F31: =VLOOKUP($B31&F$2,Befolkningsfremskrivning!$A$4:$AC$800,5,FALSE)*(P$6/100) -> 65.625085 | G31: =VLOOKUP($B31&G$2,Befolkningsfremskrivning!$A$4:$AC$800,5,FALSE)*(Q$6/100) -> 67.575771 | H31: =VLOOKUP($B31&H$2,Befolkningsfremskrivning!$A$4:$AC$800,5,FALSE)*(R$6/100) -> 32.860508 | I31: =VLOOKUP($B31&I$2,Befolkningsfremskrivning!$A$4:$AC$800,5,FALSE)*(S$6/100) -> 8.9363968
A32: 21 | B32: Frederikssund | C32: 33 | D32: 23 | E32: 62 | F32: 65 | G32: 62 | H32: 43 | I32: 14
A33: 30 | B33: Greve | C33: 24 | D33: 17 | E33: 60 | F33: 66 | G33: 76 | H33: 41 | I33: 7
A34: 31 | B34: Køge | C34: 54 | D34: 38 | E34: 85 | F34: 83 | G34: 77 | H34: 54 | I34: 20
A35: 24 | B35: Halsnæs | C35: 23 | D35: 24 | E35: 43 | F35: 57 | G35: 53 | H35: 34 | I35: 12
A36: 33 | B36: Roskilde | C36: 48 | D36: 48 | E36: 83 | F36: 113 | G36: 125 | H36: 70 | I36: 41
A37: 34 | B37: Solrød | C37: 6 | D37: 10 | E37: 15 | F37: 33 | G37: 26 | H37: 15 | I37: 6
A38: 23 | B38: Gribskov | C38: 31 | D38: 34 | E38: 73 | F38: 91 | G38: 77 | H38: 46 | I38: 23
A39: 41 | B39: Odsherred | C39: 28 | D39: 33 | E39: 47 | F39: 58 | G39: 74 | H39: 41 | I39: 11
A40: 37 | B40: Holbæk | C40: 24 | D40: 35 | E40: 56 | F40: 69 | G40: 69 | H40: 44 | I40: 23
...

Sheet Befolkningsfremskrivning
B1: Kilde: | C1: DST, FRKM125 | D1: Bearbejdet i Python, se notebook: "Befolkningsfremskrivning"
C3: kommune | D3: kategori | E3: 2026 | F3: =E3+1 -> 2027 | G3: =F3+1 -> 2028 | H3: =G3+1 -> 2029 | I3: =H3+1 -> 2030 | J3: =I3+1 -> 2031 | K3: =J3+1 -> 2032 | L3: =K3+1 -> 2033 | M3: =L3+1 -> 2034 | ... AC3: =AB3+1 -> 2050
A4: =C4&D4 -> AabenraaAlder i alt | B4: 0 | C4: Aabenraa | D4: Alder i alt | E4: 58494 | F4: 57978 | G4: 57784 | H4: 57602 | I4: 57422 | J4: 57248 | K4: 57085 | L4: 56930 | M4: 56784 | N4: 56641 | O4: 56498 | P4: 56354 | Q4: 56201 | R4: 56039 | S4: 55878 | T4: 55720 | U4: 55571 | V4: 55429 | W4: 55295 | X4: 55170 | Y4: 55047 | Z4: 54926 | AA4: 54802 | AB4: 54676 | AC4: 54549
A5: =C5&D5 -> AalborgAlder i alt | B5: 1 | C5: Aalborg | D5: Alder i alt | E5: 225942 | F5: 226203 | G5: 227286 | H5: 228346 | I5: 229364 | J5: 230308 | K5: 231149 | L5: 231883 | M5: 232518 | N5: 233084 | O5: 233620 | P5: 234166 | Q5: 234731 | R5: 235302 | S5: 235851 | T5: 236360 | U5: 236817 | V5: 237211 | W5: 237525 | X5: 237772 | Y5: 237983 | Z5: 238200 | AA5: 238435 | AB5: 238686 | AC5: 238942
A6: =C6&D6 -> AarhusAlder i alt | B6: 2 | C6: Aarhus | D6: Alder i alt | E6: 377737 | F6: 379741 | G6: 383397 | H6: 387010 | I6: 390527 | J6: 393915 | K6: 397093 | L6: 400010 | M6: 402627 | N6: 405016 | O6: 407271 | P6: 409510 | Q6: 411829 | R6: 414235 | S6: 416652 | T6: 419047 | U6: 421411 | V6: 423720 | W6: 425892 | X6: 427840 | Y6: 429660 | Z6: 431481 | AA6: 433387 | AB6: 435358 | AC6: 437365
A7: =C7&D7 -> AlbertslundAlder i alt | B7: 3 | C7: Albertslund | D7: Alder i alt | E7: 28207 | F7: 27957 | G7: 27987 | H7: 28024 | I7: 28064 | J7: 28099 | K7: 28137 | L7: 28168 | M7: 28199 | N7: 28233 | O7: 28269 | P7: 28307 | Q7: 28346 | R7: 28387 | S7: 28428 | T7: 28466 | U7: 28503 | V7: 28540 | W7: 28574 | X7: 28608 | Y7: 28641 | Z7: 28673 | AA7: 28705 | AB7: 28733 | AC7: 28757 | AF7: {=_xlfn.UNIQUE(D4:D787)} -> Alder i alt
A8: =C8&D8 -> AllerødAlder i alt | B8: 4 | C8: Allerød | D8: Alder i alt | E8: 26101 | F8: 25878 | G8: 25822 | H8: 25769 | I8: 25716 | J8: 25673 | K8: 25645 | L8: 25628 | M8: 25621 | N8: 25619 | O8: 25620 | P8: 25618 | Q8: 25609 | R8: 25591 | S8: 25565 | T8: 25534 | U8: 25503 | V8: 25473 | W8: 25448 | X8: 25424 | Y8: 25396 | Z8: 25364 | AA8: 25327 | AB8: 25286 | AC8: 25241 | AF8: Under 70 år
A9: =C9&D9 -> AssensAlder i alt | B9: 5 | C9: Assens | D9: Alder i alt | E9: 40407 | F9: 40084 | G9: 39981 | H9: 39884 | I9: 39791 | J9: 39703 | K9: 39627 | L9: 39555 | M9: 39489 | N9: 39428 | O9: 39372 | P9: 39314 | Q9: 39255 | R9: 39193 | S9: 39129 | T9: 39062 | U9: 38999 | V9: 38937 | W9: 38883 | X9: 38827 | Y9: 38776 | Z9: 38720 | AA9: 38666 | AB9: 38608 | AC9: 38548 | AF9: 70-74 år
