Workbook

Sheet Forside
B2: Forside
B5: Kommune:
B6: Dato:

Sheet Budget_Omkostninger
B2: BUDGERSKABELON FOR OMKOSTNINGER TIL LOKALPLEJEHJEM
B4: Omkostningskategori | C4: Bemærkning og forudsætninger | D4: Beløb, kr. | E4: Andel af budget, %
B5: PERSONALE | G5: Samlede udfyldte omkostninger | H5: =SUM(D:D) -> 30673717
B6: Løn til plejepersonale | D6: 18000000 | E6: =D6/SUM($D:$D) -> 0.58682161 | G6: Afsæt for beregning | H6: Budget
B7: Vikar - interne vikarer | D7: 5000 | E7: =D7/SUM($D:$D) -> 0.000163006 | G7: År | H7: 2026
B8: Vikar - Eksterne vikarbureau | D8: 800000 | E8: =D8/SUM($D:$D) -> 0.02608096
B9: Løn til personale der ydelser sygepleje | D9: 380000 | E9: =D9/SUM($D:$D) -> 0.012388456
B10: Løn til personale forbeholdt Madserivce | D10: 3300000 | E10: =D10/SUM($D:$D) -> 0.10758396
B11: Løn til personale der ydelser træningsydelser | D11: 50000 | E11: =D11/SUM($D:$D) -> 0.00163006
B12: Tillidsrepræsentant | D12: 150000 | E12: =D13/SUM($D:$D) -> 0
B13: Elever (alt efter organisering) | E13: =D14/SUM($D:$D) -> -0.0081503001
B14: Refusioner | D14: -250000 | E14: =D15/SUM($D:$D) -> 0
B15: PERSONALERELATEREDE UDGIFTER
B16: Beklædning | D16: 50000 | E16: =D16/SUM($D:$D) -> 0.00163006
B17: Diverse personalerelaterede goder | D17: 273000 | E17: =D17/SUM($D:$D) -> 0.0089001277
B18: Ansvarsforsikring | D18: 105878 | E18: =D18/SUM($D:$D) -> 0.0034517499
B19: Barselsudligning | D19: 319181 | E19: =D19/SUM($D:$D) -> 0.010405684
B20: Arbejdsskadeforsikring | D20: 318798 | E20: =D20/SUM($D:$D) -> 0.010393198
B21: Uddannelse og kurser | D21: 100 | E21: =D21/SUM($D:$D) -> 3.2601201e-06
E22: =D22/SUM($D:$D) -> 0
B23: DRIFTSMIDLER OG INVENTAR
B24: Kontorhold | D24: 123456 | E24: =D24/SUM($D:$D) -> 0.0040248138
B25: IT-udstyr, telefon- og dataabonnomenter | D25: 256789 | E25: =D25/SUM($D:$D) -> 0.0083716297
B26: Møder og forplejning | D26: 25000 | E26: =D26/SUM($D:$D) -> 0.00081503001
B27: Aktivitetsmidler | D27: 35000 | E27: =D27/SUM($D:$D) -> 0.001141042
B28: Inventar og specielt anskaffet udstyr | D28: 75000 | E28: =D28/SUM($D:$D) -> 0.00244509
B29: Hygiejneartikler / sygeplejeartikler | D29: 82000 | E29: =D29/SUM($D:$D) -> 0.0026732984
E30: =D30/SUM($D:$D) -> 0
B31: MADSERVICE - KØKKEN OG RÅVARER
B32: Føde- og råvarer | D32: 1600000 | E32: =D32/SUM($D:$D) -> 0.052161921
B33: Varekøb m.m. | D33: 200000 | E33: =D33/SUM($D:$D) -> 0.0065202401
B34: Diverse driftsmidler | D34: 72000 | E34: =D34/SUM($D:$D) -> 0.0023472864
B35: Udgifter til servicepakker: | E35: =D35/SUM($D:$D) -> 0
B36: Toiletartikler | E36: =D36/SUM($D:$D) -> 0
B37: Rengøringsartikler | E37: =D37/SUM($D:$D) -> 0
B38: Vask af linned og tøj | E38: =D38/SUM($D:$D) -> 0
B39: Vinduespolering | E39: =D39/SUM($D:$D) -> 0
E40: =D40/SUM($D:$D) -> 0
B41: LEDELSE & ADMINISTRATION
B42: Ledelse (direktør for lokalplejehjem) | D42: 753429 | E42: =D42/SUM($D:$D) -> 0.02456269
B43: Vagtplanlægger | D43: 159261 | E43: =D43/SUM($D:$D) -> 0.0051920998
B44: Administration (på lokalplejehjem) | D44: 369000 | E44: =D44/SUM($D:$D) -> 0.012029843
B45: Administration (køb af af administrative funktioner) | D45: 172000 | E45: =D45/SUM($D:$D) -> 0.0056074065
E46: =D46/SUM($D:$D) -> 0
B47: EJENDOMSUDGIFTER (SERVICEAREALER)
B48: Husleje (Fx forrentning og afskrivning) | D48: 963852 | E48: =D48/SUM($D:$D) -> 0.031422732
B49: Forsikringer (ejendomsforsikringer) | D49: 741852 | E49: =D49/SUM($D:$D) -> 0.024185266
B50: Vedligeholdelse (udvendig vedligeholdelse) | D50: 150000 | E50: =D50/SUM($D:$D) -> 0.0048901801
B51: Vedligeholdelse (indvendig vedligeholdelse) | D51: 15000 | E51: =D51/SUM($D:$D) -> 0.00048901801
B52: Serviceaftaler og drift af inventar, elevatorer, kaldeanlæg og brandanlæg | D52: 42000 | E52: =D52/SUM($D:$D) -> 0.0013692504
B53: Udenomsarealer - grønne områder og snerydning | D53: 65000 | E53: =D53/SUM($D:$D) -> 0.002119078
B54: Rengøring af servicearealer | D54: 58000 | E54: =D54/SUM($D:$D) -> 0.0018908696
B55: Teknisk service | D55: 135000 | E55: =D55/SUM($D:$D) -> 0.0044011621
B56: Indboforsikring | D56: 16500 | E56: =D56/SUM($D:$D) -> 0.00053791981
B57: Forbrugsafgifter: | E57: =D57/SUM($D:$D) -> 0
B58: El | D58: 60000 | E58: =D58/SUM($D:$D) -> 0.001956072
B59: Vand | D59: 60000 | E59: =D59/SUM($D:$D) -> 0.001956072
B60: Varme | D60: 60000 | E60: =D60/SUM($D:$D) -> 0.001956072
B61: Renovation | D61: 2500 | E61: =D61/SUM($D:$D) -> 8.1503001e-05
B62: Skatter og afgifter | D62: 2500 | E62: =D62/SUM($D:$D) -> 8.1503001e-05
B63: OVERHEAD - LEDELSE & ADMINISTRATION
B64: Drift af IT-systemer | D64: 147369 | E64: =D64/SUM($D:$D) -> 0.0048044063
B65: IT-systemer | D65: 369147 | E65: =D65/SUM($D:$D) -> 0.012034635
B66: Økonomifunktioner og andre administrative opgaver | D66: 350000 | E66: =D66/SUM($D:$D) -> 0.01141042
B67: Administrativ og juridisk bistand vedr. personalemæssige forhold (HR) | D67: 258852 | E67: =D67/SUM($D:$D) -> 0.008438886
B68: Jura og compliance | D68: 252258 | E68: =D68/SUM($D:$D) -> 0.0082239136
B69: Omkostninger til ekstern rådgivning | D69: 141147 | E69: =D69/SUM($D:$D) -> 0.0046015616
B70: Honorar til bestyrelsesmedlemmer | D70: 147741 | E70: =D70/SUM($D:$D) -> 0.004816534
B71: Revision | D71: 25000 | E71: =D71/SUM($D:$D) -> 0.00081503001
B72: MOMS | E72: =D72/SUM($D:$D) -> 0
B73: Moms (estimeret moms andel) | D73: =SUM(D64:D71,D48:D62,D42:D46,D32:D40,D24:D30,D16:D22,D6:D14)*4.6% -> 1448476.1 | E73: =D73/SUM($D:$D) -> 0.047222058
B74: moms på salg | E74: =D74/SUM($D:$D) -> 0
B75: SERVICEPAKKER / INDTÆGTER
B76: INDTÆGTER - EGENBETALING FOR MADSERVICE | D76: -2263369 | E76: =D76/SUM($D:$D) -> -0.073788547
B77: INDTÆGTER EGENBETALING - rengøringsartikler | E77: =D77/SUM($D:$D) -> 0
B78: INDTÆGTER EGENBETALING - toiletartikler | E78: =D78/SUM($D:$D) -> 0
B79: INDTÆGTER EGENBETALING - vask af linned | E79: =D79/SUM($D:$D) -> 0
B80: INDTÆGTER EGENBETALING - vinduespolering | E80: =D80/SUM($D:$D) -> 0
B81: INDTÆGTER EGENBETALING - Tillægsydelser | E81: =D81/SUM($D:$D) -> 0
E82: =D82/SUM($D:$D) -> 0

Sheet Beregning
B2: Økonomisk beregning
B4: År | C4: =Budget_Omkostninger!H7 -> 2026
B5: PL år | C5: 2026-PL
B6: PL | C6: =INDEX(PL!$C$6:$L$15,MATCH(C4,PL!$B$6:$B$15,0),MATCH(C5,PL!$C$5:$L$5,0)) -> 1
B8: ="Samlede udfyldte omkostninger, "&C5 -> Samlede udfyldte omkostninger, 2026-PL | C8: =Budget_Omkostninger!H5*C6 -> 30673717
B10: Kommunens beregnede takst til afregning af friplejehjem | C10: Samlet | D10: Type 1 | E10: Type 2 | F10: Type 3
B11: Antal boliger / forløbsdøgn | C11: =D11+E11+F11 -> 50 | D11: 20 | E11: 30 | F11: 0
B12: Takst, pr. døgn | C12: =SUMPRODUCT(D11:F11,D12:F12)/SUM(D11:F11) -> 1620 | D12: 1500 | E12: 1700 | F12: 0
B13: Takstår | C13: 2026
B14: ="Takst pr. døgn, "&C5 -> Takst pr. døgn, 2026-PL | C14: =INDEX(PL!$C$6:$L$15,MATCH(C13,PL!$B$6:$B$15,0),MATCH($C$5,PL!$C$5:$L$5,0))*C12 -> 1620 | D14: =INDEX(PL!$C$6:$L$15,MATCH(C13,PL!$B$6:$B$15,0),MATCH($C$5,PL!$C$5:$L$5,0))*D12 -> 1500 | E14: =INDEX(PL!$C$6:$L$15,MATCH(C13,PL!$B$6:$B$15,0),MATCH($C$5,PL!$C$5:$L$5,0))*E12 -> 1700 | F14: =INDEX(PL!$C$6:$L$15,MATCH(C13,PL!$B$6:$B$15,0),MATCH($C$5,PL!$C$5:$L$5,0))*F12 -> 0
B16: Lokalplejehjemmets takst | C16: Scenarie 1 | D16: Scenarie 2 | E16: Scenarie 3 | F16: Scenarie 4
B17: Belægningsgrad | C17: 0.95 | D17: 0.85 | E17: 0.9 | F17: 0.98
B18: Balance takst | C18: =$C$8/($C$11*C17*365) -> 1769.2122 | D18: =$C$8/($C$11*D17*365) -> 1977.3548 | E18: =$C$8/($C$11*E17*365) -> 1867.5018 | F18: =$C$8/($C$11*F17*365) -> 1715.0527
B20: Gennemsnitlig belægningsgrad | C20: 0.95
B21: Indtægter | C21: =C11*365*C14*C20 -> 28086750
B22: Balance | C22: =C21-C8 -> -2586967.1
B23: Minimumsbelægningsgrad for overskud | C23: =C8/(C11*C14*365) -> 1.037501
B27: Total økonomiske faktorer
B28: Indskud til etablering af aktieselskab | C28: -300000
B29: salg af ydelser til lokalplejehjemmet | C29: 250000
B30: Dobbelt omkostninger for overhead | C30: -150000
B33: Total økonomi | C33: =C22+SUM(C28:C30) -> -2786967.1

Sheet PL
B2: PL | D2: 2021-2022 | E2: 2022-2023 | F2: 2023-2024 | G2: 2024-2025 | H2: 2025-2026 | I2: 2026-2027 | J2: 2027-2028 | K2: 2028-2029 | L2: 2029-2030
C3: PL-indeks | D3: 3.1 | E3: 2.7 | F3: 3.7 | G3: 3.6 | H3: 3.4
B5: År | C5: 2021-PL | D5: 2022-PL | E5: 2023-PL | F5: 2024-PL | G5: 2025-PL | H5: 2026-PL | I5: 2027-PL | J5: 2028-PL | K5: 2029-PL | L5: 2030-PL | M5: Dokumentation
B6: 2021 | C6: 1 | D6: =C6*(1+(D$3/100)) -> 1.031 | E6: =D6*(1+(E$3/100)) -> 1.058837 | F6: =E6*(1+(F$3/100)) -> 1.098014 | G6: =F6*(1+(G$3/100)) -> 1.1375425 | H6: =G6*(1+(H$3/100)) -> 1.1762189 | I6: =IF(I$3="","",H6*(1+(I$3/100))) | J6: =IF(J$3="","",I6*(1+(J$3/100))) | K6: =IF(K$3="","",J6*(1+(K$3/100))) | L6: =IF(L$3="","",K6*(1+(L$3/100))) | M6: Beregnet af BDO
B7: 2022 | C7: =D7/(1+(D$3/100)) -> 0.9699321 | D7: 1 | E7: =D7*(1+(E$3/100)) -> 1.027 | F7: =E7*(1+(F$3/100)) -> 1.064999 | G7: =F7*(1+(G$3/100)) -> 1.103339 | H7: =G7*(1+(H$3/100)) -> 1.1408525 | I7: =IF(I$3="","",H7*(1+(I$3/100))) | J7: =IF(J$3="","",I7*(1+(J$3/100))) | K7: =IF(K$3="","",J7*(1+(K$3/100))) | L7: =IF(L$3="","",K7*(1+(L$3/100))) | M7: Beregnet af BDO
B8: 2023 | C8: =D8/(1+(D$3/100)) -> 0.94443243 | D8: =E8/(1+(E$3/100)) -> 0.97370983 | E8: 1 | F8: =E8*(1+(F$3/100)) -> 1.037 | G8: =F8*(1+(G$3/100)) -> 1.074332 | H8: =G8*(1+(H$3/100)) -> 1.1108593 | I8: =IF(I$3="","",H8*(1+(I$3/100))) | J8: =IF(J$3="","",I8*(1+(J$3/100))) | K8: =IF(K$3="","",J8*(1+(K$3/100))) | L8: =IF(L$3="","",K8*(1+(L$3/100))) | M8: Beregnet af BDO
B9: 2024 | C9: =D9/(1+(D$3/100)) -> 0.91073523 | D9: =E9/(1+(E$3/100)) -> 0.93896802 | E9: =F9/(1+(F$3/100)) -> 0.96432015 | F9: 1 | G9: =F9*(1+(G$3/100)) -> 1.036 | H9: =G9*(1+(H$3/100)) -> 1.071224 | I9: =IF(I$3="","",H9*(1+(I$3/100))) | J9: =IF(J$3="","",I9*(1+(J$3/100))) | K9: =IF(K$3="","",J9*(1+(K$3/100))) | L9: =IF(L$3="","",K9*(1+(L$3/100))) | M9: Beregnet af BDO
B10: 2025 | C10: =D10/(1+(D$3/100)) -> 0.87908806 | D10: =E10/(1+(E$3/100)) -> 0.90633979 | E10: =F10/(1+(F$3/100)) -> 0.93081096 | F10: =G10/(1+(G$3/100)) -> 0.96525097 | G10: 1 | H10: =G10*(1+(H$3/100)) -> 1.034 | I10: =IF(I$3="","",H10*(1+(I$3/100))) | J10: =IF(J$3="","",I10*(1+(J$3/100))) | K10: =IF(K$3="","",J10*(1+(K$3/100))) | L10: =IF(L$3="","",K10*(1+(L$3/100))) | M10: Beregnet af BDO
B11: 2026 | C11: =D11/(1+(D$3/100)) -> 0.85018187 | D11: =E11/(1+(E$3/100)) -> 0.87653751 | E11: =F11/(1+(F$3/100)) -> 0.90020402 | F11: =G11/(1+(G$3/100)) -> 0.93351157 | G11: =H11/(1+(H$3/100)) -> 0.96711799 | H11: 1 | I11: =IF(I$3="","",H11*(1+(I$3/100))) | J11: =IF(J$3="","",I11*(1+(J$3/100))) | K11: =IF(K$3="","",J11*(1+(K$3/100))) | L11: =IF(L$3="","",K11*(1+(L$3/100))) | M11: Beregnet af BDO
B12: 2027 | C12: =IFERROR(D12/(1+(D$3/100)),"") | D12: =IFERROR(E12/(1+(E$3/100)),"") | E12: =IFERROR(F12/(1+(F$3/100)),"") | F12: =IFERROR(G12/(1+(G$3/100)),"") | G12: =IFERROR(H12/(1+(H$3/100)),"") | H12: =IFERROR(I12/(1+(I$3/100)),"") | I12: =IF(I$3="","",1) | J12: =IF(J$3="","",I12*(1+(J$3/100))) | K12: =IF(K$3="","",J12*(1+(K$3/100))) | L12: =IF(L$3="","",K12*(1+(L$3/100))) | M12: Beregnet af BDO
B13: 2028 | C13: =IFERROR(D13/(1+(D$3/100)),"") | D13: =IFERROR(E13/(1+(E$3/100)),"") | E13: =IFERROR(F13/(1+(F$3/100)),"") | F13: =IFERROR(G13/(1+(G$3/100)),"") | G13: =IFERROR(H13/(1+(H$3/100)),"") | H13: =IFERROR(I13/(1+(I$3/100)),"") | I13: =IFERROR(J13/(1+(J$3/100)),"") | J13: =IF(J$3="","",1) | K13: =IF(K$3="","",J13*(1+(K$3/100))) | L13: =IF(L$3="","",K13*(1+(L$3/100))) | M13: Beregnet af BDO
B14: 2029 | C14: =IFERROR(D14/(1+(D$3/100)),"") | D14: =IFERROR(E14/(1+(E$3/100)),"") | E14: =IFERROR(F14/(1+(F$3/100)),"") | F14: =IFERROR(G14/(1+(G$3/100)),"") | G14: =IFERROR(H14/(1+(H$3/100)),"") | H14: =IFERROR(I14/(1+(I$3/100)),"") | I14: =IFERROR(J14/(1+(J$3/100)),"") | J14: =IFERROR(K14/(1+(K$3/100)),"") | K14: =IF(K$3="","",1) | L14: =IF(L$3="","",K14*(1+(L$3/100))) | M14: Beregnet af BDO
B15: 2030 | C15: =IFERROR(D15/(1+(D$3/100)),"") | D15: =IFERROR(E15/(1+(E$3/100)),"") | E15: =IFERROR(F15/(1+(F$3/100)),"") | F15: =IFERROR(G15/(1+(G$3/100)),"") | G15: =IFERROR(H15/(1+(H$3/100)),"") | H15: =IFERROR(I15/(1+(I$3/100)),"") | I15: =IFERROR(J15/(1+(J$3/100)),"") | J15: =IFERROR(K15/(1+(K$3/100)),"") | K15: =IFERROR(L15/(1+(L$3/100)),"") | L15: =IF(L$3="","",1) | M15: Beregnet af BDO
B16: Kilde: Historisk PL - https://www.kl.dk/oekonomi-og-administration/oekonomi-og-styring/kommunal-oekonomi-a-z#pris-og-loenskoen-til-brug-for-budgetlaegningen-f5
