Workbook

Sheet Forside
B1: Samlet oversigt over arealinteresser og datasæt
B2: Vers 3.2
B4: Indholdsfortegnelsen herunder giver dig adgang til en oversigt over datasæt, som vil være gode at bruge til analyse af de enkelte arealinteresser.
B5: I bruttolisten på næste fane findes alle arealinteresserne og de tilhørende datasæt. Der er også en kolonne Satellitdata som har europæisk data der også kan være relevant til analyser
B6: Alle datasæt er listet i venstre kolonne af bruttolisten (kolonne B), og der er angivet forslag til forskellige analytiske tilgange til analyse af den pågældende arealinteresse i ovenover datasættene (i kolonne D-F).
B8: Oversigten er skabt gennem dialog med kommuner og andre interessenter i projektet www.kl.dk/ASK
B9: Der vil hele tiden komme nye data - og nye analysetilgange til - så hold øje med versionsnummeret
C12: Landbrug | G12: Biodiversitet | K12: Byudvikling | O12: Infrastruktur
C13: Antal lag: | D13: =COUNTA('Arealinteresser og datasæt'!B6:B20) -> 15 | G13: Antal lag | H13: =COUNTA('Arealinteresser og datasæt'!B95:B124) -> 30 | K13: Antal lag | L13: =COUNTA('Arealinteresser og datasæt'!B175:B177) -> 3 | O13: Antal lag | P13: =COUNTA('Arealinteresser og datasæt'!B212:B219) -> 8
C14: Foreslåede analysetilgange: | E14: =COUNTA('Arealinteresser og datasæt'!C5:F5) -> 4 | G14: Foreslåede analysetilgange: | I14: =COUNTA('Arealinteresser og datasæt'!C94:F94) -> 4 | K14: Foreslåede analysetilgange: | M14: =COUNTA('Arealinteresser og datasæt'!C174:F174) -> 2 | O14: Foreslåede analysetilgange: | Q14: =COUNTA('Arealinteresser og datasæt'!C211:F211) -> 3
C16: Skov | G16: Grundvand | K16: Søer og åer | O16: Råstoffer
C17: Antal lag: | D17: =COUNTA('Arealinteresser og datasæt'!B30:B43) -> 14 | G17: Antal lag: | H17: =COUNTA('Arealinteresser og datasæt'!B127:B137) -> 11 | K17: Antal lag | L17: =COUNTA('Arealinteresser og datasæt'!B181:B191) -> 11 | O17: Antal lag | P17: =COUNTA('Arealinteresser og datasæt'!B223:B223) -> 1
C18: Foreslåede analysetilgange: | E18: =COUNTA('Arealinteresser og datasæt'!C29:F29) -> 4 | G18: Foreslåede analysetilgange: | I18: =COUNTA('Arealinteresser og datasæt'!C126:F126) -> 4 | K18: Foreslåede analysetilgange: | M18: =COUNTA('Arealinteresser og datasæt'!C180:F180) -> 3 | O18: Foreslåede analysetilgange: | Q18: =COUNTA('Arealinteresser og datasæt'!C222:F222) -> 1
C20: Lavbund | G20: Rekreativ + turisme | K20: Klimatilpasning | O20: Kystvande
C21: Antal lag | D21: =COUNTA('Arealinteresser og datasæt'!B48:B64) -> 17 | G21: Antal lag: | H21: =COUNTA('Arealinteresser og datasæt'!B142:B160) -> 18 | K21: Antal lag: | L21: =COUNTA('Arealinteresser og datasæt'!B195:B202) -> 8 | O21: Antal lag: | P21: =COUNTA('Arealinteresser og datasæt'!B227:B242) -> 14
C22: Foreslåede analysetilgange: | E22: =COUNTA('Arealinteresser og datasæt'!C47:F47) -> 3 | G22: Foreslåede analysetilgange: | I22: =COUNTA('Arealinteresser og datasæt'!C141:F141) -> 4 | K22: Foreslåede analysetilgange: | M22: =COUNTA('Arealinteresser og datasæt'!C194:F194) -> 4 | O22: Foreslåede analysetilgange: | Q22: =COUNTA('Arealinteresser og datasæt'!C226:F226) -> 2
C24: Vådområder | G24: Kulturmiljø | K24: VE-anlæg | O24: Satellitdata
C25: Antal lag | D25: =COUNTA('Arealinteresser og datasæt'!B68:B93) -> 24 | G25: Antal lag | H25: =COUNTA('Arealinteresser og datasæt'!B163:B171) -> 9 | K25: Antal lag: | L25: =COUNTA('Arealinteresser og datasæt'!B212:B219) -> 8 | O25: Antal lag: | P25: 5
C26: Foreslåede analysetilgange: | E26: =COUNTA('Arealinteresser og datasæt'!C67:F67) -> 4 | G26: Foreslåede analysetilgange: | I26: =COUNTA('Arealinteresser og datasæt'!C162:F162) -> 2 | K26: Foreslåede analysetilgange: | M26: =COUNTA('Arealinteresser og datasæt'!C205:D205) -> 2
B29: Hvis du er interesseret i at læse mere om, hvordan de forskellige arealinteresser enten har god synergi eller udelukker hinanden, kan du kigge i rapporten Danmarks Arealer (Concito, 2023) - hvor nedenstående figur framgår af side 19
B30: Danmarks_arealer_web.pdf
B43: Figur 7. En lang række aktiviteter kan i større eller mindre grad ske på samme areal, andre kan ikke. Jo mørkere en farve, desto bedre er muligheden for at kombinere to aktiviteter. Kilde: CONCITO

Sheet Arealinteresser og datasæt
B1: Arealinteresser og datasæt
B2: Vers 3.2
B3: Sammenfatning af arealinteresseskemaer udfyldt på baggrund af ASK workshops, webinar og cases
B5: Landbrug | C5: Al landbrugsjord indgår i analysen | D5: Vægt på særlig værdifuld landbrugsjord | E5: De fremtidige robuste arealer | F5: Fokus på den "dårlige" landbrugsjord | G5: Kilde | H5: Link | I5: Anvendelse | J5: Bemærkning | K5: Dato for seneste gennemgang af datasæt | L5: Datadeklaration
B6: Markblokke | C6: x | D6: x | E6: x | F6: x | G6: DMP | H6: urn:dmp:ds:markblokke-2026 | I6: Bruges til at udvælge arealer der er landbrugsjord. Arealer i omdrift kan udvælges | J6: Der kan trækkes data om hvorvidt marken er i omdrift (via kode for mb-type OMD) Det giver mening at bruge 'mark' eller 'markblokke' - laget som grundsten i en gis analyse for at udtage omdriftjord | K6: 46190
B7: Marker | C7: x | D7: x | F7: x | G7: DMP | H7: urn:dmp:ds:marker-2026 | I7: Kan udvælge højværdiafgrøder ud fra markers afgrødekode (der ligger flere data bag login ((LBST selvbetjening)) | J7: Der kan trækkes data om hvor vidt marken er i omdrift (via afgrødekoden) Det giver mening at bruge 'mark' eller 'markblokke' - laget som grundsten i en gis analyse for at udtage omdriftjord | K7: 46190
B8: Jordartskortet | D8: x | G8: DMP | H8: urn:dmp:ds:jordartskort-1-200-000 | I8: Kortet viser en landsdækkende klassificering og udbredelse af jordarter, kan bruges til eks. at kortlægge "god" og "dårlig" landbrugsjord | J8: Kortet kan ikke anbefales brugt i sagsbehandling eller til andre formål hvor større præcision er påkrævet. | K8: 46022
B9: Særlig værdifuld landbrugsjord | D9: x | G9: DMP | H9: urn:dmp:ds:saerligt-vaerdifuldt-landbrugsomraade-vedtaget | J9: Analyse kan også købes via landbrugsrådgivere. | K9: 46022
B10: AU tørvekort | D10: x | G10: Anden | H10: https://agro-open-geodata-gis-au.hub.arcgis.com/datasets/c75bed2ec2c241a0998d34f8e6ac1c7b/about | I10: udstillet som WFS eller lign. nogen steder, men det kan downloades i tif-format (i flere forskellige udgaver alt efter jorddybde: 30, 60, 100 og 200 cm) | J10: Kortet kaldes nogle steder for ’JB-kortet’ og andre steder ’JB2024’. Læs mere her: Revidering_jordbundstypekort_1705_2024.pdf | K10: 46022
B11: Dyrkningsvaerdier_ Kvadratnet100m | D11: x | G11: Anden | H11: https://erda.ku.dk/archives/2fa7d076ef686b4e74a3474d865478a8/published-archive.html | I11: Institut for Fødevare- og Ressourceøkonomi har som led i sin aftale med Ministeriet om Fødevarer, Landbrug og Fiskeri om forskningsbaseret myndighedsbetjening kortlagt dyrkningsværdierne for den danske landbrugsjord for Landbrugsstyrelsen. Datasættet, som deles her, består af selve kortlægningen samt de baggrundsdata fra Landbrugsstyrelsen, som ligger til grund for kortlægningen. | J11: Læs mere: https://curis.ku.dk/ws/portalfiles/portal/328902547/IFRO_Udredning_2022_27.pdf | K11: 46022
B12: RUCs Helhedsløsning for arealplanlægning | D12: x | F12: x | G12: Anden | H12: https://experience.arcgis.com/experience/b8f3547fec04454bbe345773fb501588/ | I12: Tager udgangspunkt i jordbundsforhold, så det kan bruges til at sige noget om "ideelle anvendelser" | J12: Ikke landsdækkende. Der kan ikke hentes WFS forbindelse til denne data | K12: 46022
B13: Ejerforhold | D13: x | G13: Anden | H13: https://gst.dk/ansvarsomraader/matrikel-og-ejendomsregistrering/ejerfortegnelsen | I13: Ejerforhold kan være relevante for at vurde mulighed/villighed til omlægning | J13: Evt. OIS eller LOIS (eller lignende) | K13: 46022
B14: Husdyrdata | D14: x | G14: Anden | H14: CHR - Det Centrale Husdyrbrugsregister. https://chr.fvst.dk/chri/faces/frontpage;jsessionid=M0RnG2Ddvt9-VQCf24cWeeTZzLZPa2o3-jNzSA2UU6arbC647ecb!1892393457 file:///C:/Users/lihv/Downloads/Vejledning_til_at_benytte_FVM_Web_Services.pdf | K14: 46022
B15: Genopdyrkningsret | D15: x | G15: GeoFA | H15: Hent GeoFA-data i GIS: https://confluence.sdfi.dk/pages/viewpage.action?pageId=175014435 | I15: Ligger lokalt hos kommunerne | J15: Er muligt at registrere i GeoFA fra 2025 | K15: 46113
B16: Målrettet kvælstofregulering | F16: x | G16: DMP | H16: urn:dmp:ds:indsatsbehov-i-maalrettet-kvaelstofregulering-2026 | I16: Kortet viser det vejledende behov for efterafgrøder i pct. af efterafgrødegrundlaget i et kystvandopland i 2026. | K16: 46190
B17: Retentionskort | F17: x | G17: DMP | H17: urn:dmp:ds:kvaelstofretention-version-2025 | I17: Retentionskortet viser graden af kvælstof som tilbageholdes/omdannes i jorden (og dermed ikke udvaskes) | K17: 46022
B18: Markudledningskort 2025 | D18: x | E18: x | F18: x | G18: DMP | H18: urn:dmp:ds:markudledningskort-2025 | I18: Markudledningskortet viser, hvordan kvælstofudledningen til kyst fra dyrkede marker varierer som følge af naturgivne forskelle, dvs. som følge af jordtype, netto-nedbør og kvælstofretention. | J18: Læs evt. mere om markudledningskortet her: https://www.landbrugsinfo.dk/public/3/e/0/natur_vandmiljo_markudledningskort_kvalstofudledning | K18: 46022
B19: Terrænhældning over 6 gr. | D19: x | E19: x | F19: x | G19: DMP | H19: urn:dmp:ds:terraenhaeldning-over-6-gr | I19: Terrænhældning kan bruges til at udpege landbrugsjord der er vanskelig at dyrke | K19: 46022
B20: Arealanvendelse, landbrug, 2025 | C20: x | G20: DMP | H20: urn:dmp:ds:arealanvendelse-landbrug-2025 | I20: Kortet indeholder en klassificering af landbrugsarealer. Der er fire kategorier; omdrift, permanent græs, permanente afgrøder og tidligere landbrugsarealer | K20: 46126
B21: Jordbundskortet | D21: x | G21: DMP | H21: urn:dmp:ds:jordbundskort-2024 | I21: Kortet viser fordelingen af jordtyper. Jordtyperne er angivet som JB-numre (JB1-JB12). | K21: 46190
B22: Udpegningskort - Permanent Ekstensivering 2026 | F22: x | G22: DMP | H22: urn:dmp:ds:udpegningskort-permanent-ekstensivering-2026 | I22: Permanent ekstensivering er målrettet områder med enten kulstofrige landbrugsarealer eller stort kvælstofindsatsbehov med- eller uden vådområdepotentiale.Formålet med dette korttema er at udstille de områder, der er kulstofrige og/eller har et stort kvælstofindsatsbehov. | K22: 46190
B23: Foreløbige Udledningsgrænser til Udledningsbaseret Markregulering | F23: x | G23: DMP | H23: urn:dmp:ds:foreloebige-udledningsgraenser-til-udledningsbaseret-markregulering | I23: Udledningsgrænserne danner grundlag for beregningen af bedriftens udledningskvote. De foreløbige udledningsgrænser er et tidligt estimat på, hvor meget kvælstof, der må udledes pr. hektar markareal til kystvandene i 2027. De endelige udledningsgrænser forventes udmeldt i september 2026. | J23: Læs mere om udledningsgrænserne til Udledningsbaseret Markregulering her: https://sgav.dk/groen-trepart/kvaelstofregulering-og-arealomlaegning/kvaelstofregulering/udledningsgraenser-for-kvaelstof | K23: 46273
B24: Økologiske arealer 2012-2025 | D24: x | G24: DMP | H24: urn:dmp:dsgroup:oekologiske-arealer-2012-2024 | I24: Kortlagene viser placeringen af økologiske marker, der er fuldt omlagte, under omlægning eller planlagt at skulle omlægges til økologisk jordbrugsproduktion ved udgangen af hvert år, i perioden 2012-2014. | K24: 46190
B25: MARS - Vinterafgrøder til hensigtserklæring | F25: x | G25: DMP | H25: urn:dmp:ds:mars-vinterafgroeder-til-hensigtserklaering | I25: Med en hensigtserklæring er det muligt for lodsejer at angive om de har til hensigt at indgå i et udtagningsprojekt. | K25: 46190
B26: MARS Projekter samlet | F26: x | G26: DMP | H26: urn:dmp:ds:mars-projekter-samlet | I26: Laget indeholder alle projekter der er ansøgt i MARS (Multi Areal Registrerings System) og som har fået tilsagn. Effektberegningen af projekterne i laget opgøres i MARS' statusmodul. | K26: 46190
B27: MARS - Skitseprojekter | F27: x | G27: DMP | H27: urn:dmp:ds:mars-skitseprojekter | I27: Temaet viser de skitseprojekter der er indtegnet i MARS (Multifunktionel Arealregistrering) af de lokale treparter, som en del af omlægningsplanerne i Den Grønne Trepart. | K27: 46190
B29: Skov | C29: Nærhed til eksisterende skov | D29: Bynær skov | E29: Ønsket skov | F29: Produktionsskov | G29: Kilde | H29: Link | I29: Anvendelse | J29: Bemærkning | K29: Dato for seneste gennemgang af datasæt | L29: Datadeklaration
B30: GeoDanmark skovtema | C30: x | F30: x | G30: DMP | H30: urn:dmp:ds:skove-geodanmark | I30: Skovtemaet viser afggrænsning af skove (af forskellig art) | J30: Der kan forkomme forskel i de kortlagte skove mellem hhv. De digetale skovkort og GeoDanmark skove | K30: 46119
B31: Digitalt Skovkort 2022 | C31: x | F31: x | G31: DMP | H31: urn:dmp:ds:digitalt-skovkort-2022 | I31: Digitalt Skovkort – Arealkort er en oversigt over alle danske skove der kan observeres fra rummet | J31: Der kan forkomme forskel i de kortlagte skove mellem hhv. De digetale skovkort og GeoDanmark skove | K31: 46022
B32: Naturstyrelsens arealer | C32: x | G32: DMP | H32: urn:dmp:ds:naturstyrelsens-arealoversigt | I32: Naturstryelsens arealanvendelse på egne arealer- for at katagoriseres i avendelse pr. litra brug: 'saba_litra_evw', hvis laget hentes som WFS fra MiljøGIS | J32: Kan også hentes som WFS på MiljøGIS (rul helt ned i bunden af siden) | K32: 46022
B33: Urørt skov - tilsagn | C33: x | G33: DMP | H33: urn:dmp:dsgroup:uroert-skov-samlet | I33: Samlet urørt skov tilsang for 2017-2022 | J33: Lag skal hentes igennem WFS enkelvis | K33: 46022
B34: Fredskov | C34: x | G34: DMP | H34: urn:dmp:ds:fredskov-sdfe | K34: 46022
B35: Privat skovrejsning | E35: x | G35: DMP | H35: urn:dmp:ds:privat-skovrejsning-ansoegt-samlet | K35: 46022
B36: Gammel skovjordbund | C36: x | G36: DMP | H36: urn:dmp:ds:gammel-skovjordbund | K36: 46022
B37: HNV skov | C37: x | G37: DMP | H37: urn:dmp:ds:hnv-skov | K37: 46022
B38: HNV skovarter | C38: x | G38: DMP | H38: urn:dmp:ds:hnv-skov-arter | K38: 46022
B39: HNV skov proxy | C39: x | G39: DMP | H39: urn:dmp:ds:hnv-skov-proxy | K39: 46022
B40: Skovnaturtyper | C40: x | G40: DMP | H40: urn:dmp:ds:skovnaturtyper-2016-2019 | K40: 46022
B41: Zonekort | D41: x | F41: x | G41: DMP | H41: urn:dmp:ds:planlaegning-zonekort | K41: 46022
B42: KP skovrejsning | E42: x | G42: DMP | H42: urn:dmp:ds:skovrejsningsomraader-vedtaget | J42: Kvaliteten (især ajourføringsfrekvensen) af data fra kommuneplanen vil variere fra kommune til kommune | K42: 46022
B43: Udtagningsprojekter samlet | C43: x | G43: DMP | H43: urn:dmp:dsgroup:udtagningsprojekter-samlet | J43: datasamling består af udtagningsprojekter fra forskellige tilskudsordninger søgt fra 2009 og frem. Den inkluderer projekter fra de kollektive virkemidler (minivådområder, kvælstofvådområder, lavbundsprojekter og privat skovrejsning) | K43: 46022
B44: MARS - National skovrejsning | E44: x | G44: DMP | H44: urn:dmp:ds:mars-national-skovrejsning | I44: Laget viser alle skovrejsningsprojekter, der er ansøgt under den nationale skovrejsningsordning. | K44: 46190
B47: Lavbund | C47: Lavbund på de kulstofrige jorde | D47: Udvid eksisterende lavbundsområder | E47: Supplerende analyser til placering af lavbund | G47: Kilde | H47: Link | I47: Anvendelse | J47: Bemærkning | K47: Dato for seneste gennemgang af datasæt | L47: Datadeklaration
B48: Kulstof2022 | C48: x | G48: DMP | H48: urn:dmp:ds:kulstof-2022-lavbundskort | I48: Kulstof22 viser områder hvor der er mindst 6% kulstof i jordbunden | J48: Langt de fleste bruger kulstof2022-kortet til grundanalyse | K48: 46022
B49: Kulstof3-6% | C49: x | G49: DMP | H49: urn:dmp:ds:kulstof-2022-3-6-toerv | K49: 46022
B50: Tekstur2014 | C50: x | G50: DMP | H50: urn:dmp:ds:tekstur-2014 | J50: Måske modsvarer dette 3-6 % kortet i kulstof2022-kortet | K50: 46022
B51: Udtagningssted for supplerende kulstofprøver | D51: x | G51: DMP | H51: urn:dmp:ds:udtagningssted-for-supplerende-kulstofproever | J51: Måske modsvarer dette 3-6 % kortet i kulstof2022-kortet | K51: 46022
B52: KP Lavbundsarealer, vedtaget | D52: x | G52: DMP | H52: urn:dmp:ds:lavbundsarealer-vedtaget | J52: Kvaliteten (især ajourføringsfrekvensen) af data fra kommuneplanen vil variere fra kommune til kommune | K52: 46022
B53: Potentialekort for lavbundsprojekter (LBST) | D53: x | G53: DMP | H53: urn:dmp:ds:lavbund-potentialekort | K53: 46022
B54: Etableret lavbundsprojekt | D54: x | G54: DMP | H54: urn:dmp:ds:lavbundsprojekter-etableret | K54: 46022
B55: Forundersøgt lavbundsprojekt | D55: x | G55: DMP | H55: urn:dmp:ds:lavbundsprojekter-forundersoegelser | K55: 46022
B56: Tænketanken Hav, udpegnings af arealer til kvælstofreduktion | E56: x | G56: Anden | H56: https://cdn.sanity.io/files/bo7el0jo/production/a1b220f1a8cf1b95f22e46cfaa4752fe65fa0f29.pdf https://cdn.sanity.io/files/bo7el0jo/production/1ab3edce6f455963e3aa95488b9c5a4470e2ddf7.pdf | I56: Findes kun som .pdf - men georeferer evt. kortene ind i GIS | K56: 46022
B57: RUCs Helhedsløsning for arealplanlægning | E57: x | H57: https://experience.arcgis.com/experience/b8f3547fec04454bbe345773fb501588/ | I57: Tager udgangspunkt i jordbundsforhold, så det kan bruges til at sige noget om "ideelle anvendelser" | J57: Ikke landsdækkende. Der kan ikke hentes WFS forbindelse til denne data | K57: 46022
B58: Drænkort | E58: x | G58: GeoFA | H58: Hent GeoFA-data i GIS: https://confluence.sdfi.dk/pages/viewpage.action?pageId=175014435 | J58: Mange kommuner har købt egne drænkort. GeoFA har mulighed for at registrere drænkort | K58: 46113
B59: Bluespot | E59: x | G59: DMP | H59: urn:dmp:dsgroup:bluespot-lavninger | K59: 46022
B60: Vandløb | E60: x | G60: DMP | H60: urn:dmp:ds:beskyttede-vandloeb | J60: Det anbefales af medtage alle vandløb i analyse, og ikke kun de beskyttede | K60: 46022
B61: Terrænforhold | E61: x | G61: DMP | H61: urn:dmp:ds:danmarks-hoejdemodel-terraen-skyggekort | J61: Hillshade mm. + 25 cm højdekurvekort | K61: 46022
B62: Historiske kort | E62: x | G62: Anden | H62: https://mst.dk/erhverv/tilskud-miljoeviden-og-data/data-og-databaser/miljoegis-data-om-natur-og-miljoe-paa-webkort | J62: Videnskabernes Selskabs Kort fra 1768-1805 | K62: 46022
B63: Museums GIS (georefererede O1-kort) og de høje og lave målebordsblade | E63: x | G63: Anden | H63: https://www.museumsgis.dk/kort/ | J63: Ser ikke ud til at være tilgængelige som wfs/download. Lav evt. et .pdf udsnit og georeferer ind i eget GIS | K63: 46022
B64: Udtagningsprojekter samlet | D64: x | G64: DMP | H64: urn:dmp:dsgroup:udtagningsprojekter-samlet | J64: datasamling består af udtagningsprojekter fra forskellige tilskudsordninger søgt fra 2009 og frem. Den inkluderer projekter fra de kollektive virkemidler (minivådområder, kvælstofvådområder, lavbundsprojekter og privat skovrejsning) | K64: 46022
B67: Vådområder | C67: Eksisterende vådområder | D67: Vådområder hvor der er meget kvælstof | E67: Vådområder hvor der er vand | F67: Supplerende analyser til potentielle vådområder | G67: Kilde | H67: Link | I67: Anvendelse | J67: Bemærkning | K67: Dato for seneste gennemgang af datasæt | L67: Datadeklaration
B68: Eksisterende vådområder(lokal data) | C68: x | G68: Anden | H68: Lokale data og viden om vådområder | I68: Lokale data og viden om vådområder | K68: 46022
B69: Fosforvådområder etableret | C69: x | G69: DMP | H69: urn:dmp:ds:fosforvaadomraader-etableret | K69: 46022
B70: Kvælstofvådområder etableret | C70: x | G70: DMP | H70: urn:dmp:ds:kvaelstofvaadomraader-etableret | K70: 46022
B71: Minivådområdekort 2025, før høring og frigivelse af arealer | F71: x | G71: DMP | H71: urn:dmp:ds:minivaadomraadekort-2025-foer-hoering-og-frigivelse-af-arealer | I71: Udpegningskortet er lavet for at kortlægge, hvor der umiddelbart er størst potentiale for at etablere henholdsvis vådområder og mini- vådområder. Læs mere på https://lbst.dk/Media/638741907254705427/Faktaark%20miniv%C3%A5domr%C3%A5der%202025.pdf | K71: 46022
B72: Minivådområder ansøgt 2018-2024 | C72: x | G72: DMP | H72: urn:dmp:ds:minivaadomraader-ansoegt-2018 urn:dmp:ds:minivaadomraader-ansoegt-2024 | I72: Laget indeholder alle gældende tilsagn for et givent år til minivådområder indtegnet af ansøgere. | K72: 46022
B73: Kvælstofvådområder forundersøgelser | C73: x | G73: DMP | H73: urn:dmp:ds:kvaelstofvaadomraader-forundersoegelser | I73: Kortet er et samlelag for alle etableringer for kvælstofvådområder og indeholder tilsagn meddelt til etablering af kvælstofvådområder. | K73: 46022
B74: Retentionskortet 2025 | D74: x | G74: DMP | H74: urn:dmp:ds:kvaelstofretention-version-2025 | K74: 46022
B75: N-vådområdepotentiale | D75: x | G75: DMP | H75: urn:dmp:ds:n-vaadomraadepotentiale | I75: Nye data forventes 2025 | K75: 46022
B76: Sø (del)vandoplande | E76: x | H76: urn:dmp:ds:soeoplande-med-skaerpede-fosforlofter | K76: 46022
B77: Natura 2000 hydrologi etableret | E77: x | G77: DMP | H77: urn:dmp:ds:natura-2000-hydrologi-etableret | K77: 46022
B78: Natura 2000 hydrologi forundersøgelser | E78: x | G78: DMP | H78: urn:dmp:ds:natura-2000-hydrologi-forundersoegelser | K78: 46022
B79: Natura 2000 arealer til hydrologi | E79: x | G79: DMP | H79: urn:dmp:ds:natura-2000-arealer-til-hydrologi | K79: 46022
B80: Drænkort | F80: x | G80: GeoFA | H80: Hent GeoFA-data i GIS: https://confluence.sdfi.dk/pages/viewpage.action?pageId=175014435 | J80: Mange kommuner har købt egne drænkort. GeoFA har mulighed for at registrere drænkort | K80: 46113
B81: Bluespot | F81: x | G81: DMP | H81: urn:dmp:dsgroup:bluespot-lavninger | K81: 46022
B82: Vandløb | F82: x | G82: DMP | H82: urn:dmp:ds:beskyttede-vandloeb | J82: Det anbefales af medtage alle vandløb i analyse, og ikke kun de beskyttede | K82: 46022
B83: Terrænforhold | F83: x | G83: DMP | H83: urn:dmp:ds:danmarks-hoejdemodel-terraen-skyggekort | J83: Hillshade mm. + 25 cm højdekurvekort | K83: 46022
B84: Historiske kort | F84: x | G84: Anden | H84: https://mst.dk/erhverv/tilskud-miljoeviden-og-data/data-og-databaser/miljoegis-data-om-natur-og-miljoe-paa-webkort | J84: Videnskabernes Selskabs Kort fra 1768-1805 | K84: 46022
B85: Museums GIS (georefererede O1-kort) og de høje og lave målebordsblade | F85: x | G85: Anden | H85: https://www.museumsgis.dk/kort/ | J85: Ser ikke ud til at være tilgængelige som wfs/download. Lav evt. et .pdf udsnit og georeferer ind i eget GIS | K85: 46022
B86: Udtagningsprojekter samlet | F86: x | G86: DMP | H86: urn:dmp:dsgroup:udtagningsprojekter-samlet | J86: datasamling består af udtagningsprojekter fra forskellige tilskudsordninger søgt fra 2009 og frem. Den inkluderer projekter fra de kollektive virkemidler (minivådområder, kvælstofvådområder, lavbundsprojekter og privat skovrejsning) | K86: 46022
B87: Vådområde potentiale | F87: x | G87: DMP | H87: urn:dmp:ds:vaadomraadepotentiale-2026 | I87: Kortet viser områder der har potentiale for at blive vådområder. | K87: 46190
B88: Vand natur og skov projekter 2026 | F88: x | G88: DMP | H88: urn:dmp:ds:vand-natur-og-skovprojekter-2026 | I88: Laget indeholder alle relevante vådområde- eller naturprojekter, der medvirker til Danmarks gennemførsel af vandramme-, habitat- eller fuglebeskyttelsesdirektivet. | K88: 46190
B89: MARS - Hensigtserklæringer | F89: x | G89: DMP | H89: urn:dmp:ds:mars-hensigtserklaeringer | I89: Temaet viser de hensigtserklæringer der er indsendt i MARS (Multifunktionel Arealregistrering). En hensigtserklæring er en tilkendegivelse af, at ejeren af et areal har til hensigt at lade arealet indgå i et fremtidigt vådlægningsprojekt. | K89: 46190
B90: MARS - GLM10 til hensigtserklæring | F90: x | G90: DMP | H90: urn:dmp:ds:mars-glm10-til-hensigtserklaering | I90: Med en hensigtserklæring er det muligt for lodsejer at angive om de har til hensigt at indgå i et udtagningsprojekt. | K90: 46190
B91: MARS - Midlertidig ekstensivering til hensigtserklæring | F91: x | G91: DMP | H91: urn:dmp:ds:mars-midlertidig-ekstensivering-til-hensigtserklaering | I91: Med en hensigtserklæring er det muligt for lodsejer at angive om de har til hensigt at indgå i et udtagningsprojekt. | K91: 46190
B94: Biodiversitet | C94: Beskyt eksisterende naturværdier | D94: Øge diodiversitet hvor der er potentiale | E94: Sammenhængende natur | F94: Særlig artsbeskyttelse | G94: Kilde | H94: Link | I94: Anvendelse | J94: Bemærkning | K94: Dato for seneste gennemgang af datasæt | L94: Datadeklaration
B95: §3 natur | C95: x | G95: DMP | H95: urn:dmp:ds:beskyttede-naturtyper | K95: 46022
B96: Vandløb | C96: x | G96: DMP | H96: urn:dmp:ds:beskyttede-vandloeb | K96: 46022
B97: Bilag-IV | C97: x | F97: x | G97: DMP | H97: urn:dmp:ds:fund-af-arter-paa-habitatdirektivets-bilag-iv-fra-arter-dk | K97: 46022
B98: Natura 2000: Habitatområder | C98: x | F98: x | G98: DMP | H98: urn:dmp:ds:natura2000-habitatomraader | K98: 46022
B99: Natura 2000: Ramsarområder | C99: x | F99: x | G99: DMP | H99: urn:dmp:ds:ramsaromraader | K99: 46022
B100: Natura 2000: Fuglebeskyttelse | C100: x | F100: x | G100: DMP | H100: urn:dmp:ds:natura2000-fuglebeskyttelse | K100: 46022
B101: Artsfund | F101: x | G101: DMP | H101: urn:dmp:ds:alle-fund-fra-arter-dk | K101: 46022
B102: DOF fuglebase | F102: x | G102: Anden | H102: DOFbasen - af Dansk Ornitologisk Forening | K102: 46022
B103: HNV 1-4 og 5-13 | D103: x | G103: DMP | H103: urn:dmp:ds:hnv-2025-vaerdi-1-4, urn:dmp:ds:hnv-2025-vaerdi-5-13 | K103: 46022
B104: Biodiversitetsprioriteringskort (til lavbundsområder), DCE | D104: x | G104: DMP | H104: urn:dmp:ds:biodiversitetsprioriteringskort | I104: Temaet viser prioritering af biodiversitet ved udtagning af og genopretning af kulstofrige lavbundsjorde. Der vises 12 klasser, hvor 1 repræsenterer den højeste forventede biodiversitetseffekt og 12 repræsenterer den laveste forventede biodiversitetseffekt. | K104: 46022
B105: 30% beskyttet natur (AU) | D105: x | E105: x | G105: DMP | H105: urn:dmp:ds:forslag-til-30-beskyttede-naturomraader | K105: 46022
B106: Store naturområder (KU) | D106: x | E106: x | G106: DMP | H106: urn:dmp:ds:store-naturomraader-prioritering-1 | K106: 46022
B107: KP Grønt Danmarkskort | D107: x | E107: x | G107: DMP | H107: urn:dmp:dsgroup:groent-danmarkskort | J107: Kvaliteten (især ajourføringsfrekvensen) af data fra kommuneplanen vil variere fra kommune til kommune | K107: 46022
B108: Biodiversitetskortet | D108: x | G108: DMP | H108: https://miljoegis.mim.dk/spatialmap?profile=miljoegis-plangroendk | J108: Dette er en samling af flere lag - udvælg de relvante | K108: 46022
...

Sheet Satellitdata
B2: Satellitdata | C2: Overlap med 'Arealinteresser og datasæt' | D2: Rumlig opløsning | E2: Forarbejdet data | F2: Tidslig udstrækning (Opdateringsfrekvens) | G2: Kilde | H2: Link | I2: Anvendelse | J2: Dansk oversættelse af 'Anvendelse' | K2: Bemærkning (Intern) | L2: Dato for seneste gennemgang af datasæt | M2: Datadeklaration
B3: Normalized Difference Vegetation Index | C3: Landbrug Skov | D3: 10m | E3: x | F3: 2015-nu (hver 2-3 dag) ELLER (mosaik pr. kvartal) ELLER (årlig mosaik) | G3: Copernicus | H3: https://browser.dataspace.copernicus.eu/ Vælg dato > NDVI | I3: The normalized difference vegetation index is a simple, but effective index for quantifying green vegetation. It is a measure of the state of vegetation health based on how plants reflect light at certain wavelengths. The value range of the NDVI is -1 to 1. - Negative values of NDVI (values approaching -1) correspond to water. - Values close to zero (-0.1to 0.1) generally correspond to barren areas of rock, sand, or snow. - Low, positive values represent shrub and grassland (approximately 0.2 to 0.4) - High values indicate temperate and tropical rainforests (values approaching 1). | J3: Det normaliserede difference vegetation indeks (NDVI) er et simpelt, men effektivt indeks til at kvantificere grøn vegetation. Det er et mål for vegetations sundhedstilstand baseret på, hvordan planter reflekterer lys ved bestemte bølgelængder. NDVI‑værdierne spænder fra -1 til 1. - Negative NDVI‑værdier (værdier tæt på -1) svarer til vand. - Værdier tæt på nul (-0,1 til 0,1) svarer generelt til golde områder med klippe, sand eller sne. - Lave, positive værdier repræsenterer busk- og græsarealer (ca. 0,2 til 0,4). - Høje værdier indikerer tempererede og tropiske regnskove (værdier tæt på 1) | K3: Monitoriering af planters sundhed og kvantificering af grøn vegetation - er der hotspots man gerne vil kigge på? | L3: 46141
B4: Normalized Difference Water Index | C4: Søer og åer | D4: 10m | E4: x | F4: 2015-nu (hver 2-3 dag) ELLER (mosaik pr. kvartal) ELLER (årlig mosaik) | G4: Copernicus | H4: https://browser.dataspace.copernicus.eu/ Vælg dato > NDWI | I4: The normalized difference water index is most appropriate for water body mapping. Values of water bodies are larger than 0.5. Vegetation has smaller values. Built-up features have positive values between zero and 0.2. | J4: Det normaliserede difference vand indeks (NDWI) er mest velegnet til kortlægning af vandområder. Værdier for vandområder er større end 0,5. Vegetation har lavere værdier. Bebyggede områder har positive værdier mellem 0 og 0,2. | L4: 46141
B5: Normalized Difference Moisture Index | C5: Landbrug Lavbund Vådområder | D5: 20m | E5: x | F5: 2015-nu (hver 2-3 dag) | G5: Copernicus | H5: https://browser.dataspace.copernicus.eu/ Vælg dato > Moisture Index | I5: The normalized difference moisture Index (NDMI) is used to determine vegetation water content and monitor droughts. The value range of the NDMI is -1 to 1. - Negative values of NDMI (values approaching -1) correspond to barren soil. - Values around zero (-0.2 to 0.4) generally correspond to water stress. - High, positive values represent high canopy without water stress (approximately 0.4 to 1). | J5: Det normaliserede difference fugtighed indeks (NDMI) bruges til at bestemme vegetations vandindhold og overvåge tørke. NDMI‑værdierne spænder fra -1 til 1. Negative NDMI‑værdier (værdier tæt på -1) svarer til bar jord. Værdier omkring nul (-0,2 til 0,4) svarer generelt til vandstress. Høje, positive værdier repræsenterer tæt krone­dække uden vandstress (ca. 0,4 til 1). | K5: Dette datasæt kan bruges til at monitorere bar jord og vandstress (klimafokus) - hvor er der særlig vandstress om sommeren i DK? | L5: 46141
B6: Surface Soil Moisture | C6: Landbrug Lavbund Vådområder | D6: 1 km | F6: 2014-nu (Daglig) | G6: Copernicus Land Monitoring Service | H6: https://land.copernicus.eu/en/products/soil-moisture/daily-surface-soil-moisture-v1.0 | I6: Provides information on the relative water content of the top few centimeters soil, describing how wet or dry the soil is in its topmost layer, expressed in percent saturation. | J6: Angiver det relative vandindhold i de øverste centimeter af jorden og beskriver, hvor våd eller tør den øverste jordoverflade er, udtrykt i mætning i procent | K6: Anbefalingen til dette dataset ville være at man skulle producere et gennemsnit baseret på en periode (et år, sæson/måned, etc.) for at undersøge fugtighedsgraden i dette område, f.eks. Til udpegning af vådområder | L6: 46141
B7: Main Crop Harvest | C7: Landbrug | D7: 10m | E7: X | F7: 2017-2023 (Årlig) | G7: Copernicus Land Monitoring Service | H7: https://land.copernicus.eu/en/map-viewer Full-coverage Land Cover & Use > High Resolution Layer Croplands > Cropping Patterns > Main Crop Harvest | I7: Provides the harvest date of the main (annual) crop expressed in days of the year (DOY). The harvest is considered as the time of removal of most of the biomass. YYDOY where YY = last 2 digits of the year (e.g. 19 for 2019) and DOY is the day of the year (1-365) | J7: Angiver høstdatoen for den primære (årlige) afgrøde udtrykt i årets dag (DOY). Høsten betragtes som tidspunktet, hvor størstedelen af biomassen fjernes. YYDOY, hvor YY = de sidste to cifre af året (f.eks. 19 for 2019), og DOY er årets dag (1‑365). | K7: Monitorering af dag på året hvor afgrøderne på den enkelte mark blev høstet. | L7: 46141
